{"text_format":"1","workbook":"xlsx","n_sheets":10,"sheets":["NOMBRE","REMASEP 01","URGENCIAS","REMASEP B1","B2 ANEXO","REMASEP_OD","EyP_ETS","TV_MI","CONTROL","MACROS"],"not_rendered":{"charts":0,"images":3,"macros":1,"external_links":0,"defined_names":4,"comments":0,"pivot_tables":0},"unopened":[],"bounds":{"document_bytes":16777216,"sheet_cells":100000,"rows_first":2000,"rows_last":500,"rows_between":2000,"halvings":0,"cell_chars":16384,"cell_head_chars":4096},"cells_cut":0,"cells_raw":0,"read":"whole","date_system":"1900"}

{"sheet":"NOMBRE","index":0,"n_rows":20,"n_cols":20,"rows_kept":20,"cut":false,"hidden":false,"merged":[[0,2,0,7],[0,0,0,1],[7,0,7,1],[12,1,14,1]]}
["DATOS DEL ESTABLECIMIENTO",null,"CÓDIGOS"]
["NOMBRE SEREMI",null,null,null,null,null,null,null,{"$f":"IF(OR(C2=\"\",D2=\"\"),\"Falta Cód. SEREMI.\",\"\")","v":"Falta Cód. SEREMI."},null,null,null,null,null,null,null,null,null,null,{"$f":"+IF(I2>\"\",1,0)","v":1}]
["NOMBRE DE ESTABLECIMIENTO",null,null,null,null,null,null,null,{"$f":"IF(OR(C3=\"\",D3=\"\",E3=\"\",F3=\"\",G3=\"\",H3=\"\"),\"Falta Cód. Establecimiento.\",\"\")","v":"Falta Cód. Establecimiento."},null,null,null,null,null,null,null,null,null,null,{"$f":"+IF(I3>\"\",1,0)","v":1}]
["NOMBRE COMUNA",null,null,null,null,null,null,null,{"$f":"IF(OR(C4=\"\",D4=\"\",E4=\"\",F4=\"\",G4=\"\"),\"Falta Cód. Comuna.\",\"\")","v":"Falta Cód. Comuna."},null,null,null,null,null,null,null,null,null,null,{"$f":"+IF(I4>\"\",1,0)","v":1}]
["MES",null,null,null,null,null,null,null,{"$f":"IF(OR(C5=\"\",D5=\"\"),\"Falta Cód. Mes.\",\"\")","v":"Falta Cód. Mes."},null,null,null,"Enero","15001","Región de Arica-Parinacota",null,null,null,null,{"$f":"+IF(I5>\"\",1,0)","v":1}]
["AÑO",2024,null,null,null,null,null,null,null,null,null,null,"Febrero","01001","Región de Tarapacá",null,null,null,null,{"$f":"+SUM(T2:T5)","v":4}]
[null,null,null,null,null,null,null,null,null,null,null,null,"Marzo","02001","Región de Antofagasta"]
["Versión 1.2, Abril 2024",null,null,null,null,null,null,null,null,null,null,null,"Abril","03001","Región de Atacama"]
[null,null,null,null,null,null,null,null,null,null,null,null,"Mayo","04001","Región de Coquimbo"]
["Director de Establecimiento",null,null,null,null,null,null,null,null,null,null,null,"Junio","05001","Región de Valparaíso"]
["Responsable de Estadísticas",null,null,null,null,null,null,null,null,null,null,null,"Julio","06001","Región del Libertador B. O’Higgins"]
[null,null,null,null,null,null,null,null,null,null,null,null,"Agosto","07001","Región del Maule"]
[null,"SERIE REMASEP",null,null,null,null,null,null,null,null,null,null,"Septiembre","08001","Región del Biobío"]
[null,null,null,null,null,null,null,null,null,null,null,null,"Octubre","09001","Región de La Araucanía"]
[null,null,null,null,null,null,null,null,null,null,null,null,"Noviembre","14001","Región de Los Ríos"]
[null,null,null,null,null,null,null,null,null,null,null,null,"Diciembre","10001","Región de Los Lagos"]
[null,null,null,null,null,null,null,null,null,null,null,null,null,"11001","Región de Aysén del General Carlos Ibáñez del Campo"]
[null,null,null,null,null,null,null,null,null,null,null,null,null,"12001","Región de Magallanes y de la Antártica Chilena"]
[null,null,null,null,null,null,null,null,null,null,null,null,null,"13001","Región Metropolitana de Santiago"]
[null,null,null,null,null,null,null,null,null,null,null,null,null,16101,"Región de Ñuble"]

{"sheet":"REMASEP 01","index":1,"n_rows":303,"n_cols":96,"rows_kept":303,"cut":false,"hidden":false,"merged":[[119,17,120,20],[174,0,174,1],[183,0,183,1],[191,0,191,2],[201,0,201,3],[214,0,215,0],[214,1,214,4],[202,1,203,3],[184,0,185,0],[184,1,185,1],[180,0,180,1],[181,0,181,1],[169,0,170,0],[119,4,121,4],[160,19,161,19],[160,1,161,1],[160,18,161,18],[160,12,160,14],[160,15,160,16],[169,10,169,11],[128,0,128,3],[168,0,168,1],[167,0,167,1],[142,0,143,0],[142,2,142,5],[142,6,143,6],[142,7,143,7],[202,0,204,0],[119,13,120,16],[202,4,202,13],[202,14,204,14],[202,15,204,15],[203,4,203,5],[203,6,203,7],[203,8,203,9],[203,10,203,11],[203,12,203,13],[184,2,184,4],[179,0,179,3],[169,1,170,1],[160,2,160,11],[129,0,130,0],[160,0,161,0],[141,0,141,1],[129,1,129,3],[169,2,169,9],[140,0,140,1],[159,0,159,1],[104,40,106,40],[105,5,105,6],[105,7,105,8],[105,9,105,10],[105,11,105,12],[105,13,105,14],[105,15,105,16],[105,17,105,18],[105,19,105,20],[105,21,105,22],[105,23,105,24],[105,25,105,26],[105,35,105,36],[105,31,105,32],[105,33,105,34],[104,39,106,39],[12,13,13,13],[12,14,13,14],[39,2,40,2],[36,0,36,1],[21,0,23,0],[24,0,26,0],[27,0,29,0],[39,0,40,1],[12,3,12,10],[14,0,17,0],[18,0,20,0],[39,3,39,19],[39,22,39,23],[101,0,101,1],[116,0,116,1],[39,20,39,21],[119,0,121,0],[119,6,120,8],[119,9,120,12],[119,5,121,5],[104,5,104,38],[118,0,118,2],[105,27,105,28],[105,29,105,30],[105,37,105,38],[119,1,121,1],[119,2,121,2],[119,3,121,3],[52,0,52,1],[53,0,53,1],[54,0,54,1],[55,0,55,1],[56,0,56,1],[57,0,57,1],[50,0,50,1],[51,0,51,1],[6,0,9,14],[104,1,106,1],[104,0,106,0],[107,0,107,1],[12,11,12,12],[12,0,13,0],[12,1,13,1],[12,2,13,2],[30,0,33,0],[104,2,105,4],[11,0,11,2],[38,0,38,2],[103,0,103,2],[41,0,41,1],[42,0,42,1],[43,0,43,1],[44,0,44,1],[45,0,45,1],[46,0,46,1],[47,0,47,1],[48,0,48,1],[49,0,49,1],[60,0,60,1],[61,0,61,1],[62,0,62,1],[63,0,63,1],[64,0,64,1],[65,0,65,1],[66,0,66,1],[67,0,67,1],[68,0,68,1],[58,0,58,1],[59,0,59,1],[69,0,69,1],[70,0,70,1],[71,0,71,1],[72,0,72,1],[73,0,73,1],[74,0,74,1],[75,0,75,1],[76,0,76,1],[77,0,77,1],[78,0,78,1],[79,0,79,1],[80,0,80,1],[81,0,81,1],[82,0,82,1],[83,0,83,1],[84,0,84,1],[85,0,85,1],[86,0,86,1],[142,1,143,1],[87,0,87,1],[88,0,88,1],[98,0,98,1],[99,0,99,1],[100,0,100,1],[89,0,89,1],[90,0,90,1],[91,0,91,1],[92,0,92,1],[93,0,93,1],[94,0,94,1],[95,0,95,1],[96,0,96,1],[97,0,97,1]]}
[{"$f":"CONCATENATE(\"SEREMI: \",NOMBRE!B2,\" \",NOMBRE!C2,,NOMBRE!D2,NOMBRE!E2,NOMBRE!F2,NOMBRE!G2,NOMBRE!H2,\"\")","v":"SEREMI:  "}]
[{"$f":"CONCATENATE(\"Establecimiento: \", NOMBRE!B3,\" \", NOMBRE!C3, NOMBRE!D3,NOMBRE!E3,NOMBRE!F3,NOMBRE!G3,NOMBRE!H3,\"\")","v":"Establecimiento:  "}]
[{"$f":"CONCATENATE(\"Comuna: \",NOMBRE!B4,\" \",NOMBRE!C4,NOMBRE!D4,NOMBRE!E4,NOMBRE!F4,NOMBRE!G4)","v":"Comuna:  "}]
[{"$f":"CONCATENATE(\"Mes: \",NOMBRE!B5, \" \",  \"(\",NOMBRE!C5,NOMBRE!D5,\")\")","v":"Mes:  ()"}]
[{"$f":"CONCATENATE(\"Año: \",NOMBRE!B6)","v":"Año: 2024"}]
[]
["REMASEP 01\nRESUMEN ESTADÍSTICO MENSUAL  DE ALGUNAS ACTIVIDADES REALIZADAS EN \nESTABLECIMIENTOS NO PERTENECIENTES AL SISTEMA NACIONAL DE SERVICIOS DE SALUD"]
[]
[]
[]
[]
["SECCIÓN A: CONTROLES DE SALUD Y CONSULTAS DE MORBILIDAD"]
["ACTIVIDADES","PROFESIONAL","TOTAL","POR GRUPO DE EDAD (AÑOS)",null,null,null,null,null,null,null,"POR SEXO",null,"Pueblos Originarios","Migrantes"]
[null,null,null,"Menor de \n10 años","10 - 14 \naños","15-19 \naños","20 - 24 \naños","25-39\naños","40-54 \naños","55-64 \naños","65 y + años","Hombres","Mujeres"]
["Control de Salud","Médico",{"$f":"SUM(D15:K15)","v":0},null,null,null,null,null,null,null,null,null,null,null,null,{"$f":"$CB15 & $CC15 & $CD15","v":""},null,null,null,null,null,null,null,null,null,null,null,null,null,null,null,null,null,null,null,null,null,null,null,null,null,null,null,null,null,null,null,null,null,null,null,null,null,null,null,null,null,null,null,null,null,null,null,null,null,null,null,null,null,null,null,null,null,null,null,null,null,null,null,{"$f":"IF(AND(L15+M15<>$C15),\" *La Sumatoria de las columnas Por Sexo debe ser igual al Total. \",\"\")","v":""},{"$f":"IF(AND($C15<>0,N15=\"\"),\"* No olvide ingresar la columna \"&N$13&\"\"&\" (Digite CERO si no tiene).  \",IF(N15>$C15,\" *La columna \"&N$13&\"\"&\" no puede superar el Total. \",\"\"))","v":""},{"$f":"IF(AND($C15<>0,O15=\"\"),\"* No olvide ingresar la columna \"&O$13&\"\"&\" (Digite CERO si no tiene).  \",IF(O15>$C15,\" *La columna \"&O$13&\"\"&\" no puede superar el Total. \",\"\"))","v":""},null,null,null,null,null,null,{"$f":"IF(AND(L15+M15<>$C15),1,0)","v":0},{"$f":"IF(AND($C15<>0,N15=\"\"),1,IF(N15>$C15,1,0))","v":0},0]
[null,"Enfermera/o",{"$f":"SUM(D16:K16)","v":0},null,null,null,null,null,null,null,null,null,null,null,null,{"$f":"$CB16 & $CC16 & $CD16","v":""},null,null,null,null,null,null,null,null,null,null,null,null,null,null,null,null,null,null,null,null,null,null,null,null,null,null,null,null,null,null,null,null,null,null,null,null,null,null,null,null,null,null,null,null,null,null,null,null,null,null,null,null,null,null,null,null,null,null,null,null,null,null,null,{"$f":"IF(AND(L16+M16<>$C16),\" *La Sumatoria de las columnas Por Sexo debe ser igual al Total. \",\"\")","v":""},{"$f":"IF(AND($C16<>0,N16=\"\"),\"* No olvide ingresar la columna \"&N$13&\"\"&\" (Digite CERO si no tiene).  \",IF(N16>$C16,\" *La columna \"&N$13&\"\"&\" no puede superar el Total. \",\"\"))","v":""},{"$f":"IF(AND($C16<>0,O16=\"\"),\"* No olvide ingresar la columna \"&O$13&\"\"&\" (Digite CERO si no tiene).  \",IF(O16>$C16,\" *La columna \"&O$13&\"\"&\" no puede superar el Total. \",\"\"))","v":""},null,null,null,null,null,null,{"$f":"IF(AND(L16+M16<>$C16),1,0)","v":0},0,0]
[null,"Matrón/a",{"$f":"SUM(D17:K17)","v":0},null,null,null,null,null,null,null,null,null,null,null,null,"",null,null,null,null,null,null,null,null,null,null,null,null,null,null,null,null,null,null,null,null,null,null,null,null,null,null,null,null,null,null,null,null,null,null,null,null,null,null,null,null,null,null,null,null,null,null,null,null,null,null,null,null,null,null,null,null,null,null,null,null,null,null,null,{"$f":"IF(AND(L17+M17<>$C17),\" *La Sumatoria de las columnas Por Sexo debe ser igual al Total. \",\"\")","v":""},"","",null,null,null,null,null,null,0,0,0]
[null,"Total",{"$f":"SUM(D18:K18)","v":0},{"$f":"SUM(D15:D17)","v":0},{"$f":"SUM(E15:E17)","v":0},0,0,0,0,0,0,0,{"$f":"SUM(M15:M17)","v":0},0,0]
["Control Prenatal","Médico",{"$f":"SUM(E19:J19)","v":0},null,null,null,null,null,null,null,null,null,null,null,null,"",null,null,null,null,null,null,null,null,null,null,null,null,null,null,null,null,null,null,null,null,null,null,null,null,null,null,null,null,null,null,null,null,null,null,null,null,null,null,null,null,null,null,null,null,null,null,null,null,null,null,null,null,null,null,null,null,null,null,null,null,null,null,null,{"$f":"IF(AND(L19+M19<>$C19),\" *La Sumatoria de las columnas Por Sexo debe ser igual al Total. \",\"\")","v":""},{"$f":"IF(AND($C19<>0,N19=\"\"),\"* No olvide ingresar la columna \"&N$13&\"\"&\" (Digite CERO si no tiene).  \",IF(N19>$C19,\" *La columna \"&N$13&\"\"&\" no puede superar el Total. \",\"\"))","v":""},{"$f":"IF(AND($C19<>0,O19=\"\"),\"* No olvide ingresar la columna \"&O$13&\"\"&\" (Digite CERO si no tiene).  \",IF(O19>$C19,\" *La columna \"&O$13&\"\"&\" no puede superar el Total. \",\"\"))","v":""},null,null,null,null,null,null,0,{"$f":"IF(AND($C19<>0,N19=\"\"),1,IF(N19>$C19,1,0))","v":0},{"$f":"IF(AND($C19<>0,O19=\"\"),1,IF(O19>$C19,1,0))","v":0}]
[null,"Matrona",{"$f":"SUM(E20:J20)","v":0},null,null,null,null,null,null,null,null,null,null,null,null,"",null,null,null,null,null,null,null,null,null,null,null,null,null,null,null,null,null,null,null,null,null,null,null,null,null,null,null,null,null,null,null,null,null,null,null,null,null,null,null,null,null,null,null,null,null,null,null,null,null,null,null,null,null,null,null,null,null,null,null,null,null,null,null,"","","",null,null,null,null,null,null,0,{"$f":"IF(AND($C20<>0,N20=\"\"),1,IF(N20>$C20,1,0))","v":0},{"$f":"IF(AND($C20<>0,O20=\"\"),1,IF(O20>$C20,1,0))","v":0}]
[null,"Total",0,null,{"$f":"SUM(E19:E20)","v":0},{"$f":"SUM(F19:F20)","v":0},0,0,0,0,null,null,{"$f":"SUM(M19:M20)","v":0},{"$f":"SUM(N19:N20)","v":0},0]
["Control de Puérpera","Médico",0,null,null,null,null,null,null,null,null,null,null,null,null,"",null,null,null,null,null,null,null,null,null,null,null,null,null,null,null,null,null,null,null,null,null,null,null,null,null,null,null,null,null,null,null,null,null,null,null,null,null,null,null,null,null,null,null,null,null,null,null,null,null,null,null,null,null,null,null,null,null,null,null,null,null,null,null,{"$f":"IF(AND(L22+M22<>$C22),\" *La Sumatoria de las columnas Por Sexo debe ser igual al Total. \",\"\")","v":""},"","",null,null,null,null,null,null,0,{"$f":"IF(AND($C22<>0,N22=\"\"),1,IF(N22>$C22,1,0))","v":0},{"$f":"IF(AND($C22<>0,O22=\"\"),1,IF(O22>$C22,1,0))","v":0}]
[null,"Matrona",0,null,null,null,null,null,null,null,null,null,null,null,null,"",null,null,null,null,null,null,null,null,null,null,null,null,null,null,null,null,null,null,null,null,null,null,null,null,null,null,null,null,null,null,null,null,null,null,null,null,null,null,null,null,null,null,null,null,null,null,null,null,null,null,null,null,null,null,null,null,null,null,null,null,null,null,null,"","","",null,null,null,null,null,null,0,{"$f":"IF(AND($C23<>0,N23=\"\"),1,IF(N23>$C23,1,0))","v":0},{"$f":"IF(AND($C23<>0,O23=\"\"),1,IF(O23>$C23,1,0))","v":0}]
[null,"Total",0,null,{"$f":"SUM(E22:E23)","v":0},{"$f":"SUM(F22:F23)","v":0},0,0,0,{"$f":"SUM(J22:J23)","v":0},null,null,{"$f":"SUM(M22:M23)","v":0},{"$f":"SUM(N22:N23)","v":0},0]
["Control de Regulación de Fecundidad","Médico",{"$f":"SUM(E25:J25)","v":0},null,null,null,null,null,null,null,null,null,null,null,null,"",null,null,null,null,null,null,null,null,null,null,null,null,null,null,null,null,null,null,null,null,null,null,null,null,null,null,null,null,null,null,null,null,null,null,null,null,null,null,null,null,null,null,null,null,null,null,null,null,null,null,null,null,null,null,null,null,null,null,null,null,null,null,null,{"$f":"IF(AND(L25+M25<>$C25),\" *La Sumatoria de las columnas Por Sexo debe ser igual al Total. \",\"\")","v":""},"","",null,null,null,null,null,null,0,{"$f":"IF(AND($C25<>0,N25=\"\"),1,IF(N25>$C25,1,0))","v":0},{"$f":"IF(AND($C25<>0,O25=\"\"),1,IF(O25>$C25,1,0))","v":0}]
[null,"Matrona",{"$f":"SUM(E26:J26)","v":0},null,null,null,null,null,null,null,null,null,null,null,null,"",null,null,null,null,null,null,null,null,null,null,null,null,null,null,null,null,null,null,null,null,null,null,null,null,null,null,null,null,null,null,null,null,null,null,null,null,null,null,null,null,null,null,null,null,null,null,null,null,null,null,null,null,null,null,null,null,null,null,null,null,null,null,null,"","","",null,null,null,null,null,null,0,{"$f":"IF(AND($C26<>0,N26=\"\"),1,IF(N26>$C26,1,0))","v":0},{"$f":"IF(AND($C26<>0,O26=\"\"),1,IF(O26>$C26,1,0))","v":0}]
[null,"Total",{"$f":"SUM(E27:J27)","v":0},null,{"$f":"SUM(E25:E26)","v":0},{"$f":"SUM(F25:F26)","v":0},0,0,0,0,null,null,0,0,0]
["Control Ginecológico","Médico",{"$f":"SUM(E28:K28)","v":0},null,null,null,null,null,null,null,null,null,null,null,null,"",null,null,null,null,null,null,null,null,null,null,null,null,null,null,null,null,null,null,null,null,null,null,null,null,null,null,null,null,null,null,null,null,null,null,null,null,null,null,null,null,null,null,null,null,null,null,null,null,null,null,null,null,null,null,null,null,null,null,null,null,null,null,null,{"$f":"IF(AND(L28+M28<>$C28),\" *La Sumatoria de las columnas Por Sexo debe ser igual al Total. \",\"\")","v":""},"","",null,null,null,null,null,null,0,{"$f":"IF(AND($C28<>0,N28=\"\"),1,IF(N28>$C28,1,0))","v":0},{"$f":"IF(AND($C28<>0,O28=\"\"),1,IF(O28>$C28,1,0))","v":0}]
[null,"Matrona",{"$f":"SUM(E29:K29)","v":0},null,null,null,null,null,null,null,null,null,null,null,null,"",null,null,null,null,null,null,null,null,null,null,null,null,null,null,null,null,null,null,null,null,null,null,null,null,null,null,null,null,null,null,null,null,null,null,null,null,null,null,null,null,null,null,null,null,null,null,null,null,null,null,null,null,null,null,null,null,null,null,null,null,null,null,null,"","","",null,null,null,null,null,null,0,{"$f":"IF(AND($C29<>0,N29=\"\"),1,IF(N29>$C29,1,0))","v":0},{"$f":"IF(AND($C29<>0,O29=\"\"),1,IF(O29>$C29,1,0))","v":0}]
[null,"Total",{"$f":"SUM(D30:K30)","v":0},null,{"$f":"SUM(E28:E29)","v":0},0,0,0,0,0,0,0,0,0,0]
["Control de Crónicos","Médico",0,null,null,null,null,null,null,null,null,null,null,null,null,"",null,null,null,null,null,null,null,null,null,null,null,null,null,null,null,null,null,null,null,null,null,null,null,null,null,null,null,null,null,null,null,null,null,null,null,null,null,null,null,null,null,null,null,null,null,null,null,null,null,null,null,null,null,null,null,null,null,null,null,null,null,null,null,{"$f":"IF(AND(L31+M31<>$C31),\" *La Sumatoria de las columnas Por Sexo debe ser igual al Total. \",\"\")","v":""},{"$f":"IF(AND($C31<>0,N31=\"\"),\"* No olvide ingresar la columna \"&N$13&\"\"&\" (Digite CERO si no tiene).  \",IF(N31>$C31,\" *La columna \"&N$13&\"\"&\" no puede superar el Total. \",\"\"))","v":""},{"$f":"IF(AND($C31<>0,O31=\"\"),\"* No olvide ingresar la columna \"&O$13&\"\"&\" (Digite CERO si no tiene).  \",IF(O31>$C31,\" *La columna \"&O$13&\"\"&\" no puede superar el Total. \",\"\"))","v":""},null,null,null,null,null,null,0,{"$f":"IF(AND($C31<>0,N31=\"\"),1,IF(N31>$C31,1,0))","v":0},0]
[null,"Enfermera",0,null,null,null,null,null,null,null,null,null,null,null,null,"",null,null,null,null,null,null,null,null,null,null,null,null,null,null,null,null,null,null,null,null,null,null,null,null,null,null,null,null,null,null,null,null,null,null,null,null,null,null,null,null,null,null,null,null,null,null,null,null,null,null,null,null,null,null,null,null,null,null,null,null,null,null,null,"","","",null,null,null,null,null,null,0,0,0]
[null,"Nutricionista",0,null,null,null,null,null,null,null,null,null,null,null,null,"",null,null,null,null,null,null,null,null,null,null,null,null,null,null,null,null,null,null,null,null,null,null,null,null,null,null,null,null,null,null,null,null,null,null,null,null,null,null,null,null,null,null,null,null,null,null,null,null,null,null,null,null,null,null,null,null,null,null,null,null,null,null,null,"",{"$f":"IF(AND($C33<>0,N33=\"\"),\"* No olvide ingresar la columna \"&N$13&\"\"&\" (Digite CERO si no tiene).  \",IF(N33>$C33,\" *La columna \"&N$13&\"\"&\" no puede superar el Total. \",\"\"))","v":""},"",null,null,null,null,null,null,0,0,0]
[null,"Total",0,{"$f":"SUM(D31:D33)","v":0},{"$f":"SUM(E31:E33)","v":0},0,0,0,0,0,0,0,0,0,0]
["Consulta de Morbilidad General","Médico",0,null,null,null,null,null,null,null,null,null,null,null,null,"",null,null,null,null,null,null,null,null,null,null,null,null,null,null,null,null,null,null,null,null,null,null,null,null,null,null,null,null,null,null,null,null,null,null,null,null,null,null,null,null,null,null,null,null,null,null,null,null,null,null,null,null,null,null,null,null,null,null,null,null,null,null,null,{"$f":"IF(AND(L35+M35<>$C35),\" *La Sumatoria de las columnas Por Sexo debe ser igual al Total. \",\"\")","v":""},"","",null,null,null,null,null,null,0,{"$f":"IF(AND($C35<>0,N35=\"\"),1,IF(N35>$C35,1,0))","v":0},{"$f":"IF(AND($C35<>0,O35=\"\"),1,IF(O35>$C35,1,0))","v":0}]
[null,"Total",0,{"$f":"SUM(D35:D35)","v":0},0,0,0,0,0,0,0,0,0,0,0]
["TOTAL GENERAL DE CONTROLES Y CONSULTAS",null,0,{"$f":"SUM(D18+D21+D24+D27+D30+D34+D36)","v":0},{"$f":"SUM(E18+E21+E24+E27+E30+E34+E36)","v":0},0,0,0,0,0,0,0,0,0,0]
[]
["SECCIÓN B: CONSULTAS MÉDICAS"]
["ESPECIALIDADES Y SUB ESPECIALIDADES",null,"TOTAL","POR GRUPO DE EDAD (AÑOS)",null,null,null,null,null,null,null,null,null,null,null,null,null,null,null,null,"POR SEXO",null,"CONSULTAS RESUELTAS DE FORMA NO PRESENCIAL"]
[null,null,null,"0 - 4 años","5 - 9 años","10 - 14 años","15 - 19 años","20 - 24 años","25 - 29 años","30 - 34 años","35 - 39 años","40 - 44 años","45 - 49 años","50 - 54 años","55 - 59 años","60 - 64 años","65 - 69 años","70 - 74 años","75 - 79 años","80 y más años","Hombres","Mujeres","Vía telefónica","Usando otras Plataformas"]
["PEDIATRÍA",null,{"$f":"SUM(D42:T42)","v":0},null,null,null,null,null,null,null,null,null,null,null,null,null,null,null,null,null,null,null,null,null,{"$f":"$CB42 & $CC42","v":""},null,null,null,null,null,null,null,null,null,null,null,null,null,null,null,null,null,null,null,null,null,null,null,null,null,null,null,null,null,null,null,null,null,null,null,null,null,null,null,null,null,null,null,null,null,null,null,null,null,null,null,null,null,null,{"$f":"IF(AND(U42+V42<>$C42),\" *La Sumatoria de las columnas Por Sexo debe ser igual al Total. \",\"\")","v":""},{"$f":"IF(AND($C42<>0,W42=\"\",X42=\"\"),\"* No olvide ingresar la columna \"&W$40&\"\"&\" (Digite CERO si no tiene).  \",IF(W42+X42>$C42,\" *La columna \"&W$40&\"\"&\" no puede superar el Total. \",\"\"))","v":""},null,null,null,null,null,null,null,{"$f":"IF(AND(U42+V42<>$C42),1,0)","v":0},{"$f":"IF(AND($C42<>0,W42=\"\",X42=\"\"),1,IF(W42+X42>$C42,1,0))","v":0}]
["MEDICINA INTERNA",null,{"$f":"SUM(D43:T43)","v":0},null,null,null,null,null,null,null,null,null,null,null,null,null,null,null,null,null,null,null,null,null,{"$f":"$CB43 & $CC43","v":""},null,null,null,null,null,null,null,null,null,null,null,null,null,null,null,null,null,null,null,null,null,null,null,null,null,null,null,null,null,null,null,null,null,null,null,null,null,null,null,null,null,null,null,null,null,null,null,null,null,null,null,null,null,null,{"$f":"IF(AND(U43+V43<>$C43),\" *La Sumatoria de las columnas Por Sexo debe ser igual al Total. \",\"\")","v":""},{"$f":"IF(AND($C43<>0,W43=\"\",X43=\"\"),\"* No olvide ingresar la columna \"&W$40&\"\"&\" (Digite CERO si no tiene).  \",IF(W43+X43>$C43,\" *La columna \"&W$40&\"\"&\" no puede superar el Total. \",\"\"))","v":""},{"$f":"IF(U43+V43>C43,\"* El campo SEXO no debe ser mayor al total. \",\"\")","v":""},null,null,null,null,null,null,{"$f":"IF(AND(U43+V43<>$C43),1,0)","v":0},0]
["NEONATOLOGÍA",null,{"$f":"SUM(D44)","v":0},null,null,null,null,null,null,null,null,null,null,null,null,null,null,null,null,null,null,null,null,null,"",null,null,null,null,null,null,null,null,null,null,null,null,null,null,null,null,null,null,null,null,null,null,null,null,null,null,null,null,null,null,null,null,null,null,null,null,null,null,null,null,null,null,null,null,null,null,null,null,null,null,null,null,null,null,"","","",null,null,null,null,null,null,0,0]
["ENFERMEDAD RESPIRATORIA PEDIÁTRICA (BRONCOPULMONAR INFANTIL)",null,0,null,null,null,null,null,null,null,null,null,null,null,null,null,null,null,null,null,null,null,null,null,"",null,null,null,null,null,null,null,null,null,null,null,null,null,null,null,null,null,null,null,null,null,null,null,null,null,null,null,null,null,null,null,null,null,null,null,null,null,null,null,null,null,null,null,null,null,null,null,null,null,null,null,null,null,null,"","","",null,null,null,null,null,null,0,0]
["ENFERMEDAD RESPIRATORIA DE ADULTO (BRONCOPULMONAR)",null,0,null,null,null,null,null,null,null,null,null,null,null,null,null,null,null,null,null,null,null,null,null,"",null,null,null,null,null,null,null,null,null,null,null,null,null,null,null,null,null,null,null,null,null,null,null,null,null,null,null,null,null,null,null,null,null,null,null,null,null,null,null,null,null,null,null,null,null,null,null,null,null,null,null,null,null,null,"","","",null,null,null,null,null,null,0,0]
["CARDIOLOGÍA PEDIÁTRICA",null,0,null,null,null,null,null,null,null,null,null,null,null,null,null,null,null,null,null,null,null,null,null,"",null,null,null,null,null,null,null,null,null,null,null,null,null,null,null,null,null,null,null,null,null,null,null,null,null,null,null,null,null,null,null,null,null,null,null,null,null,null,null,null,null,null,null,null,null,null,null,null,null,null,null,null,null,null,"","","",null,null,null,null,null,null,0,0]
["CARDIOLOGÍA ADULTO",null,0,null,null,null,null,null,null,null,null,null,null,null,null,null,null,null,null,null,null,null,null,null,"",null,null,null,null,null,null,null,null,null,null,null,null,null,null,null,null,null,null,null,null,null,null,null,null,null,null,null,null,null,null,null,null,null,null,null,null,null,null,null,null,null,null,null,null,null,null,null,null,null,null,null,null,null,null,"","","",null,null,null,null,null,null,0,0]
["ENDOCRINOLOGÍA PEDIÁTRICA",null,0,null,null,null,null,null,null,null,null,null,null,null,null,null,null,null,null,null,null,null,null,null,"",null,null,null,null,null,null,null,null,null,null,null,null,null,null,null,null,null,null,null,null,null,null,null,null,null,null,null,null,null,null,null,null,null,null,null,null,null,null,null,null,null,null,null,null,null,null,null,null,null,null,null,null,null,null,"","","",null,null,null,null,null,null,0,0]
["ENDOCRINOLOGÍA ADULTO",null,0,null,null,null,null,null,null,null,null,null,null,null,null,null,null,null,null,null,null,null,null,null,"",null,null,null,null,null,null,null,null,null,null,null,null,null,null,null,null,null,null,null,null,null,null,null,null,null,null,null,null,null,null,null,null,null,null,null,null,null,null,null,null,null,null,null,null,null,null,null,null,null,null,null,null,null,null,"","","",null,null,null,null,null,null,0,0]
["GASTROENTEROLOGÍA PEDIÁTRICA",null,0,null,null,null,null,null,null,null,null,null,null,null,null,null,null,null,null,null,null,null,null,null,"",null,null,null,null,null,null,null,null,null,null,null,null,null,null,null,null,null,null,null,null,null,null,null,null,null,null,null,null,null,null,null,null,null,null,null,null,null,null,null,null,null,null,null,null,null,null,null,null,null,null,null,null,null,null,"","","",null,null,null,null,null,null,0,0]
["GASTROENTEROLOGÍA ADULTO",null,0,null,null,null,null,null,null,null,null,null,null,null,null,null,null,null,null,null,null,null,null,null,"",null,null,null,null,null,null,null,null,null,null,null,null,null,null,null,null,null,null,null,null,null,null,null,null,null,null,null,null,null,null,null,null,null,null,null,null,null,null,null,null,null,null,null,null,null,null,null,null,null,null,null,null,null,null,"","","",null,null,null,null,null,null,0,0]
["GENÉTICA CLÍNICA",null,0,null,null,null,null,null,null,null,null,null,null,null,null,null,null,null,null,null,null,null,null,null,"",null,null,null,null,null,null,null,null,null,null,null,null,null,null,null,null,null,null,null,null,null,null,null,null,null,null,null,null,null,null,null,null,null,null,null,null,null,null,null,null,null,null,null,null,null,null,null,null,null,null,null,null,null,null,"","","",null,null,null,null,null,null,0,0]
["HEMATO-ONCOLOGÍA INFANTIL",null,0,null,null,null,null,null,null,null,null,null,null,null,null,null,null,null,null,null,null,null,null,null,"",null,null,null,null,null,null,null,null,null,null,null,null,null,null,null,null,null,null,null,null,null,null,null,null,null,null,null,null,null,null,null,null,null,null,null,null,null,null,null,null,null,null,null,null,null,null,null,null,null,null,null,null,null,null,"","","",null,null,null,null,null,null,0,0]
["HEMATOLOGÍA ADULTO",null,0,null,null,null,null,null,null,null,null,null,null,null,null,null,null,null,null,null,null,null,null,null,"",null,null,null,null,null,null,null,null,null,null,null,null,null,null,null,null,null,null,null,null,null,null,null,null,null,null,null,null,null,null,null,null,null,null,null,null,null,null,null,null,null,null,null,null,null,null,null,null,null,null,null,null,null,null,"","","",null,null,null,null,null,null,0,0]
["NEFROLOGÍA PEDIÁTRICA",null,0,null,null,null,null,null,null,null,null,null,null,null,null,null,null,null,null,null,null,null,null,null,"",null,null,null,null,null,null,null,null,null,null,null,null,null,null,null,null,null,null,null,null,null,null,null,null,null,null,null,null,null,null,null,null,null,null,null,null,null,null,null,null,null,null,null,null,null,null,null,null,null,null,null,null,null,null,"","","",null,null,null,null,null,null,0,0]
["NEFROLOGÍA ADULTO",null,0,null,null,null,null,null,null,null,null,null,null,null,null,null,null,null,null,null,null,null,null,null,"",null,null,null,null,null,null,null,null,null,null,null,null,null,null,null,null,null,null,null,null,null,null,null,null,null,null,null,null,null,null,null,null,null,null,null,null,null,null,null,null,null,null,null,null,null,null,null,null,null,null,null,null,null,null,"","","",null,null,null,null,null,null,0,0]
["NUTRIÓLOGO PEDIÁTRICO",null,0,null,null,null,null,null,null,null,null,null,null,null,null,null,null,null,null,null,null,null,null,null,"",null,null,null,null,null,null,null,null,null,null,null,null,null,null,null,null,null,null,null,null,null,null,null,null,null,null,null,null,null,null,null,null,null,null,null,null,null,null,null,null,null,null,null,null,null,null,null,null,null,null,null,null,null,null,"","","",null,null,null,null,null,null,0,0]
["NUTRIÓLOGO ADULTO",null,0,null,null,null,null,null,null,null,null,null,null,null,null,null,null,null,null,null,null,null,null,null,"",null,null,null,null,null,null,null,null,null,null,null,null,null,null,null,null,null,null,null,null,null,null,null,null,null,null,null,null,null,null,null,null,null,null,null,null,null,null,null,null,null,null,null,null,null,null,null,null,null,null,null,null,null,null,"","","",null,null,null,null,null,null,0,0]
["REUMATOLOGÍA PEDIÁTRICA",null,0,null,null,null,null,null,null,null,null,null,null,null,null,null,null,null,null,null,null,null,null,null,"",null,null,null,null,null,null,null,null,null,null,null,null,null,null,null,null,null,null,null,null,null,null,null,null,null,null,null,null,null,null,null,null,null,null,null,null,null,null,null,null,null,null,null,null,null,null,null,null,null,null,null,null,null,null,"","","",null,null,null,null,null,null,0,0]
["REUMATOLOGÍA ADULTO",null,0,null,null,null,null,null,null,null,null,null,null,null,null,null,null,null,null,null,null,null,null,null,"",null,null,null,null,null,null,null,null,null,null,null,null,null,null,null,null,null,null,null,null,null,null,null,null,null,null,null,null,null,null,null,null,null,null,null,null,null,null,null,null,null,null,null,null,null,null,null,null,null,null,null,null,null,null,"","","",null,null,null,null,null,null,0,0]
["DERMATOLOGÍA",null,0,null,null,null,null,null,null,null,null,null,null,null,null,null,null,null,null,null,null,null,null,null,"",null,null,null,null,null,null,null,null,null,null,null,null,null,null,null,null,null,null,null,null,null,null,null,null,null,null,null,null,null,null,null,null,null,null,null,null,null,null,null,null,null,null,null,null,null,null,null,null,null,null,null,null,null,null,"","","",null,null,null,null,null,null,0,0]
["INFECTOLOGÍA PEDIÁTRICA",null,0,null,null,null,null,null,null,null,null,null,null,null,null,null,null,null,null,null,null,null,null,null,"",null,null,null,null,null,null,null,null,null,null,null,null,null,null,null,null,null,null,null,null,null,null,null,null,null,null,null,null,null,null,null,null,null,null,null,null,null,null,null,null,null,null,null,null,null,null,null,null,null,null,null,null,null,null,"","","",null,null,null,null,null,null,0,0]
["INFECTOLOGÍA ADULTO",null,{"$f":"SUM(D64:T64)","v":0},null,null,null,null,null,null,null,null,null,null,null,null,null,null,null,null,null,null,null,null,null,"",null,null,null,null,null,null,null,null,null,null,null,null,null,null,null,null,null,null,null,null,null,null,null,null,null,null,null,null,null,null,null,null,null,null,null,null,null,null,null,null,null,null,null,null,null,null,null,null,null,null,null,null,null,null,"","","",null,null,null,null,null,null,0,0]
["INMUNOLOGÍA",null,{"$f":"SUM(D65:T65)","v":0},null,null,null,null,null,null,null,null,null,null,null,null,null,null,null,null,null,null,null,null,null,"",null,null,null,null,null,null,null,null,null,null,null,null,null,null,null,null,null,null,null,null,null,null,null,null,null,null,null,null,null,null,null,null,null,null,null,null,null,null,null,null,null,null,null,null,null,null,null,null,null,null,null,null,null,null,"","","",null,null,null,null,null,null,0,0]
["GERIATRÍA",null,{"$f":"SUM(P66:T66)","v":0},null,null,null,null,null,null,null,null,null,null,null,null,null,null,null,null,null,null,null,null,null,"",null,null,null,null,null,null,null,null,null,null,null,null,null,null,null,null,null,null,null,null,null,null,null,null,null,null,null,null,null,null,null,null,null,null,null,null,null,null,null,null,null,null,null,null,null,null,null,null,null,null,null,null,null,null,"","","",null,null,null,null,null,null,0,0]
["MEDICINA FÍSICA Y REHABILITACIÓN PEDIÁTRICA (FISIATRÍA PEDIÁTRICA)",null,0,null,null,null,null,null,null,null,null,null,null,null,null,null,null,null,null,null,null,null,null,null,"",null,null,null,null,null,null,null,null,null,null,null,null,null,null,null,null,null,null,null,null,null,null,null,null,null,null,null,null,null,null,null,null,null,null,null,null,null,null,null,null,null,null,null,null,null,null,null,null,null,null,null,null,null,null,"","","",null,null,null,null,null,null,0,0]
["MEDICINA FÍSICA Y REHABILITACIÓN ADULTO (FISIATRÍA ADULTO)",null,0,null,null,null,null,null,null,null,null,null,null,null,null,null,null,null,null,null,null,null,null,null,"",null,null,null,null,null,null,null,null,null,null,null,null,null,null,null,null,null,null,null,null,null,null,null,null,null,null,null,null,null,null,null,null,null,null,null,null,null,null,null,null,null,null,null,null,null,null,null,null,null,null,null,null,null,null,"","","",null,null,null,null,null,null,0,0]
["NEUROLOGÍA PEDIÁTRICA",null,0,null,null,null,null,null,null,null,null,null,null,null,null,null,null,null,null,null,null,null,null,null,"",null,null,null,null,null,null,null,null,null,null,null,null,null,null,null,null,null,null,null,null,null,null,null,null,null,null,null,null,null,null,null,null,null,null,null,null,null,null,null,null,null,null,null,null,null,null,null,null,null,null,null,null,null,null,"","","",null,null,null,null,null,null,0,0]
["NEUROLOGÍA ADULTO",null,0,null,null,null,null,null,null,null,null,null,null,null,null,null,null,null,null,null,null,null,null,null,"",null,null,null,null,null,null,null,null,null,null,null,null,null,null,null,null,null,null,null,null,null,null,null,null,null,null,null,null,null,null,null,null,null,null,null,null,null,null,null,null,null,null,null,null,null,null,null,null,null,null,null,null,null,null,"","","",null,null,null,null,null,null,0,0]
["ONCOLOGÍA MÉDICA",null,0,null,null,null,null,null,null,null,null,null,null,null,null,null,null,null,null,null,null,null,null,null,"",null,null,null,null,null,null,null,null,null,null,null,null,null,null,null,null,null,null,null,null,null,null,null,null,null,null,null,null,null,null,null,null,null,null,null,null,null,null,null,null,null,null,null,null,null,null,null,null,null,null,null,null,null,null,"","","",null,null,null,null,null,null,0,0]
["PSIQUIATRÍA PEDIÁTRICA Y DE LA ADOLESCENCIA",null,0,null,null,null,null,null,null,null,null,null,null,null,null,null,null,null,null,null,null,null,null,null,"",null,null,null,null,null,null,null,null,null,null,null,null,null,null,null,null,null,null,null,null,null,null,null,null,null,null,null,null,null,null,null,null,null,null,null,null,null,null,null,null,null,null,null,null,null,null,null,null,null,null,null,null,null,null,"","","",null,null,null,null,null,null,0,0]
["PSIQUIATRÍA ADULTO",null,0,null,null,null,null,null,null,null,null,null,null,null,null,null,null,null,null,null,null,null,null,null,"",null,null,null,null,null,null,null,null,null,null,null,null,null,null,null,null,null,null,null,null,null,null,null,null,null,null,null,null,null,null,null,null,null,null,null,null,null,null,null,null,null,null,null,null,null,null,null,null,null,null,null,null,null,null,"","","",null,null,null,null,null,null,0,0]
["CIRUGÍA PEDIÁTRICA",null,0,null,null,null,null,null,null,null,null,null,null,null,null,null,null,null,null,null,null,null,null,null,"",null,null,null,null,null,null,null,null,null,null,null,null,null,null,null,null,null,null,null,null,null,null,null,null,null,null,null,null,null,null,null,null,null,null,null,null,null,null,null,null,null,null,null,null,null,null,null,null,null,null,null,null,null,null,"","","",null,null,null,null,null,null,0,{"$f":"IF(AND($C74<>0,W74=\"\",X74=\"\"),1,IF(W74+X74>$C74,1,0))","v":0}]
["CIRUGÍA GENERAL ADULTO",null,0,null,null,null,null,null,null,null,null,null,null,null,null,null,null,null,null,null,null,null,null,null,"",null,null,null,null,null,null,null,null,null,null,null,null,null,null,null,null,null,null,null,null,null,null,null,null,null,null,null,null,null,null,null,null,null,null,null,null,null,null,null,null,null,null,null,null,null,null,null,null,null,null,null,null,null,null,"","",{"$f":"IF(U75+V75>C75,\"* El campo SEXO no debe ser mayor al total. \",\"\")","v":""},null,null,null,null,null,null,0,0]
["CIRUGÍA DIGESTIVA (ALTA)",null,0,null,null,null,null,null,null,null,null,null,null,null,null,null,null,null,null,null,null,null,null,null,"",null,null,null,null,null,null,null,null,null,null,null,null,null,null,null,null,null,null,null,null,null,null,null,null,null,null,null,null,null,null,null,null,null,null,null,null,null,null,null,null,null,null,null,null,null,null,null,null,null,null,null,null,null,null,"","","",null,null,null,null,null,null,0,0]
["CIRUGÍA DE CABEZA, CUELLO Y MAXILOFACIAL",null,0,null,null,null,null,null,null,null,null,null,null,null,null,null,null,null,null,null,null,null,null,null,"",null,null,null,null,null,null,null,null,null,null,null,null,null,null,null,null,null,null,null,null,null,null,null,null,null,null,null,null,null,null,null,null,null,null,null,null,null,null,null,null,null,null,null,null,null,null,null,null,null,null,null,null,null,null,"","","",null,null,null,null,null,null,0,0]
["CIRUGÍA PLÁSTICA Y REPARADORA PEDIÁTRICA",null,0,null,null,null,null,null,null,null,null,null,null,null,null,null,null,null,null,null,null,null,null,null,"",null,null,null,null,null,null,null,null,null,null,null,null,null,null,null,null,null,null,null,null,null,null,null,null,null,null,null,null,null,null,null,null,null,null,null,null,null,null,null,null,null,null,null,null,null,null,null,null,null,null,null,null,null,null,"","","",null,null,null,null,null,null,0,0]
["CIRUGÍA PLÁSTICA Y REPARADORA ADULTO",null,0,null,null,null,null,null,null,null,null,null,null,null,null,null,null,null,null,null,null,null,null,null,"",null,null,null,null,null,null,null,null,null,null,null,null,null,null,null,null,null,null,null,null,null,null,null,null,null,null,null,null,null,null,null,null,null,null,null,null,null,null,null,null,null,null,null,null,null,null,null,null,null,null,null,null,null,null,"","","",null,null,null,null,null,null,0,0]
["COLOPROCTOLOGÍA (CIRUGIA DIGESTIVA BAJA)",null,0,null,null,null,null,null,null,null,null,null,null,null,null,null,null,null,null,null,null,null,null,null,"",null,null,null,null,null,null,null,null,null,null,null,null,null,null,null,null,null,null,null,null,null,null,null,null,null,null,null,null,null,null,null,null,null,null,null,null,null,null,null,null,null,null,null,null,null,null,null,null,null,null,null,null,null,null,"","","",null,null,null,null,null,null,0,0]
["CIRUGÍA TÓRAX",null,0,null,null,null,null,null,null,null,null,null,null,null,null,null,null,null,null,null,null,null,null,null,"",null,null,null,null,null,null,null,null,null,null,null,null,null,null,null,null,null,null,null,null,null,null,null,null,null,null,null,null,null,null,null,null,null,null,null,null,null,null,null,null,null,null,null,null,null,null,null,null,null,null,null,null,null,null,"","","",null,null,null,null,null,null,0,0]
["CIRUGÍA VASCULAR PERIFÉRICA",null,{"$f":"SUM(D82:T82)","v":0},null,null,null,null,null,null,null,null,null,null,null,null,null,null,null,null,null,null,null,null,null,"",null,null,null,null,null,null,null,null,null,null,null,null,null,null,null,null,null,null,null,null,null,null,null,null,null,null,null,null,null,null,null,null,null,null,null,null,null,null,null,null,null,null,null,null,null,null,null,null,null,null,null,null,null,null,"","","",null,null,null,null,null,null,0,0]
["NEUROCIRUGÍA",null,{"$f":"SUM(D83:T83)","v":0},null,null,null,null,null,null,null,null,null,null,null,null,null,null,null,null,null,null,null,null,null,"",null,null,null,null,null,null,null,null,null,null,null,null,null,null,null,null,null,null,null,null,null,null,null,null,null,null,null,null,null,null,null,null,null,null,null,null,null,null,null,null,null,null,null,null,null,null,null,null,null,null,null,null,null,null,"","","",null,null,null,null,null,null,0,0]
["CIRUGÍA CARDIOVASCULAR",null,0,null,null,null,null,null,null,null,null,null,null,null,null,null,null,null,null,null,null,null,null,null,"",null,null,null,null,null,null,null,null,null,null,null,null,null,null,null,null,null,null,null,null,null,null,null,null,null,null,null,null,null,null,null,null,null,null,null,null,null,null,null,null,null,null,null,null,null,null,null,null,null,null,null,null,null,null,"","","",null,null,null,null,null,null,0,0]
["ANESTESIOLOGÍA",null,0,null,null,null,null,null,null,null,null,null,null,null,null,null,null,null,null,null,null,null,null,null,"",null,null,null,null,null,null,null,null,null,null,null,null,null,null,null,null,null,null,null,null,null,null,null,null,null,null,null,null,null,null,null,null,null,null,null,null,null,null,null,null,null,null,null,null,null,null,null,null,null,null,null,null,null,null,"","","",null,null,null,null,null,null,0,0]
["OBSTETRICIA",null,0,null,null,null,null,null,null,null,null,null,null,null,null,null,null,null,null,null,null,null,null,null,"",null,null,null,null,null,null,null,null,null,null,null,null,null,null,null,null,null,null,null,null,null,null,null,null,null,null,null,null,null,null,null,null,null,null,null,null,null,null,null,null,null,null,null,null,null,null,null,null,null,null,null,null,null,null,"","","",null,null,null,null,null,null,0,0]
["GINECOLOGÍA PEDIÁTRICA Y DE LA ADOLESCENCIA",null,0,null,null,null,null,null,null,null,null,null,null,null,null,null,null,null,null,null,null,null,null,null,"",null,null,null,null,null,null,null,null,null,null,null,null,null,null,null,null,null,null,null,null,null,null,null,null,null,null,null,null,null,null,null,null,null,null,null,null,null,null,null,null,null,null,null,null,null,null,null,null,null,null,null,null,null,null,"","","",null,null,null,null,null,null,0,0]
["GINECOLOGÍA ADULTO",null,0,null,null,null,null,null,null,null,null,null,null,null,null,null,null,null,null,null,null,null,null,null,"",null,null,null,null,null,null,null,null,null,null,null,null,null,null,null,null,null,null,null,null,null,null,null,null,null,null,null,null,null,null,null,null,null,null,null,null,null,null,null,null,null,null,null,null,null,null,null,null,null,null,null,null,null,null,"","","",null,null,null,null,null,null,0,0]
["OFTALMOLOGÍA",null,0,null,null,null,null,null,null,null,null,null,null,null,null,null,null,null,null,null,null,null,null,null,"",null,null,null,null,null,null,null,null,null,null,null,null,null,null,null,null,null,null,null,null,null,null,null,null,null,null,null,null,null,null,null,null,null,null,null,null,null,null,null,null,null,null,null,null,null,null,null,null,null,null,null,null,null,null,"","","",null,null,null,null,null,null,0,0]
["OTORRINOLARINGOLOGÍA",null,0,null,null,null,null,null,null,null,null,null,null,null,null,null,null,null,null,null,null,null,null,null,"",null,null,null,null,null,null,null,null,null,null,null,null,null,null,null,null,null,null,null,null,null,null,null,null,null,null,null,null,null,null,null,null,null,null,null,null,null,null,null,null,null,null,null,null,null,null,null,null,null,null,null,null,null,null,"","","",null,null,null,null,null,null,0,0]
["TRAUMATOLOGÍA Y ORTOPEDIA PEDIÁTRICA",null,0,null,null,null,null,null,null,null,null,null,null,null,null,null,null,null,null,null,null,null,null,null,"",null,null,null,null,null,null,null,null,null,null,null,null,null,null,null,null,null,null,null,null,null,null,null,null,null,null,null,null,null,null,null,null,null,null,null,null,null,null,null,null,null,null,null,null,null,null,null,null,null,null,null,null,null,null,"","","",null,null,null,null,null,null,0,0]
["TRAUMATOLOGÍA Y ORTOPEDIA ADULTO",null,0,null,null,null,null,null,null,null,null,null,null,null,null,null,null,null,null,null,null,null,null,null,"",null,null,null,null,null,null,null,null,null,null,null,null,null,null,null,null,null,null,null,null,null,null,null,null,null,null,null,null,null,null,null,null,null,null,null,null,null,null,null,null,null,null,null,null,null,null,null,null,null,null,null,null,null,null,"","","",null,null,null,null,null,null,0,0]
["UROLOGÍA PEDIÁTRICA",null,0,null,null,null,null,null,null,null,null,null,null,null,null,null,null,null,null,null,null,null,null,null,"",null,null,null,null,null,null,null,null,null,null,null,null,null,null,null,null,null,null,null,null,null,null,null,null,null,null,null,null,null,null,null,null,null,null,null,null,null,null,null,null,null,null,null,null,null,null,null,null,null,null,null,null,null,null,"","","",null,null,null,null,null,null,0,0]
["UROLOGÍA ADULTO",null,{"$f":"SUM(G94:T94)","v":0},null,null,null,null,null,null,null,null,null,null,null,null,null,null,null,null,null,null,null,null,null,"",null,null,null,null,null,null,null,null,null,null,null,null,null,null,null,null,null,null,null,null,null,null,null,null,null,null,null,null,null,null,null,null,null,null,null,null,null,null,null,null,null,null,null,null,null,null,null,null,null,null,null,null,null,null,"","","",null,null,null,null,null,null,0,0]
["MEDICINA FAMILIAR DEL NIÑO",null,0,null,null,null,null,null,null,null,null,null,null,null,null,null,null,null,null,null,null,null,null,null,"",null,null,null,null,null,null,null,null,null,null,null,null,null,null,null,null,null,null,null,null,null,null,null,null,null,null,null,null,null,null,null,null,null,null,null,null,null,null,null,null,null,null,null,null,null,null,null,null,null,null,null,null,null,null,"","","",null,null,null,null,null,null,0,0]
["MEDICINA FAMILIAR",null,0,null,null,null,null,null,null,null,null,null,null,null,null,null,null,null,null,null,null,null,null,null,"",null,null,null,null,null,null,null,null,null,null,null,null,null,null,null,null,null,null,null,null,null,null,null,null,null,null,null,null,null,null,null,null,null,null,null,null,null,null,null,null,null,null,null,null,null,null,null,null,null,null,null,null,null,null,"","","",null,null,null,null,null,null,0,0]
["MEDICINA FAMILIAR ADULTO",null,0,null,null,null,null,null,null,null,null,null,null,null,null,null,null,null,null,null,null,null,null,null,"",null,null,null,null,null,null,null,null,null,null,null,null,null,null,null,null,null,null,null,null,null,null,null,null,null,null,null,null,null,null,null,null,null,null,null,null,null,null,null,null,null,null,null,null,null,null,null,null,null,null,null,null,null,null,"","","",null,null,null,null,null,null,0,0]
["DIABETOLOGÍA",null,0,null,null,null,null,null,null,null,null,null,null,null,null,null,null,null,null,null,null,null,null,null,"",null,null,null,null,null,null,null,null,null,null,null,null,null,null,null,null,null,null,null,null,null,null,null,null,null,null,null,null,null,null,null,null,null,null,null,null,null,null,null,null,null,null,null,null,null,null,null,null,null,null,null,null,null,null,"","","",null,null,null,null,null,null,0,0]
["MEDICINA NUCLEAR (EXCLUYE INFORMES)",null,0,null,null,null,null,null,null,null,null,null,null,null,null,null,null,null,null,null,null,null,null,null,"",null,null,null,null,null,null,null,null,null,null,null,null,null,null,null,null,null,null,null,null,null,null,null,null,null,null,null,null,null,null,null,null,null,null,null,null,null,null,null,null,null,null,null,null,null,null,null,null,null,null,null,null,null,null,"","","",null,null,null,null,null,null,0,0]
["IMAGENOLOGÍA",null,{"$f":"SUM(D100:T100)","v":0},null,null,null,null,null,null,null,null,null,null,null,null,null,null,null,null,null,null,null,null,null,{"$f":"$CB100 & $CC100","v":""},null,null,null,null,null,null,null,null,null,null,null,null,null,null,null,null,null,null,null,null,null,null,null,null,null,null,null,null,null,null,null,null,null,null,null,null,null,null,null,null,null,null,null,null,null,null,null,null,null,null,null,null,null,null,"",{"$f":"IF(AND($C100<>0,W100=\"\",X100=\"\"),\"* No olvide ingresar la columna \"&W$40&\"\"&\" (Digite CERO si no tiene).  \",IF(W100+X100>$C100,\" *La columna \"&W$40&\"\"&\" no puede superar el Total. \",\"\"))","v":""},"",null,null,null,null,null,null,0,0]
["RADIOTERAPIA ONCOLÓGICA",null,{"$f":"SUM(D101:T101)","v":0},null,null,null,null,null,null,null,null,null,null,null,null,null,null,null,null,null,null,null,null,null,"",null,null,null,null,null,null,null,null,null,null,null,null,null,null,null,null,null,null,null,null,null,null,null,null,null,null,null,null,null,null,null,null,null,null,null,null,null,null,null,null,null,null,null,null,null,null,null,null,null,null,null,null,null,null,"","","",null,null,null,null,null,null,0,0]
["TOTAL",null,{"$f":"SUM(D102:T102)","v":0},{"$f":"SUM(D42:D65)+D67+D68+D69+D70+D71+D72+D73+D74+D75+D76+D77+D78+D79+D80+D81+D82+D83+D84+D86+D85+D87+D88+D89+D90+D91+D92+D93+D95+D96+D97+D98+D99+D100+D101","v":0},{"$f":"SUM(E45:E65)+E42+E43+E67+E68+E69+E70+E71+E72+E73+E74+E75+E76+E77+E78+E79+E80+E81+E82+E83+E84+E86+E85+E87+E88+E89+E90+E91+E92+E93+E95+E96+E97+E98+E99+E100+E101","v":0},{"$f":"SUM(F45:F65)+F42+F43+F67+F68+F69+F70+F71+F72+F73+F74+F75+F76+F77+F78+F79+F80+F81+F82+F83+F84+F86+F85+F87+F88+F89+F90+F91+F92+F93+F95+F96+F97+F98+F99+F100+F101","v":0},{"$f":"SUM(G42:G101)","v":0},{"$f":"SUM(H42:H101)","v":0},0,0,0,0,0,0,0,0,0,{"$f":"SUM(R42:R101)","v":0},0,{"$f":"SUM(T42:T101)","v":0},{"$f":"SUM(U42:U101)","v":0},0,0,0]
[]
["SECCIÓN C: ATENCIONES Y CONSULTAS POR OTROS PROFESIONALES NO MÉDICOS"]
["PROFESIONAL","ACTIVIDADES","TOTAL ",null,null,"POR EDAD (en años)",null,null,null,null,null,null,null,null,null,null,null,null,null,null,null,null,null,null,null,null,null,null,null,null,null,null,null,null,null,null,null,null,null,"Pueblos Originarios","Migrantes"]
[null,null,null,null,null,"0 - 4 años",null,"5 - 9 años",null,"10 - 14 años",null,"15 - 19 años",null,"20 - 24 años",null,"25 - 29 años",null,"30 - 34 años",null,"35 - 39 años",null,"40 - 44 años",null,"45 - 49 años",null,"50 - 54 años",null,"55 - 59 años",null,"60 - 64 años",null,"65 - 69 años",null,"70 - 74 años",null,"75 - 79 años",null,"80 y más años"]
[null,null,"Ambos Sexos","Hombres","Mujeres","Hombres","Mujeres","Hombres","Mujeres","Hombres","Mujeres","Hombres","Mujeres","Hombres","Mujeres","Hombres","Mujeres","Hombres","Mujeres","Hombres","Mujeres","Hombres","Mujeres","Hombres","Mujeres","Hombres","Mujeres","Hombres","Mujeres","Hombres","Mujeres","Hombres","Mujeres","Hombres","Mujeres","Hombres","Mujeres","Hombres","Mujeres"]
["Enfermera",null,{"$f":"SUM(D108:E108)","v":0},{"$f":"SUM(F108+H108+J108+L108+N108+P108+R108+T108+V108+X108+Z108+AB108+AD108+AF108+AH108+AJ108+AL108)","v":0},{"$f":"SUM(G108+I108+K108+M108+O108+Q108+S108+U108+W108+Y108+AA108+AC108+AE108+AG108+AI108+AK108+AM108)","v":0},null,null,null,null,null,null,null,null,null,null,null,null,null,null,null,null,null,null,null,null,null,null,null,null,null,null,null,null,null,null,null,null,null,null,null,null,{"$f":"$CB108 & $CC108","v":""},null,null,null,null,null,null,null,null,null,null,null,null,null,null,null,null,null,null,null,null,null,null,null,null,null,null,null,null,null,null,null,null,null,null,null,null,null,{"$f":"IF(AND($C108<>0,AN108=\"\"),\"* No olvide ingresar la columna \"&AN$105&\"\"&\" (Digite CERO si no tiene).  \",IF(AN108>$C108,\" *La columna \"&AN$105&\"\"&\" no puede superar el Total. \",\"\"))","v":""},{"$f":"IF(AND($C108<>0,AO108=\"\"),\"* No olvide ingresar la columna \"&AO$105&\"\"&\" (Digite CERO si no tiene).  \",IF(AO108>$C108,\" *La columna \"&AO$105&\"\"&\" no puede superar el Total. \",\"\"))","v":""},null,null,null,null,null,null,null,{"$f":"IF(AND($C108<>0,AN108=\"\"),1,IF(AN108>$C108,1,0))","v":0},{"$f":"IF(AND($C108<>0,AO108=\"\"),1,IF(AO108>$C108,1,0))","v":0}]
["Matrón/a","Consulta Ginecológica",{"$f":"SUM(E109)","v":0},null,{"$f":"SUM(K109+M109+O109+Q109+S109+U109+W109+Y109+AA109+AC109+AE109+AG109+AI109+AK109+AM109)","v":0},null,null,null,null,null,null,null,null,null,null,null,null,null,null,null,null,null,null,null,null,null,null,null,null,null,null,null,null,null,null,null,null,null,null,null,null,{"$f":"$CB109 & $CC109","v":""},null,null,null,null,null,null,null,null,null,null,null,null,null,null,null,null,null,null,null,null,null,null,null,null,null,null,null,null,null,null,null,null,null,null,null,null,null,{"$f":"IF(AND($C109<>0,AN109=\"\"),\"* No olvide ingresar la columna \"&AN$105&\"\"&\" (Digite CERO si no tiene).  \",IF(AN109>$C109,\" *La columna \"&AN$105&\"\"&\" no puede superar el Total. \",\"\"))","v":""},{"$f":"IF(AND($C109<>0,AO109=\"\"),\"* No olvide ingresar la columna \"&AO$105&\"\"&\" (Digite CERO si no tiene).  \",IF(AO109>$C109,\" *La columna \"&AO$105&\"\"&\" no puede superar el Total. \",\"\"))","v":""},null,null,null,null,null,null,null,0,0]
["Nutricionista","Consulta Nutricional",{"$f":"SUM(D110:E110)","v":0},{"$f":"SUM(F110+H110+J110+L110+N110+P110+R110+T110+V110+X110+Z110+AB110+AD110+AF110+AH110+AJ110+AL110)","v":0},{"$f":"SUM(G110+I110+K110+M110+O110+Q110+S110+U110+W110+Y110+AA110+AC110+AE110+AG110+AI110+AK110+AM110)","v":0},null,null,null,null,null,null,null,null,null,null,null,null,null,null,null,null,null,null,null,null,null,null,null,null,null,null,null,null,null,null,null,null,null,null,null,null,"",null,null,null,null,null,null,null,null,null,null,null,null,null,null,null,null,null,null,null,null,null,null,null,null,null,null,null,null,null,null,null,null,null,null,null,null,null,{"$f":"IF(AND($C110<>0,AN110=\"\"),\"* No olvide ingresar la columna \"&AN$105&\"\"&\" (Digite CERO si no tiene).  \",IF(AN110>$C110,\" *La columna \"&AN$105&\"\"&\" no puede superar el Total. \",\"\"))","v":""},"",null,null,null,null,null,null,null,0,0]
["Psicólogo/a","Consulta Psicológica",0,{"$f":"SUM(F111+H111+J111+L111+N111+P111+R111+T111+V111+X111+Z111+AB111+AD111+AF111+AH111+AJ111+AL111)","v":0},0,null,null,null,null,null,null,null,null,null,null,null,null,null,null,null,null,null,null,null,null,null,null,null,null,null,null,null,null,null,null,null,null,null,null,null,null,"",null,null,null,null,null,null,null,null,null,null,null,null,null,null,null,null,null,null,null,null,null,null,null,null,null,null,null,null,null,null,null,null,null,null,null,null,null,"","",null,null,null,null,null,null,null,0,0]
["Terapeuta Ocupacional","Atención Terapia Ocupacional",0,0,0,null,null,null,null,null,null,null,null,null,null,null,null,null,null,null,null,null,null,null,null,null,null,null,null,null,null,null,null,null,null,null,null,null,null,null,null,"",null,null,null,null,null,null,null,null,null,null,null,null,null,null,null,null,null,null,null,null,null,null,null,null,null,null,null,null,null,null,null,null,null,null,null,null,null,"","",null,null,null,null,null,null,null,0,0]
["Fonoaudiólogo/a","Consultas Fonoaudiólogo/a",0,0,0,null,null,null,null,null,null,null,null,null,null,null,null,null,null,null,null,null,null,null,null,null,null,null,null,null,null,null,null,null,null,null,null,null,null,null,null,"",null,null,null,null,null,null,null,null,null,null,null,null,null,null,null,null,null,null,null,null,null,null,null,null,null,null,null,null,null,null,null,null,null,null,null,null,null,"","",null,null,null,null,null,null,null,0,0]
["Kinesiólogo/a","Atención Kinesiológica",{"$f":"SUM(D114:E114)","v":0},{"$f":"SUM(F114+H114+J114+L114+N114+P114+R114+T114+V114+X114+Z114+AB114+AD114+AF114+AH114+AJ114+AL114)","v":0},{"$f":"SUM(G114+I114+K114+M114+O114+Q114+S114+U114+W114+Y114+AA114+AC114+AE114+AG114+AI114+AK114+AM114)","v":0},null,null,null,null,null,null,null,null,null,null,null,null,null,null,null,null,null,null,null,null,null,null,null,null,null,null,null,null,null,null,null,null,null,null,null,null,"",null,null,null,null,null,null,null,null,null,null,null,null,null,null,null,null,null,null,null,null,null,null,null,null,null,null,null,null,null,null,null,null,null,null,null,null,null,"","",null,null,null,null,null,null,null,0,0]
["Trabajador/a Social ","Consulta Trabajador/a Social",0,0,0,null,null,null,null,null,null,null,null,null,null,null,null,null,null,null,null,null,null,null,null,null,null,null,null,null,null,null,null,null,null,null,null,null,null,null,null,"",null,null,null,null,null,null,null,null,null,null,null,null,null,null,null,null,null,null,null,null,null,null,null,null,null,null,null,null,null,null,null,null,null,null,null,null,null,"","",null,null,null,null,null,null,null,0,0]
["Tecnólogo/a Médico ","Atención Tecnólogo/a Médico",{"$f":"SUM(D116:E116)","v":0},{"$f":"SUM(F116+H116+J116+L116+N116+P116+R116+T116+V116+X116+Z116+AB116+AD116+AF116+AH116+AJ116+AL116)","v":0},{"$f":"SUM(G116+I116+K116+M116+O116+Q116+S116+U116+W116+Y116+AA116+AC116+AE116+AG116+AI116+AK116+AM116)","v":0},null,null,null,null,null,null,null,null,null,null,null,null,null,null,null,null,null,null,null,null,null,null,null,null,null,null,null,null,null,null,null,null,null,null,null,null,{"$f":"$CB116 & $CC116","v":""},null,null,null,null,null,null,null,null,null,null,null,null,null,null,null,null,null,null,null,null,null,null,null,null,null,null,null,null,null,null,null,null,null,null,null,null,null,{"$f":"IF(AND($C116<>0,AN116=\"\"),\"* No olvide ingresar la columna \"&AN$105&\"\"&\" (Digite CERO si no tiene).  \",IF(AN116>$C116,\" *La columna \"&AN$105&\"\"&\" no puede superar el Total. \",\"\"))","v":""},{"$f":"IF(AND($C116<>0,AO116=\"\"),\"* No olvide ingresar la columna \"&AO$105&\"\"&\" (Digite CERO si no tiene).  \",IF(AO116>$C116,\" *La columna \"&AO$105&\"\"&\" no puede superar el Total. \",\"\"))","v":""},null,null,null,null,null,null,null,0,0]
["Total de Atenciones y Consultas",null,{"$f":"SUM(D117:E117)","v":0},{"$f":"SUM(F117+H117+J117+L117+N117+P117+R117+T117+V117+X117+Z117+AB117+AD117+AF117+AH117+AJ117+AL117)","v":0},0,{"$f":"SUM(F110:F116)+F108","v":0},{"$f":"SUM(G110:G116)+G108","v":0},0,0,{"$f":"SUM(J110:J116)+J108","v":0},{"$f":"SUM(K108:K116)","v":0},{"$f":"SUM(L110:L116)+L108","v":0},{"$f":"SUM(M108:M116)","v":0},{"$f":"SUM(N110:N116)+N108","v":0},{"$f":"SUM(O108:O116)","v":0},{"$f":"SUM(P110:P116)+P108","v":0},{"$f":"SUM(Q108:Q116)","v":0},{"$f":"SUM(R110:R116)+R108","v":0},{"$f":"SUM(S108:S116)","v":0},{"$f":"SUM(T110:T116)+T108","v":0},{"$f":"SUM(U108:U116)","v":0},{"$f":"SUM(V110:V116)+V108","v":0},{"$f":"SUM(W108:W116)","v":0},{"$f":"SUM(X110:X116)+X108","v":0},{"$f":"SUM(Y108:Y116)","v":0},{"$f":"SUM(Z110:Z116)+Z108","v":0},{"$f":"SUM(AA108:AA116)","v":0},{"$f":"SUM(AB110:AB116)+AB108","v":0},{"$f":"SUM(AC108:AC116)","v":0},{"$f":"SUM(AD110:AD116)+AD108","v":0},{"$f":"SUM(AE108:AE116)","v":0},{"$f":"SUM(AF110:AF116)+AF108","v":0},{"$f":"SUM(AG108:AG116)","v":0},{"$f":"SUM(AH110:AH116)+AH108","v":0},{"$f":"SUM(AI108:AI116)","v":0},{"$f":"SUM(AJ110:AJ116)+AJ108","v":0},{"$f":"SUM(AK108:AK116)","v":0},{"$f":"SUM(AL110:AL116)+AL108","v":0},{"$f":"SUM(AM108:AM116)","v":0},{"$f":"SUM(AN108:AN116)","v":0},{"$f":"SUM(AO108:AO116)","v":0}]
[]
["SECCIÓN D: CAPACIDAD INSTALADA Y UTILIZACIÓN DE QUIRÓFANOS"]
["TIPO DE QUIRÓFANOS","NÚMERO DE QUIRÓFANOS EN DOTACIÓN","PROMEDIO MENSUAL DE QUIRÓFANOS HABILITADOS","PROMEDIO MENSUAL  DE QUIRÓFANOS EN TRABAJO","TOTAL  DE HORAS MENSUALES DE QUIRÓFANOS HABILITADOS (HORARIO HÁBIL)","TOTAL DE HORAS MENSUALES DE QUIRÓFANOS EN TRABAJO ","HORAS MENSUALES PROGRAMADAS DE TABLA QUIRÚRGICA DE QUIRÓFANOS EN TRABAJO, HORARIO HABIL",null,null,"HORAS MENSUALES OCUPADAS DE QUIRÓFANOS EN TRABAJO, HORARIO HABIL",null,null,null,"HORAS MENSUALES OCUPADAS DE QUIRÓFANOS EN TRABAJO, HORARIO INHABIL DE LUNES A VIERNES",null,null,null,"HORAS MENSUALES OCUPADAS DE QUIRÓFANOS EN TRABAJO, HORARIO SABADO, DOMINGO Y FESTIVO"]
[]
[null,null,null,null,null,null,"Totales","Beneficiarios MAI","Otros","Totales","Beneficiarios MAI","Otros","De preparación","Totales","Beneficiarios MAI","Otros","De preparación","Totales","Beneficiarios MAI","Otros","De preparación"]
["TOTAL QUIRÓFANOS",{"$f":"SUM(B124:B127)","v":0},{"$f":"SUM(C124:C127)","v":0},{"$f":"SUM(D124:D127)","v":0},0,0,0,0,0,{"$f":"SUM(J124:J127)","v":0},0,0,0,0,0,0,0,0,0,0,0]
["DE CIRUGÍA ELECTIVA",null,null,null,null,null,{"$f":"SUM(H124:I124)","v":0},null,null,{"$f":"SUM(K124:M124)","v":0},null,null,null,{"$f":"SUM(O124:Q124)","v":0},null,null,null,{"$f":"SUM(S124:U124)","v":0}]
["DE URGENCIA",null,null,null,null,null,{"$f":"SUM(H125:I125)","v":0},null,null,{"$f":"SUM(K125:M125)","v":0},null,null,null,{"$f":"SUM(O125:Q125)","v":0},null,null,null,{"$f":"SUM(S125:U125)","v":0}]
["OBSTÉTRICO",null,null,null,null,null,0,null,null,0,null,null,null,0,null,null,null,0]
["INDIFERENCIADO",null,null,null,null,null,0,null,null,0,null,null,null,0,null,null,null,0]
[]
["SECCIÓN E: CAUSAS DE SUSPENSIÓN DE CIRUGÍAS ELECTIVAS"]
["CAUSAS DE SUSPENSIÓN ATRIBUIBLES A:","Nº DE PERSONAS"]
[null,"TOTALES","Menores de 15 años","15 años y más"]
["PACIENTE",{"$f":"SUM(C132:D132)","v":0}]
["ADMINISTRATIVAS",{"$f":"SUM(C133:D133)","v":0}]
["UNIDAD DE APOYO CLÍNICO",0]
["EQUIPO QUIRÚRGICO",0]
["INFRAESTRUCTURA",0]
["EMERGENCIAS",0]
["GREMIALES",0]
["TOTAL",0,{"$f":"SUM(C132:C138)","v":0},{"$f":"SUM(D132:D138)","v":0}]
[]
["SECCIÓN F: PARTOS Y ABORTOS"]
["SECCIÓN F.1: PARTOS Y ABORTOS ATENDIDOS"]
["PARTOS","TOTAL","PARTOS PREMATUROS",null,null,null,"Pueblos Originarios","Migrantes"]
[null,null,"Partos prematuros menos de 24 semanas","Partos prematuros de 24 a 28 semanas","Partos prematuros de 29 a 32 semanas","Partos prematuros de 33 a 36 semanas"]
["Parto",{"$f":"'B2 ANEXO'!C2367+'B2 ANEXO'!C2368+'B2 ANEXO'!C2369","v":0},{"$f":"SUM(C146+C148+C151+C152)","v":0},{"$f":"SUM(D146+D148+D151+D152)","v":0},{"$f":"SUM(E146+E148+E151+E152)","v":0},{"$f":"SUM(F146+F148+F151+F152)","v":0},{"$f":"SUM(G146+G148)","v":0},{"$f":"SUM(H146+H148)","v":0},{"$f":"$CB145","v":""},null,null,null,null,null,null,null,null,null,null,null,null,null,null,null,null,null,null,null,null,null,null,null,null,null,null,null,null,null,null,null,null,null,null,null,null,null,null,null,null,null,null,null,null,null,null,null,null,null,null,null,null,null,null,null,null,null,null,null,null,null,null,null,null,null,null,null,null,null,null,{"$f":"IF(B145<(B146+B148),\"* La suma de las filas Normal/Vaginal y Distócico vaginal no debe ser superior a la fila PARTOS. \",\"\")","v":""},null,null,null,null,null,null,null,null,{"$f":"IF(B145<(B146+B148),1,0)","v":0}]
["       Normal/Vaginal",null,null,null,null,null,null,null,{"$f":"$CB146 & $CC146&CD146&CE146&CF146&CG146&CH146&CI146","v":""},null,null,null,null,null,null,null,null,null,null,null,null,null,null,null,null,null,null,null,null,null,null,null,null,null,null,null,null,null,null,null,null,null,null,null,null,null,null,null,null,null,null,null,null,null,null,null,null,null,null,null,null,null,null,null,null,null,null,null,null,null,null,null,null,null,null,null,null,null,null,null,{"$f":"IF(AND($B146<>0,C146=\"\"),\"* No olvide ingresar la columna \"&C$144&\"\"&\" (Digite CERO si no tiene).   \",\"\")","v":""},{"$f":"IF(AND($B146<>0,D146=\"\"),\"* No olvide ingresar la columna \"&D$144&\"\"&\" (Digite CERO si no tiene). \",\"\")","v":""},{"$f":"IF(AND($B146<>0,E146=\"\"),\"* No olvide ingresar la columna \"&E$144&\"\"&\" (Digite CERO si no tiene).  \",\"\")","v":""},{"$f":"IF(AND($B146<>0,F146=\"\"),\"* No olvide ingresar la columna \"&F$144&\"\"&\" (Digite CERO si no tiene).  \",\"\")","v":""},null,{"$f":"IF(AND($B146>0,G146=\"\"),\"* No olvide ingresar la columna \"&G$143&\"\"&\" (Digite CERO si no tiene).  \",IF(G146>$B146,\" *La columna \"&G$143&\"\"&\" no puede superar el Total. \",\"\"))","v":""},{"$f":"IF(AND($B146>0,H146=\"\"),\"* No olvide ingresar la columna \"&H$143&\"\"&\" (Digite CERO si no tiene).  \",IF(H146>$B146,\" *La columna \"&H$143&\"\"&\" no puede superar el Total. \",\"\"))","v":""},null,null,{"$f":"IF(AND($B146<>0,C146=\"\"),1,0)","v":0},{"$f":"IF(AND($B146<>0,D146=\"\"),1,0)","v":0},{"$f":"IF(AND($B146<>0,E146=\"\"),1,0)","v":0},{"$f":"IF(AND($B146<>0,F146=\"\"),1,0)","v":0},null,{"$f":"IF(AND($B146<>0,G146=\"\"),1,IF(G146>$B146,1,0))","v":0},0]
["            Parto normal vertical (*)",null,null,null,null,null,null,null,{"$f":"$CB147 & $CC147&CD147&CE147&CF147&CG147&CH147&CI147","v":""},null,null,null,null,null,null,null,null,null,null,null,null,null,null,null,null,null,null,null,null,null,null,null,null,null,null,null,null,null,null,null,null,null,null,null,null,null,null,null,null,null,null,null,null,null,null,null,null,null,null,null,null,null,null,null,null,null,null,null,null,null,null,null,null,null,null,null,null,null,null,{"$f":"IF(B146<B147,\"* La fila Parto normal vertical no debe ser mayor a la fila Normal/vaginal. \",\"\")","v":""},null,null,null,null,null,{"$f":"IF(AND($B147>0,G147=\"\"),\"* No olvide ingresar la columna \"&G$143&\"\"&\" (Digite CERO si no tiene).  \",IF(G147>$B147,\" *La columna \"&G$143&\"\"&\" no puede superar el Total. \",\"\"))","v":""},{"$f":"IF(AND($B147>0,H147=\"\"),\"* No olvide ingresar la columna \"&H$143&\"\"&\" (Digite CERO si no tiene).  \",IF(H147>$B147,\" *La columna \"&H$143&\"\"&\" no puede superar el Total. \",\"\"))","v":""},null,{"$f":"IF(B146<B147,1,0)","v":0},null,null,null,null,null,0,0]
["      Distócico vaginal",null,null,null,null,null,null,null,"",null,null,null,null,null,null,null,null,null,null,null,null,null,null,null,null,null,null,null,null,null,null,null,null,null,null,null,null,null,null,null,null,null,null,null,null,null,null,null,null,null,null,null,null,null,null,null,null,null,null,null,null,null,null,null,null,null,null,null,null,null,null,null,null,null,null,null,null,null,null,null,{"$f":"IF(AND($B148<>0,C148=\"\"),\"* No olvide ingresar la columna \"&C$144&\"\"&\" (Digite CERO si no tiene).   \",\"\")","v":""},{"$f":"IF(AND($B148<>0,D148=\"\"),\"* No olvide ingresar la columna \"&D$144&\"\"&\" (Digite CERO si no tiene). \",\"\")","v":""},{"$f":"IF(AND($B148<>0,E148=\"\"),\"* No olvide ingresar la columna \"&E$144&\"\"&\" (Digite CERO si no tiene).  \",\"\")","v":""},{"$f":"IF(AND($B148<>0,F148=\"\"),\"* No olvide ingresar la columna \"&F$144&\"\"&\" (Digite CERO si no tiene).  \",\"\")","v":""},null,"","",null,null,{"$f":"IF(AND($B148<>0,C148=\"\"),1,0)","v":0},{"$f":"IF(AND($B148<>0,D148=\"\"),1,0)","v":0},{"$f":"IF(AND($B148<>0,E148=\"\"),1,0)","v":0},{"$f":"IF(AND($B148<>0,F148=\"\"),1,0)","v":0},null,0,0]
["           Parto fuera establecimiento de salud (**)",null,null,null,null,null,null,null,"",null,null,null,null,null,null,null,null,null,null,null,null,null,null,null,null,null,null,null,null,null,null,null,null,null,null,null,null,null,null,null,null,null,null,null,null,null,null,null,null,null,null,null,null,null,null,null,null,null,null,null,null,null,null,null,null,null,null,null,null,null,null,null,null,null,null,null,null,null,null,{"$f":"IF(B149>(B145),\"* El total de Parto fuera establecimiento de salud no debe ser superior al Total de Partos\",\"\")","v":""},null,null,null,null,null,"","",null,{"$f":"IF(B149>(B145),1,0)","v":0},null,null,null,null,null,{"$f":"IF(AND($B149<>0,G149=\"\"),1,IF(G149>$B149,1,0))","v":0},{"$f":"IF(AND($B149<>0,H149=\"\"),1,IF(H149>$B149,1,0))","v":0}]
["Cesárea",{"$f":"'B2 ANEXO'!C2365+'B2 ANEXO'!C2366","v":0},null,null,null,null,{"$f":"SUM(G151:G152)","v":0},{"$f":"SUM(H151:H152)","v":0},"",null,null,null,null,null,null,null,null,null,null,null,null,null,null,null,null,null,null,null,null,null,null,null,null,null,null,null,null,null,null,null,null,null,null,null,null,null,null,null,null,null,null,null,null,null,null,null,null,null,null,null,null,null,null,null,null,null,null,null,null,null,null,null,null,null,null,null,null,null,null,{"$f":"IF(B150<(B151+B152),\"* Las filas Cesárea electiva y Cesárea urgencia no deben ser superior a la fila Cesárea. \",\"\")","v":""},null,null,null,null,null,null,null,null,{"$f":"IF(B150<(B151+B152),1,0)","v":0}]
["      Cesárea electiva",null,null,null,null,null,null,null,"",null,null,null,null,null,null,null,null,null,null,null,null,null,null,null,null,null,null,null,null,null,null,null,null,null,null,null,null,null,null,null,null,null,null,null,null,null,null,null,null,null,null,null,null,null,null,null,null,null,null,null,null,null,null,null,null,null,null,null,null,null,null,null,null,null,null,null,null,null,null,null,{"$f":"IF(AND($B151<>0,C151=\"\"),\"* No olvide ingresar la columna \"&C$144&\"\"&\" (Digite CERO si no tiene).   \",\"\")","v":""},{"$f":"IF(AND($B151<>0,D151=\"\"),\"* No olvide ingresar la columna \"&D$144&\"\"&\" (Digite CERO si no tiene). \",\"\")","v":""},{"$f":"IF(AND($B151<>0,E151=\"\"),\"* No olvide ingresar la columna \"&E$144&\"\"&\" (Digite CERO si no tiene).  \",\"\")","v":""},{"$f":"IF(AND($B151<>0,F151=\"\"),\"* No olvide ingresar la columna \"&F$144&\"\"&\" (Digite CERO si no tiene).  \",\"\")","v":""},null,{"$f":"IF(AND($B151>0,G151=\"\"),\"* No olvide ingresar la columna \"&G$143&\"\"&\" (Digite CERO si no tiene).  \",IF(G151>$B151,\" *La columna \"&G$143&\"\"&\" no puede superar el Total. \",\"\"))","v":""},{"$f":"IF(AND($B151>0,H151=\"\"),\"* No olvide ingresar la columna \"&H$143&\"\"&\" (Digite CERO si no tiene).  \",IF(H151>$B151,\" *La columna \"&H$143&\"\"&\" no puede superar el Total. \",\"\"))","v":""},null,null,{"$f":"IF(AND($B151<>0,C151=\"\"),1,0)","v":0},{"$f":"IF(AND($B151<>0,D151=\"\"),1,0)","v":0},{"$f":"IF(AND($B151<>0,E151=\"\"),1,0)","v":0},{"$f":"IF(AND($B151<>0,F151=\"\"),1,0)","v":0},null,{"$f":"IF(AND($B151<>0,G151=\"\"),1,IF(G151>$B151,1,0))","v":0},{"$f":"IF(AND($B151<>0,H151=\"\"),1,IF(H151>$B151,1,0))","v":0}]
["     Cesárea urgencia",null,null,null,null,null,null,null,"",null,null,null,null,null,null,null,null,null,null,null,null,null,null,null,null,null,null,null,null,null,null,null,null,null,null,null,null,null,null,null,null,null,null,null,null,null,null,null,null,null,null,null,null,null,null,null,null,null,null,null,null,null,null,null,null,null,null,null,null,null,null,null,null,null,null,null,null,null,null,null,"","","","",null,"","",null,null,0,0,0,0,null,{"$f":"IF(AND($B152<>0,G152=\"\"),1,IF(G152>$B152,1,0))","v":0},{"$f":"IF(AND($B152<>0,H152=\"\"),1,IF(H152>$B152,1,0))","v":0}]
["Abortos",{"$f":"'B2 ANEXO'!C2361+'B2 ANEXO'!C2362+'B2 ANEXO'!C2363","v":0},null,null,null,null,null,null,"",null,null,null,null,null,null,null,null,null,null,null,null,null,null,null,null,null,null,null,null,null,null,null,null,null,null,null,null,null,null,null,null,null,null,null,null,null,null,null,null,null,null,null,null,null,null,null,null,null,null,null,null,null,null,null,null,null,null,null,null,null,null,null,null,null,null,null,null,null,null,null,null,null,null,null,null,"","",null,null,null,null,null,null,null,{"$f":"IF(AND($B153<>0,G153=\"\"),1,IF(G153>$B153,1,0))","v":0},{"$f":"IF(AND($B153<>0,H153=\"\"),1,IF(H153>$B153,1,0))","v":0}]
["Embarazo no controlado",null,null,null,null,null,null,null,"",null,null,null,null,null,null,null,null,null,null,null,null,null,null,null,null,null,null,null,null,null,null,null,null,null,null,null,null,null,null,null,null,null,null,null,null,null,null,null,null,null,null,null,null,null,null,null,null,null,null,null,null,null,null,null,null,null,null,null,null,null,null,null,null,null,null,null,null,null,null,null,null,null,null,null,null,"","",null,null,null,null,null,null,null,{"$f":"IF(AND($B154<>0,G154=\"\"),1,IF(G154>$B154,1,0))","v":0},0]
["Entrega de placenta a solicitud de la mujer",null,null,null,null,null,null,null,"",null,null,null,null,null,null,null,null,null,null,null,null,null,null,null,null,null,null,null,null,null,null,null,null,null,null,null,null,null,null,null,null,null,null,null,null,null,null,null,null,null,null,null,null,null,null,null,null,null,null,null,null,null,null,null,null,null,null,null,null,null,null,null,null,null,null,null,null,null,null,null,null,null,null,null,null,{"$f":"IF(AND($B155>0,G155=\"\"),\"* No olvide ingresar la columna \"&G$143&\"\"&\" (Digite CERO si no tiene).  \",IF(G155>$B155,\" *La columna \"&G$143&\"\"&\" no puede superar el Total. \",\"\"))","v":""},"",null,null,null,null,null,null,null,{"$f":"IF(AND($B155<>0,G155=\"\"),1,IF(G155>$B155,1,0))","v":0},0]
["TOTAL",{"$f":"SUM(B145+B153+B150)","v":0},null,null,null,null,{"$f":"SUM(G153:G155)+G150+G145","v":0},{"$f":"SUM(H153:H155)+H150+H145","v":0}]
["(*) Incluido en Parto Normal"]
["(**) Están incluido cualquier tipo de Parto"]
[]
["SECCIÓN F.2: INTERRUPCIÓN VOLUNTARIA DEL EMBARAZO (IVE)"]
["CAUSALES","TOTAL      ","POR GRUPO DE EDAD (AÑOS)",null,null,null,null,null,null,null,null,null,"ABORTO",null,null,"PARTO",null,null,"Pueblos Originarios","Migrantes"]
[null,null,"Menor de 14 años","14 a 19 años","20 a 24 años","25 a 29 años","30 a 34 años","35 a 39 años","40 a 44 años","45 a 49 años","50 a 54 años","55 y más años","Hasta 12 semanas y cero días","De 12 semanas y un día hasta 14 semanas y cero días","De 14 semanas y un día hasta 21 semanas y 6 días","Partos vaginales inducidos","Cesáreas","Beneficiarias FONASA"]
["TOTAL",{"$f":"SUM(B164:B166)","v":0},{"$f":"SUM(C164:C166)","v":0},{"$f":"SUM(D164:D166)","v":0},0,0,0,0,0,0,0,0,{"$f":"SUM(M164:M166)","v":0},0,{"$f":"SUM(O164:O165)","v":0},{"$f":"SUM(P164:P165)","v":0},{"$f":"SUM(Q164:Q165)","v":0},{"$f":"SUM(R164:R166)","v":0},{"$f":"SUM(S164:S166)","v":0},{"$f":"SUM(T164:T166)","v":0},null,null,null,null,null,null,null,null,null,null,null,null,null,null,null,null,null,null,null,null,null,null,null,null,null,null,null,null,null,null,null,null,null,null,null,null,null,null,null,null,null,null,null,null,null,null,null,null,null,null,null,null,null,null,null,null,null,null,null,"",null,null,"",null,"",""]
["Causal N° 1: Mujer embarazada con riesgo vital",{"$f":"SUM(C164:L164)","v":0},null,null,null,null,null,null,null,null,null,null,null,null,null,null,null,null,null,null,{"$f":"CC164&CD164&CE164&CF164","v":""},null,null,null,null,null,null,null,null,null,null,null,null,null,null,null,null,null,null,null,null,null,null,null,null,null,null,null,null,null,null,null,null,null,null,null,null,null,null,null,null,null,null,null,null,null,null,null,null,null,null,null,null,null,null,null,null,null,null,null,{"$f":"IF(AND($B164<>0,R164=\"\"),\"* No olvide ingresar la columna \"&R$162&\"\"&\" (Digite CERO si no tiene).  \",IF(R164>$B164,\" *La columna \"&R$162&\"\"&\" no puede superar el Total. \",\"\"))","v":""},{"$f":"IF(AND($B164<>0,S164=\"\"),\"* No olvide ingresar la columna \"&S$161&\"\"&\" (Digite CERO si no tiene).  \",IF(S164>$B164,\" *La columna \"&S$161&\"\"&\" no puede superar el Total. \",\"\"))","v":""},{"$f":"IF(AND($B164<>0,T164=\"\"),\"* No olvide ingresar la columna \"&T$161&\"\"&\" (Digite CERO si no tiene).  \",IF(T164>$B164,\" *La columna \"&T$161&\"\"&\" no puede superar el Total. \",\"\"))","v":""},null,null,null,null,null,null,{"$f":"IF(AND($B164<>0,R164=\"\"),1,IF(R164>$B164,1,0))","v":0},0,0]
["Causal N° 2: Inviabilidad fetal de carácter letal",{"$f":"SUM(C165:L165)","v":0},null,null,null,null,null,null,null,null,null,null,null,null,null,null,null,null,null,null,{"$f":"CC165&CD165&CE165&CF165","v":""},null,null,null,null,null,null,null,null,null,null,null,null,null,null,null,null,null,null,null,null,null,null,null,null,null,null,null,null,null,null,null,null,null,null,null,null,null,null,null,null,null,null,null,null,null,null,null,null,null,null,null,null,null,null,null,null,null,null,null,{"$f":"IF(AND($B165<>0,R165=\"\"),\"* No olvide ingresar la columna \"&R$162&\"\"&\" (Digite CERO si no tiene).  \",IF(R165>$B165,\" *La columna \"&R$162&\"\"&\" no puede superar el Total. \",\"\"))","v":""},{"$f":"IF(AND($B165<>0,S165=\"\"),\"* No olvide ingresar la columna \"&S$161&\"\"&\" (Digite CERO si no tiene).  \",IF(S165>$B165,\" *La columna \"&S$161&\"\"&\" no puede superar el Total. \",\"\"))","v":""},{"$f":"IF(AND($B165<>0,T165=\"\"),\"* No olvide ingresar la columna \"&T$161&\"\"&\" (Digite CERO si no tiene).  \",IF(T165>$B165,\" *La columna \"&T$161&\"\"&\" no puede superar el Total. \",\"\"))","v":""},null,null,null,null,null,null,0,0,0]
["Causal N° 3: Por violación",0,null,null,null,null,null,null,null,null,null,null,null,null,null,null,null,null,null,null,{"$f":"CC166&CD166&CE166&CF166","v":""},null,null,null,null,null,null,null,null,null,null,null,null,null,null,null,null,null,null,null,null,null,null,null,null,null,null,null,null,null,null,null,null,null,null,null,null,null,null,null,null,null,null,null,null,null,null,null,null,null,null,null,null,null,null,null,null,null,null,null,"","","",null,null,null,null,null,null,0,0,0]
[]
["SECCIÓN G: INFORMACIÓN RECIÉN NACIDOS"]
["SECCIÓN G.1: RECIÉN NACIDOS VIVOS Y FALLECIDOS SEGÚN PESO AL NACER"]
["TIPO","TOTAL","PESO AL NACER (EN GRAMOS)",null,null,null,null,null,null,null,"FENILQUETONURIA (PKU) E HIPOTIROIDISMO CONGÉNITO (HC)"]
[null,null,"Menos de 500","De 500 a 999","De 1.000 a 1.499","De 1.500 a 1.999","De 2.000 a 2.499","De 2.500 a 2.999","De 3.000 a 3.999","De 4.000 y \nmás","Primeras Muestras","Muestras Repetidas"]
["Nacidos vivos",{"$f":"SUM(C172:J172)","v":0},null,null,null,null,null,null,null,null,null,null,{"$f":"$CB172 & $CC172 &  CD172","v":""},null,null,null,null,null,null,null,null,null,null,null,null,null,null,null,null,null,null,null,null,null,null,null,null,null,null,null,null,null,null,null,null,null,null,null,null,null,null,null,null,null,null,null,null,null,null,null,null,null,null,null,null,null,null,null,null,null,null,null,null,null,null,null,null,null,null,{"$f":"IF(B172<>(C172+D172+E172+F172+G172+H172+I172+J172),\"* La suma de los campos \"&C$170&\"\"&\" debe ser igual al Total. \",\"\")","v":""},{"$f":"IF(AND($B172<>0,K172=\"\"),\"* No olvide ingresar la celda FENILQUETONURIA (PKU) E HIPOTIROIDISMO CONGÉNITO (HC) \"&K$171&\"\"&\" (Digite CERO si no tiene).  \",IF(K172>$B172,\" *La Celda FENILQUETONURIA (PKU) E HIPOTIROIDISMO CONGÉNITO (HC) \"&K$171&\"\"&\" no puede superar el Total. \",\"\"))","v":""},{"$f":"IF(AND($B172<>0,L172=\"\"),\"* No olvide ingresar la celda FENILQUETONURIA (PKU) E HIPOTIROIDISMO CONGÉNITO (HC) \"&L$171&\"\"&\" (Digite CERO si no tiene).  \",IF(L172>$B172,\" *La Celda FENILQUETONURIA (PKU) E HIPOTIROIDISMO CONGÉNITO (HC) \"&L$171&\"\"&\" no puede superar el Total. \",\"\"))","v":""},null,null,null,null,null,null,{"$f":"IF(AND($B172<>0,K172=\"\"),1,IF(K172>$B172,1,0))","v":0},{"$f":"IF(AND($B172<>0,L172=\"\"),1,IF(L172>$B172,1,0))","v":0}]
["Nacidos fallecidos",{"$f":"SUM(C173:J173)","v":0},null,null,null,null,null,null,null,null,null,null,null,null,null,null,null,null,null,null,null,null,null,null,null,null,null,null,null,null,null,null,null,null,null,null,null,null,null,null,null,null,null,null,null,null,null,null,null,null,null,null,null,null,null,null,null,null,null,null,null,null,null,null,null,null,null,null,null,null,null,null,null,null,null,null,null,null,null,{"$f":"IF(B173<>(C173+D173+E173+F173+G173+H173+I173+J173),\"* La suma de los campos \"&C$170&\"\"&\" debe ser igual al Total. \",\"\")","v":""}]
[]
["SECCIÓN G.2: RECIÉN NACIDO CON MALFORMACIÓN CONGÉNITA"]
["TIPO","TOTAL",""]
["Nacidos vivos",null,{"$f":"CB177","v":""},null,null,null,null,null,null,null,null,null,null,null,null,null,null,null,null,null,null,null,null,null,null,null,null,null,null,null,null,null,null,null,null,null,null,null,null,null,null,null,null,null,null,null,null,null,null,null,null,null,null,null,null,null,null,null,null,null,null,null,null,null,null,null,null,null,null,null,null,null,null,null,null,null,null,null,null,{"$f":"IF(CK177=1,\"* Total Nacidos Vivos con Malformación Congénita NO DEBE ser MAYOR a Nacidos Vivos según peso al Nacer.\",\"\")","v":""},null,null,null,null,null,null,null,null,{"$f":"IF(B177>B172,1,0)","v":0}]
["Nacidos fallecidos",null,{"$f":"CB178","v":""},null,null,null,null,null,null,null,null,null,null,null,null,null,null,null,null,null,null,null,null,null,null,null,null,null,null,null,null,null,null,null,null,null,null,null,null,null,null,null,null,null,null,null,null,null,null,null,null,null,null,null,null,null,null,null,null,null,null,null,null,null,null,null,null,null,null,null,null,null,null,null,null,null,null,null,null,{"$f":"IF(CK178=1,\"* Total Nacidos Fallecidos con Malformación Congénita NO DEBE ser MAYOR a Nacidos Fallecidos según peso al Nacer.\",\"\")","v":""},null,null,null,null,null,null,null,null,{"$f":"IF(B178>B173,1,0)","v":0}]
[]
["SECCIÓN G.3: APGAR MENOR O IGUAL A 3 AL MINUTO Y APGAR MENOR O IGUAL A 6 A LOS 5 MINUTOS"]
["TIPO",null,"APGAR MENOR O IGUAL A 3, AL MINUTO","APGAR MENOR O IGUAL A 6, A LOS 5 MINUTOS"]
["Nacidos Vivos"]
[]
["SECCIÓN H: ESTERILIZACIONES SEGÚN SEXO (*)"]
["SEXO","TOTAL","GRUPO DE EDAD (AÑOS)"]
[null,null,"Menor de 20 años","20 - 34 años","35 y más años"]
["Mujer",{"$f":"SUM(C187:E187)","v":0},null,null,null,{"$f":"$CB187 & $CC187 &CD187","v":""},null,null,null,null,null,null,null,null,null,null,null,null,null,null,null,null,null,null,null,null,null,null,null,null,null,null,null,null,null,null,null,null,null,null,null,null,null,null,null,null,null,null,null,null,null,null,null,null,null,null,null,null,null,null,null,null,null,null,null,null,null,null,null,null,null,null,null,null,null,null,null,null,null,{"$f":"IF(B187<>(C187+D187+E187),\"* La suma de los campos GRUPO DE EDAD debe ser igual al Total. \",\"\")","v":""},{"$f":"IF(B187<>0, IF(C187+D187+E187=\"\",\"* No olvide digitar el campo GRUPO DE EDAD (Digite CERO si no tiene). \",\"\"),\"\")","v":""},{"$f":"IF(B187<C187+D187+E187,\"* El campo GRUPO DE EDAD no debe ser mayor al total. \",\"\")","v":""},null,null,null,null,null,null,{"$f":"IF(B187<(C187+D187+E187),1,0)","v":0},{"$f":"IF(B187<>0, IF(C187+D187+E187=\"\",1,0),0)","v":0},{"$f":"IF(B187<C187+D187+E187,1,0)","v":0}]
["Hombre",0,null,null,null,{"$f":"$CB188 & $CC188 &CD188","v":""},null,null,null,null,null,null,null,null,null,null,null,null,null,null,null,null,null,null,null,null,null,null,null,null,null,null,null,null,null,null,null,null,null,null,null,null,null,null,null,null,null,null,null,null,null,null,null,null,null,null,null,null,null,null,null,null,null,null,null,null,null,null,null,null,null,null,null,null,null,null,null,null,null,{"$f":"IF(B188<>(C188+D188+E188),\"* La suma de los campos GRUPO DE EDAD debe ser igual al Total. \",\"\")","v":""},{"$f":"IF(B188<>0, IF(C188+D188+E188=\"\",\"* No olvide digitar el campo GRUPO DE EDAD (Digite CERO si no tiene). \",\"\"),\"\")","v":""},{"$f":"IF(B188<C188+D188+E188,\"* El campo GRUPO DE EDAD no debe ser mayor al total. \",\"\")","v":""},null,null,null,null,null,null,{"$f":"IF(B188<(C188+D188+E188),1,0)","v":0},{"$f":"IF(B188<>0, IF(C188+D188+E188=\"\",1,0),0)","v":0},{"$f":"IF(B188<C188+D188+E188,1,0)","v":0}]
["TOTAL DE ESTERILIZACIONES",{"$f":"SUM(C189:E189)","v":0},{"$f":"SUM(C187:C188)","v":0},{"$f":"SUM(D187:D188)","v":0},{"$f":"SUM(E187:E188)","v":0}]
["(*) Prestación incluida en Intervenciones Quirúrgicas o procedimientos que corresponda"]
[]
["SECCIÓN I: EGRESOS DE MATERNIDAD Y NEONATOLOGÍA, SEGÚN LACTANCIA MATERNA EXCLUSIVA"]
["CRITERIOS DE EGRESOS SEGÚN TIPO DE ALIMENTACIÓN","Maternidad ","Neonatología","Pueblos Originarios","Migrantes"]
["EGRESADOS CON LACTANCIA MATERNA EXCLUSIVA ",null,null,null,null,{"$f":"$CB194 & CC194","v":""},null,null,null,null,null,null,null,null,null,null,null,null,null,null,null,null,null,null,null,null,null,null,null,null,null,null,null,null,null,null,null,null,null,null,null,null,null,null,null,null,null,null,null,null,null,null,null,null,null,null,null,null,null,null,null,null,null,null,null,null,null,null,null,null,null,null,null,null,null,null,null,null,null,{"$f":"IF(AND($B194<>0,D194=\"\"),\"* No olvide ingresar la columna \"&D$193&\"\"&\" (Digite CERO si no tiene).  \",IF(D194>$B194,\" *La columna \"&D$193&\"\"&\" no puede superar el Total. \",\"\"))","v":""},{"$f":"IF(AND($B194<>0,E194=\"\"),\"* No olvide ingresar la columna \"&E$193&\"\"&\" (Digite CERO si no tiene).  \",IF(E194>$B194,\" *La columna \"&E$193&\"\"&\" no puede superar el Total. \",\"\"))","v":""},null,null,null,null,null,null,null,{"$f":"IF(AND($B194<>0,D194=\"\"),1,IF(D194>$B194,1,0))","v":0},0]
["EGRESADOS QUE MANTUVIERON LACTANCIA MATERNA EXCLUSIVA DURANTE LA HOSPITALIZACIÓN Y AL ALTA  *",null,null,null,null,{"$f":"$CB195 & CC195","v":""},null,null,null,null,null,null,null,null,null,null,null,null,null,null,null,null,null,null,null,null,null,null,null,null,null,null,null,null,null,null,null,null,null,null,null,null,null,null,null,null,null,null,null,null,null,null,null,null,null,null,null,null,null,null,null,null,null,null,null,null,null,null,null,null,null,null,null,null,null,null,null,null,null,{"$f":"IF(AND($B195<>0,D195=\"\"),\"* No olvide ingresar la columna \"&D$193&\"\"&\" (Digite CERO si no tiene).  \",IF(D195>$B195,\" *La columna \"&D$193&\"\"&\" no puede superar el Total. \",\"\"))","v":""},{"$f":"IF(AND($B195<>0,E195=\"\"),\"* No olvide ingresar la columna \"&E$193&\"\"&\" (Digite CERO si no tiene).  \",IF(E195>$B195,\" *La columna \"&E$193&\"\"&\" no puede superar el Total. \",\"\"))","v":""},null,null,null,null,null,null,null,0,0]
["EGRESADOS CON MADRES SEROLOGÍA POSITIVA (VIH) ",null,null,null,null,"",null,null,null,null,null,null,null,null,null,null,null,null,null,null,null,null,null,null,null,null,null,null,null,null,null,null,null,null,null,null,null,null,null,null,null,null,null,null,null,null,null,null,null,null,null,null,null,null,null,null,null,null,null,null,null,null,null,null,null,null,null,null,null,null,null,null,null,null,null,null,null,null,null,"","",null,null,null,null,null,null,null,0,0]
["EGRESADOS CON MADRES SEROLOGÍA POSITIVA   (HTLV-1)",null,null,null,null,"",null,null,null,null,null,null,null,null,null,null,null,null,null,null,null,null,null,null,null,null,null,null,null,null,null,null,null,null,null,null,null,null,null,null,null,null,null,null,null,null,null,null,null,null,null,null,null,null,null,null,null,null,null,null,null,null,null,null,null,null,null,null,null,null,null,null,null,null,null,null,null,null,null,"","",null,null,null,null,null,null,null,0,0]
["EGRESADOS CON MADRES ACOGIDAS A LA LEY 21.155 (Derecho a no amamantar)",null,null,null,null,"",null,null,null,null,null,null,null,null,null,null,null,null,null,null,null,null,null,null,null,null,null,null,null,null,null,null,null,null,null,null,null,null,null,null,null,null,null,null,null,null,null,null,null,null,null,null,null,null,null,null,null,null,null,null,null,null,null,null,null,null,null,null,null,null,null,null,null,null,null,null,null,null,null,"","",null,null,null,null,null,null,null,0,0]
["TOTAL DE EGRESOS",null,null,null,null,"",null,null,null,null,null,null,null,null,null,null,null,null,null,null,null,null,null,null,null,null,null,null,null,null,null,null,null,null,null,null,null,null,null,null,null,null,null,null,null,null,null,null,null,null,null,null,null,null,null,null,null,null,null,null,null,null,null,null,null,null,null,null,null,null,null,null,null,null,null,null,null,null,null,"","",null,null,null,null,null,null,null,0,0]
["*Contenidos en egresos con lactancia materna exclusiva",null,null,null,null,null,null,null,null,null,null,null,null,null,null,null,null,null,null,null,null,null,null,null,null,null,null,null,null,null,null,null,null,null,null,null,null,null,null,null,null,null,null,null,null,null,null,null,null,null,null,null,null,null,null,null,null,null,null,null,null,null,null,null,null,null,null,null,null,null,null,null,null,null,null,null,null,null,null,"","",null,null,null,null,null,null,null,0,0]
[]
["SECCIÓN J: TIPOS DE LACTANCIA EN NIÑOS Y NIÑAS AL EGRESO DE LA HOSPITALIZACIÓN"]
["TIPO DE ALIMENTACIÓN","TOTAL",null,null,"POR RANGO ETARIO",null,null,null,null,null,null,null,null,null,"Pueblos Originarios","Migrantes"]
[null,null,null,null," De 0 a 29 días",null,"De 1 a 2 meses 29 días",null,"De 3 a 5 meses 29 días",null,"De 6 a 11 meses 29 días",null,"De 1 año a 2 años"]
[null,"Ambos Sexos","Hombres","Mujeres","Hombres","Mujeres","Hombres","Mujeres","Hombres","Mujeres","Hombres","Mujeres","Hombres","Mujeres",null,"Mujeres"]
["LACTANCIA MATERNA EXCLUSIVA",{"$f":"SUM(C206:D206)","v":0},{"$f":"SUM(E206+G206+I206+K206)","v":0},{"$f":"SUM(F206+H206+J206+L206)","v":0},null,null,null,null,null,null,null,null,null,null,null,null,{"$f":"$CB206 & CC206 & CD206","v":""},null,null,null,null,null,null,null,null,null,null,null,null,null,null,null,null,null,null,null,null,null,null,null,null,null,null,null,null,null,null,null,null,null,null,null,null,null,null,null,null,null,null,null,null,null,null,null,null,null,null,null,null,null,null,null,null,null,null,null,null,null,null,{"$f":"IF(B206<>(C206+D206),\"* La suma de los campos Hombres + Mujeres debe ser igual al Total. \",\"\")","v":""},{"$f":"IF(AND($B206<>0,O206=\"\"),\"* No olvide ingresar la columna \"&O$203&\"\"&\" (Digite CERO si no tiene).  \",IF(O206>$B206,\" *La columna \"&O$203&\"\"&\" no puede superar el Total Ambos Sexos. \",\"\"))","v":""},{"$f":"IF(AND($B206<>0,P206=\"\"),\"* No olvide ingresar la columna \"&P$203&\"\"&\" (Digite CERO si no tiene).  \",IF(P206>$B206,\" *La columna \"&P$203&\"\"&\" no puede superar el Total Ambos Sexos. \",\"\"))","v":""},null,null,null,null,null,null,{"$f":"IF(C206+D206<>B206,1,0)","v":0},{"$f":"IF(AND($B206<>0,O206=\"\"),1,IF(O206>$B206,1,0))","v":0},0]
["LACTANCIA MATERNA MÁS LACTANCIA ARTIFICIAL",{"$f":"SUM(C207:D207)","v":0},{"$f":"SUM(E207+G207+I207+K207)","v":0},{"$f":"SUM(F207+H207+J207+L207)","v":0},null,null,null,null,null,null,null,null,null,null,null,null,{"$f":"$CB207 & CC207 & CD207","v":""},null,null,null,null,null,null,null,null,null,null,null,null,null,null,null,null,null,null,null,null,null,null,null,null,null,null,null,null,null,null,null,null,null,null,null,null,null,null,null,null,null,null,null,null,null,null,null,null,null,null,null,null,null,null,null,null,null,null,null,null,null,null,{"$f":"IF(B207<>(C207+D207),\"* La suma de los campos Hombres y Mujeres debe ser igual al Total. \",\"\")","v":""},{"$f":"IF(AND($B207<>0,O207=\"\"),\"* No olvide ingresar la columna \"&O$203&\"\"&\" (Digite CERO si no tiene).  \",IF(O207>$B207,\" *La columna \"&O$203&\"\"&\" no puede superar el Total Ambos Sexos. \",\"\"))","v":""},{"$f":"IF(AND($B207<>0,P207=\"\"),\"* No olvide ingresar la columna \"&P$203&\"\"&\" (Digite CERO si no tiene).  \",IF(P207>$B207,\" *La columna \"&P$203&\"\"&\" no puede superar el Total Ambos Sexos. \",\"\"))","v":""},null,null,null,null,null,null,0,0,0]
["FORMULA LÁCTEA",0,{"$f":"SUM(E208+G208+I208+K208+M208)","v":0},{"$f":"SUM(F208+H208+J208+L208+N208)","v":0},null,null,null,null,null,null,null,null,null,null,null,null,"",null,null,null,null,null,null,null,null,null,null,null,null,null,null,null,null,null,null,null,null,null,null,null,null,null,null,null,null,null,null,null,null,null,null,null,null,null,null,null,null,null,null,null,null,null,null,null,null,null,null,null,null,null,null,null,null,null,null,null,null,null,null,"","","",null,null,null,null,null,null,0,0,0]
["LACTANCIA MATERNA EXCLUSIVA CON SÓLIDOS",0,{"$f":"SUM(I209+K209+M209)","v":0},{"$f":"SUM(J209+L209+N209)","v":0},null,null,null,null,null,null,null,null,null,null,null,null,"",null,null,null,null,null,null,null,null,null,null,null,null,null,null,null,null,null,null,null,null,null,null,null,null,null,null,null,null,null,null,null,null,null,null,null,null,null,null,null,null,null,null,null,null,null,null,null,null,null,null,null,null,null,null,null,null,null,null,null,null,null,null,"","","",null,null,null,null,null,null,0,0,0]
["LACTANCIA MATERNA/FORMULA LÁCTEA MAS SÓLIDOS",0,{"$f":"SUM(I210+K210+M210)","v":0},{"$f":"SUM(J210+L210+N210)","v":0},null,null,null,null,null,null,null,null,null,null,null,null,"",null,null,null,null,null,null,null,null,null,null,null,null,null,null,null,null,null,null,null,null,null,null,null,null,null,null,null,null,null,null,null,null,null,null,null,null,null,null,null,null,null,null,null,null,null,null,null,null,null,null,null,null,null,null,null,null,null,null,null,null,null,null,{"$f":"IF(B210<>(C210+D210),\"* La suma de los campos Hombres y Mujeres debe ser igual al Total. \",\"\")","v":""},"","",null,null,null,null,null,null,0,0,0]
["FORMULA LÁCTEA MAS SÓLIDOS",0,{"$f":"SUM(I211+K211+M211)","v":0},{"$f":"SUM(J211+L211+N211)","v":0},null,null,null,null,null,null,null,null,null,null,null,null,"",null,null,null,null,null,null,null,null,null,null,null,null,null,null,null,null,null,null,null,null,null,null,null,null,null,null,null,null,null,null,null,null,null,null,null,null,null,null,null,null,null,null,null,null,null,null,null,null,null,null,null,null,null,null,null,null,null,null,null,null,null,null,"","","",null,null,null,null,null,null,0,0,0]
[]
["SECCIÓN K:  TAMIZAJES DEL RECIÉN NACIDO "]
["SECCION K.1: TAMIZAJE METABOLICO"]
["EXÁMENES","PROGRAMA FENILQUETONURIA (PKU) E HIPOTIROIDISMO CONGÉNITO (HC)",null,null,null,"FIBROSIS QUÍSTICA"]
[null,"Primeras Muestras","Exámenes de 2a punción","2a muestra en <36 semanas","Exámenes alterados","RN tamizados según piloto"]
["RECIÉN NACIDOS TAMIZADOS"]
[]
["SECCIÓN K.2:  TAMIZAJE AUDITIVO"]
["RECIÉN NACIDOS VIVOS TAMIZADOS","Tamizaje","Re-Tamizaje","Ambulatorio","Pueblos Originarios"]
["TOTAL DE RECIÉN NACIDOS TAMIZADOS",null,null,null,null,{"$f":"$CB221","v":""},null,null,null,null,null,null,null,null,null,null,null,null,null,null,null,null,null,null,null,null,null,null,null,null,null,null,null,null,null,null,null,null,null,null,null,null,null,null,null,null,null,null,null,null,null,null,null,null,null,null,null,null,null,null,null,null,null,null,null,null,null,null,null,null,null,null,null,null,null,null,null,null,null,{"$f":"IF(AND($B221<>0,E221=\"\"),\"* No olvide ingresar la columna \"&E$220&\"\"&\" (Digite CERO si no tiene).  \",IF(E221>$B221,\" *La columna \"&E$220&\"\"&\" no puede superar el Total. \",\"\"))","v":""},null,null,null,null,null,null,null,null,{"$f":"IF(AND($B221<>0,E221=\"\"),1,IF(E221>$B221,1,0))","v":0}]
["RECIÉN NACIDOS VIVOS QUE PASAN",null,null,null,null,{"$f":"$CB222","v":""},null,null,null,null,null,null,null,null,null,null,null,null,null,null,null,null,null,null,null,null,null,null,null,null,null,null,null,null,null,null,null,null,null,null,null,null,null,null,null,null,null,null,null,null,null,null,null,null,null,null,null,null,null,null,null,null,null,null,null,null,null,null,null,null,null,null,null,null,null,null,null,null,null,{"$f":"IF(AND($B222<>0,E222=\"\"),\"* No olvide ingresar la columna \"&E$220&\"\"&\" (Digite CERO si no tiene).  \",IF(E222>$B222,\" *La columna \"&E$220&\"\"&\" no puede superar el Total. \",\"\"))","v":""},null,null,null,null,null,null,null,null,{"$f":"IF(AND($B222<>0,E222=\"\"),1,IF(E222>$B222,1,0))","v":0}]
["RECIÉN NACIDOS REFERIDOS POR TAMIZAJE ALTERADO QUE REFIEREN",null,null,null,null,"",null,null,null,null,null,null,null,null,null,null,null,null,null,null,null,null,null,null,null,null,null,null,null,null,null,null,null,null,null,null,null,null,null,null,null,null,null,null,null,null,null,null,null,null,null,null,null,null,null,null,null,null,null,null,null,null,null,null,null,null,null,null,null,null,null,null,null,null,null,null,null,null,null,"",null,null,null,null,null,null,null,null,{"$f":"IF(AND($B223<>0,E223=\"\"),1,IF(E223>$B223,1,0))","v":0}]
["EXAMENES REALIZADOS","Emisiones Otoacústicas (EOA)","Potenciales Automatizados de Tronco Cerebral (PEATa/AABR)","Pueblos Originarios"]
["MATERNIDAD",null,null,null,"",null,null,null,null,null,null,null,null,null,null,null,null,null,null,null,null,null,null,null,null,null,null,null,null,null,null,null,null,null,null,null,null,null,null,null,null,null,null,null,null,null,null,null,null,null,null,null,null,null,null,null,null,null,null,null,null,null,null,null,null,null,null,null,null,null,null,null,null,null,null,null,null,null,null,{"$f":"IF(AND($B225<>0,D225=\"\"),\"* No olvide ingresar la columna \"&D$224&\"\"&\" (Digite CERO si no tiene).  \",IF(D225>$B225,\" *La columna \"&D$224&\"\"&\" no puede superar el Total. \",\"\"))","v":""},null,null,null,null,null,null,null,null,{"$f":"IF(AND($B225<>0,D225=\"\"),1,IF(D225>$B225,1,0))","v":0}]
["NEONATOLOGÍA",null,null,null,"",null,null,null,null,null,null,null,null,null,null,null,null,null,null,null,null,null,null,null,null,null,null,null,null,null,null,null,null,null,null,null,null,null,null,null,null,null,null,null,null,null,null,null,null,null,null,null,null,null,null,null,null,null,null,null,null,null,null,null,null,null,null,null,null,null,null,null,null,null,null,null,null,null,null,{"$f":"IF(AND($B226<>0,D226=\"\"),\"* No olvide ingresar la columna \"&D$224&\"\"&\" (Digite CERO si no tiene).  \",IF(D226>$B226,\" *La columna \"&D$224&\"\"&\" no puede superar el Total. \",\"\"))","v":""},null,null,null,null,null,null,null,null,{"$f":"IF(AND($B226<>0,D226=\"\"),1,IF(D226>$B226,1,0))","v":0}]
["SERVICIO OTORRINOLARINGOLOGÍA (realizado antes de los 6 meses de vida)",null,null,null,"",null,null,null,null,null,null,null,null,null,null,null,null,null,null,null,null,null,null,null,null,null,null,null,null,null,null,null,null,null,null,null,null,null,null,null,null,null,null,null,null,null,null,null,null,null,null,null,null,null,null,null,null,null,null,null,null,null,null,null,null,null,null,null,null,null,null,null,null,null,null,null,null,null,null,"",null,null,null,null,null,null,null,null,{"$f":"IF(AND($B227<>0,D227=\"\"),1,IF(D227>$B227,1,0))","v":0}]
[]
["SECCION K.3: TAMIZAJE CARDIOPATÍAS CONGÉNITAS"]
["EXÁMENES REALIZADOS","Recién Nacidos  Tamizados","Recién Nacidos referidos a Cardiología "]
["MATERNIDAD",null,null,{"$f":"$CB231","v":""},null,null,null,null,null,null,null,null,null,null,null,null,null,null,null,null,null,null,null,null,null,null,null,null,null,null,null,null,null,null,null,null,null,null,null,null,null,null,null,null,null,null,null,null,null,null,null,null,null,null,null,null,null,null,null,null,null,null,null,null,null,null,null,null,null,null,null,null,null,null,null,null,null,null,null,{"$f":"IF(AND($B231<>0,C231=\"\"),\"* No olvide ingresar la columna \"&C$230&\"\"&\"(Digite CERO si no tiene).  \",IF(C231>$B231,\" *La columna \"&C$230&\"\"&\"no puede superar el Total. \",\"\"))","v":""},null,null,null,null,null,null,null,null,{"$f":"IF(AND($B231<>0,C231=\"\"),1,IF(C231>$B231,1,0))","v":0}]
["NEONATOLOGÍA",null,null,{"$f":"$CB232","v":""},null,null,null,null,null,null,null,null,null,null,null,null,null,null,null,null,null,null,null,null,null,null,null,null,null,null,null,null,null,null,null,null,null,null,null,null,null,null,null,null,null,null,null,null,null,null,null,null,null,null,null,null,null,null,null,null,null,null,null,null,null,null,null,null,null,null,null,null,null,null,null,null,null,null,null,{"$f":"IF(AND($B232<>0,C232=\"\"),\"* No olvide ingresar la columna \"&C$230&\"\"&\"(Digite CERO si no tiene).  \",IF(C232>$B232,\" *La columna \"&C$230&\"\"&\"no puede superar el Total. \",\"\"))","v":""},null,null,null,null,null,null,null,null,{"$f":"IF(AND($B232<>0,C232=\"\"),1,IF(C232>$B232,1,0))","v":0}]
[]
[]
[]
[]
[]
[]
[]
[]
[]
[]
[]
[]
[]
[]
[]
[]
[]
[]
[]
[]
[]
[]
[]
[]
[]
[]
[]
[]
[]
[]
[]
[]
[]
[]
[]
[]
[]
[]
[]
[]
[]
[]
[]
[]
[]
[]
[]
[]
[]
[]
[]
[]
[]
[]
[]
[]
[]
[]
[]
[]
[]
[]
[]
[]
[]
[]
[]
[]
[]
[]
[{"$f":"SUM( D18:K18, E21:K21,E24:K24,C27:K27, C30:M30,C34:M34,C36:M36, D42:T101,F108:AM116, B124:F127,H124:I127,K124:M127,O124:Q127,S124:U127,C132:D138,B146:B149,B151:B152,B154:B155,C145:D155,C164:Q166,C172:J173,B177:B178,C182:D182,C187:E188,B194:C199,E206:N211,B217:F217,B221:D223,B225:C227,B231:C232)","v":0},{"$f":"SUM(CK15:CR232)","v":0}]

{"sheet":"URGENCIAS","index":2,"n_rows":150,"n_cols":100,"rows_kept":150,"cut":false,"hidden":false,"merged":[[101,0,101,4],[108,0,108,3],[115,0,115,3],[121,0,121,4],[16,0,16,3],[7,0,7,3],[28,0,28,4],[51,0,51,6],[64,0,64,4],[72,0,72,4],[78,0,78,2],[84,0,84,3],[55,0,55,1],[56,0,58,0],[59,0,59,1],[60,0,60,1],[61,0,61,1],[62,0,62,1],[68,0,68,1],[69,0,69,1],[85,0,86,0],[85,1,86,1],[70,0,70,1],[73,0,74,1],[65,39,67,39],[5,0,5,14],[8,0,10,0],[8,1,9,3],[8,4,8,37],[9,4,9,5],[9,6,9,7],[9,8,9,9],[9,10,9,11],[9,12,9,13],[9,14,9,15],[9,28,9,29],[9,30,9,31],[9,32,9,33],[9,34,9,35],[9,36,9,37],[17,0,19,0],[17,1,18,3],[17,4,17,37],[18,22,18,23],[18,24,18,25],[9,16,9,17],[9,18,9,19],[9,20,9,21],[9,22,9,23],[9,24,9,25],[9,26,9,27],[52,39,54,39],[53,5,53,6],[53,7,53,8],[53,9,53,10],[53,11,53,12],[53,13,53,14],[18,26,18,27],[18,28,18,29],[18,30,18,31],[18,32,18,33],[18,34,18,35],[18,36,18,37],[18,4,18,5],[18,6,18,7],[18,8,18,9],[18,10,18,11],[18,12,18,13],[18,14,18,15],[18,16,18,17],[18,18,18,19],[18,20,18,21],[53,27,53,28],[53,29,53,30],[53,31,53,32],[52,0,54,1],[52,2,53,4],[52,5,52,38],[53,33,53,34],[53,35,53,36],[53,37,53,38],[53,15,53,16],[53,17,53,18],[53,19,53,20],[53,21,53,22],[53,23,53,24],[53,25,53,26],[65,0,67,1],[65,2,66,4],[65,5,65,38],[66,5,66,6],[66,7,66,8],[66,9,66,10],[66,11,66,12],[66,13,66,14],[66,15,66,16],[66,17,66,18],[66,31,66,32],[66,33,66,34],[66,35,66,36],[73,34,74,34],[66,37,66,38],[73,15,73,16],[73,17,73,18],[73,19,73,20],[73,21,73,22],[66,19,66,20],[66,21,66,22],[66,23,66,24],[66,25,66,26],[66,27,66,28],[66,29,66,30],[73,23,74,23],[117,12,117,13],[117,14,117,15],[117,16,117,17],[103,31,104,31],[103,32,104,32],[105,0,106,0],[109,0,110,0],[109,1,110,1],[102,0,104,1],[102,2,103,4],[103,19,103,20],[103,27,104,27],[102,22,104,22],[102,23,104,23],[102,24,104,24],[102,25,104,25],[102,26,104,26],[102,27,102,30],[103,28,104,28],[103,29,104,29],[103,30,104,30],[102,5,102,20],[102,21,104,21],[81,0,82,0],[75,0,75,1],[73,11,73,12],[73,13,73,14],[102,31,102,32],[103,5,103,6],[103,7,103,8],[103,9,103,10],[103,11,103,12],[103,13,103,14],[103,15,103,16],[103,17,103,18],[73,2,73,4],[73,5,73,6],[73,7,73,8],[73,9,73,10],[76,0,76,1],[79,0,80,1],[79,2,80,2],[79,3,79,8],[79,9,80,9],[73,24,73,27],[73,28,73,29],[73,30,73,33],[122,5,122,12],[123,5,123,6],[122,13,123,14],[122,3,123,4],[122,0,124,1],[129,0,129,1],[122,2,123,2],[117,18,117,19],[117,20,117,21],[125,0,125,1],[126,0,126,1],[127,0,127,1],[128,0,128,1],[122,15,124,15],[123,7,123,8],[123,9,123,10],[123,11,123,12],[116,0,118,0],[116,1,117,3],[116,4,116,21],[117,4,117,5],[117,6,117,7],[117,8,117,9],[117,10,117,11]]}
[{"$f":"CONCATENATE(\"SEREMI: \",NOMBRE!B2,\" \",NOMBRE!C2,,NOMBRE!D2,NOMBRE!E2,NOMBRE!F2,NOMBRE!G2,NOMBRE!H2,\"\")","v":"SEREMI:  "}]
[{"$f":"CONCATENATE(\"Establecimiento: \", NOMBRE!B3,\" \", NOMBRE!C3, NOMBRE!D3,NOMBRE!E3,NOMBRE!F3,NOMBRE!G3,NOMBRE!H3,\"\")","v":"Establecimiento:  "}]
[{"$f":"CONCATENATE(\"Comuna: \",NOMBRE!B4,\" \",NOMBRE!C4,NOMBRE!D4,NOMBRE!E4,NOMBRE!F4,NOMBRE!G4)","v":"Comuna:  "}]
[{"$f":"CONCATENATE(\"Mes: \",NOMBRE!B5, \" \",  \"(\",NOMBRE!C5,NOMBRE!D5,\")\")","v":"Mes:  ()"}]
[{"$f":"CONCATENATE(\"Año: \",NOMBRE!B6)","v":"Año: 2024"}]
["URGENCIAS:  ATENCIONES DE URGENCIA\nRESUMEN ESTADÍSTICO MENSUAL  DE ALGUNAS ACTIVIDADES REALIZADAS EN \nESTABLECIMIENTOS NO PERTENECIENTES AL SISTEMA NACIONAL DE SERVICIOS DE SALUD"]
[]
["SECCIÓN A: ATENCIONES REALIZADAS EN UNIDADES DE EMERGENCIA DE LA RED PRIVADA"]
["TIPO DE ATENCIÓN","TOTAL        ",null,null,"GRUPOS DE EDAD (en años)"]
[null,null,null,null,"0 - 4 años",null,"5 - 9 años",null,"10 - 14 años",null,"15 - 19 años",null,"20 - 24 años",null,"25 - 29 años",null,"30 - 34 años",null,"35 - 39 años",null,"40 - 44 años",null,"45 - 49 años",null,"50 - 54 años",null,"55 - 59 años",null,"60 - 64 años",null,"65 - 69 años",null,"70 - 74 años",null,"75 - 79 años",null,"80 y más años"]
[null,"Ambos Sexos","Hombres","Mujeres","Hombres","Mujeres","Hombres","Mujeres","Hombres","Mujeres","Hombres","Mujeres","Hombres","Mujeres","Hombres","Mujeres","Hombres","Mujeres","Hombres","Mujeres","Hombres","Mujeres","Hombres","Mujeres","Hombres","Mujeres","Hombres","Mujeres","Hombres","Mujeres","Hombres","Mujeres","Hombres","Mujeres","Hombres","Mujeres","Hombres","Mujeres"]
["ATENCIÓN MÉDICA NIÑO Y ADULTO",{"$f":"SUM(C12:D12)","v":0},{"$f":"SUM(E12+G12+I12+K12+M12+O12+Q12+U12+W12+Y12+AC12+AE12+AG12+AI12+AK12+S12+AA12)","v":0},{"$f":"SUM(F12+H12+J12+L12+N12+P12+R12+V12+X12+Z12+AD12+AF12+AH12+AJ12+AL12+T12+AB12)","v":0},null,null,null,null,null,null,null,null,null,null,null,null,null,null,null,null,null,null,null,null,null,null,null,null,null,null,null,null,null,null,null,null,null,null,{"$f":"$CB12","v":""},null,null,null,null,null,null,null,null,null,null,null,null,null,null,null,null,null,null,null,null,null,null,null,null,null,null,null,null,null,null,null,null,null,null,null,null,null,null,null,null,{"$f":"IF(B12<>(C12+D12),\"* La suma de los campos Hombres y Mujeres debe ser igual al Total. \",\"\")","v":""},null,null,null,null,null,null,null,null,null,null,null,{"$f":"IF(B12<>(C12+D12),1,0)","v":0},{"$f":"IF(B12<>(C12+D12),1,0)","v":0}]
["ATENCIÓN MÉDICA GINECO-OBSTETRA",{"$f":"SUM(C13:D13)","v":0},{"$f":"SUM(E13+G13+I13+K13+M13+O13+Q13+U13+W13+Y13+AC13+AE13+AG13+AI13+AK13+S13+AA13)","v":0},0,null,null,null,null,null,null,null,null,null,null,null,null,null,null,null,null,null,null,null,null,null,null,null,null,null,null,null,null,null,null,null,null,null,null,{"$f":"$CB13","v":""},null,null,null,null,null,null,null,null,null,null,null,null,null,null,null,null,null,null,null,null,null,null,null,null,null,null,null,null,null,null,null,null,null,null,null,null,null,null,null,null,{"$f":"IF(B13<>(C13+D13),\"* La suma de los campos Hombres y Mujeres debe ser igual al Total. \",\"\")","v":""},null,null,null,null,null,null,null,null,null,null,null,{"$f":"IF(B13<>(C13+D13),1,0)","v":0},{"$f":"IF(B13<>(C13+D13),1,0)","v":0}]
["ATENCIÓN POR MATRÓN (A)",0,0,0,null,null,null,null,null,null,null,null,null,null,null,null,null,null,null,null,null,null,null,null,null,null,null,null,null,null,null,null,null,null,null,null,null,null,{"$f":"$CB14","v":""},null,null,null,null,null,null,null,null,null,null,null,null,null,null,null,null,null,null,null,null,null,null,null,null,null,null,null,null,null,null,null,null,null,null,null,null,null,null,null,null,{"$f":"IF(B14<>(C14+D14),\"* La suma de los campos Hombres y Mujeres debe ser igual al Total. \",\"\")","v":""},null,null,null,null,null,null,null,null,null,null,null,{"$f":"IF(B14<>(C14+D14),1,0)","v":0},{"$f":"IF(B14<>(C14+D14),1,0)","v":0}]
["TOTAL",{"$f":"SUM(C15:D15)","v":0},{"$f":"SUM(E15+G15+I15+K15+M15+O15+Q15+U15+W15+Y15+AC15+AE15+AG15+AI15+AK15+S15+AA15)","v":0},0,{"$f":"SUM(E12:E14)","v":0},{"$f":"SUM(F12:F14)","v":0},0,0,0,0,0,0,0,0,0,0,0,0,0,0,0,0,0,0,0,0,0,0,0,0,0,0,0,0,0,0,0,0]
[]
["SECCIÓN B: CATEGORIZACIÓN DE PACIENTES, PREVIA A LA ATENCIÓN MÉDICA"]
["CATEGORÍAS","TOTAL",null,null,"GRUPOS DE EDAD (en años)"]
[null,null,null,null,"0 - 4 años",null,"5 - 9 años",null,"10 - 14 años",null,"15 - 19 años",null,"20 - 24 años",null,"25 - 29 años",null,"30 - 34 años",null,"35 - 39 años",null,"40 - 44 años",null,"45 - 49 años",null,"50 - 54 años",null,"55 - 59 años",null,"60 - 64 años",null,"65 - 69 años",null,"70 - 74 años",null,"75 - 79 años",null,"80 y más años"]
[null,"Ambos Sexos","Hombres","Mujeres","Hombres","Mujeres","Hombres","Mujeres","Hombres","Mujeres","Hombres","Mujeres","Hombres","Mujeres","Hombres","Mujeres","Hombres","Mujeres","Hombres","Mujeres","Hombres","Mujeres","Hombres","Mujeres","Hombres","Mujeres","Hombres","Mujeres","Hombres","Mujeres","Hombres","Mujeres","Hombres","Mujeres","Hombres","Mujeres","Hombres","Mujeres"]
["C1",{"$f":"SUM(C21:D21)","v":0},{"$f":"SUM(E21+G21+I21+K21+M21+O21+Q21+U21+W21+Y21+AC21+AE21+AG21+AI21+AK21+AA21+S21)","v":0},{"$f":"SUM(F21+H21+J21+L21+N21+P21+R21+V21+X21+Z21+AD21+AF21+AH21+AJ21+AL21+T21+AB21)","v":0},null,null,null,null,null,null,null,null,null,null,null,null,null,null,null,null,null,null,null,null,null,null,null,null,null,null,null,null,null,null,null,null,null,null,null,null,null,null,null,null,null,null,null,null,null,null,null,null,null,null,null,null,null,null,null,null,null,null,null,null,null,null,null,null,null,null,null,null,null,null,null,null,null,null,null,{"$f":"IF(B21<>(C21+D21),\"* La suma de los campos Hombres y Mujeres debe ser igual al Total. \",\"\")","v":""},null,null,null,null,null,null,null,null,null,null,null,{"$f":"IF(B21<>(C21+D21),1,0)","v":0},{"$f":"IF(B21<>(C21+D21),1,0)","v":0}]
["C2",{"$f":"SUM(C22:D22)","v":0},{"$f":"SUM(E22+G22+I22+K22+M22+O22+Q22+U22+W22+Y22+AC22+AE22+AG22+AI22+AK22+AA22+S22)","v":0},{"$f":"SUM(F22+H22+J22+L22+N22+P22+R22+V22+X22+Z22+AD22+AF22+AH22+AJ22+AL22+T22+AB22)","v":0},null,null,null,null,null,null,null,null,null,null,null,null,null,null,null,null,null,null,null,null,null,null,null,null,null,null,null,null,null,null,null,null,null,null,null,null,null,null,null,null,null,null,null,null,null,null,null,null,null,null,null,null,null,null,null,null,null,null,null,null,null,null,null,null,null,null,null,null,null,null,null,null,null,null,null,{"$f":"IF(B22<>(C22+D22),\"* La suma de los campos Hombres y Mujeres debe ser igual al Total. \",\"\")","v":""},null,null,null,null,null,null,null,null,null,null,null,0,0]
["C3",0,0,{"$f":"SUM(F23+H23+J23+L23+N23+P23+R23+V23+X23+Z23+AD23+AF23+AH23+AJ23+AL23+T23+AB23)","v":0},null,null,null,null,null,null,null,null,null,null,null,null,null,null,null,null,null,null,null,null,null,null,null,null,null,null,null,null,null,null,null,null,null,null,null,null,null,null,null,null,null,null,null,null,null,null,null,null,null,null,null,null,null,null,null,null,null,null,null,null,null,null,null,null,null,null,null,null,null,null,null,null,null,null,null,"",null,null,null,null,null,null,null,null,null,null,null,0,0]
["C4",0,0,0,null,null,null,null,null,null,null,null,null,null,null,null,null,null,null,null,null,null,null,null,null,null,null,null,null,null,null,null,null,null,null,null,null,null,null,null,null,null,null,null,null,null,null,null,null,null,null,null,null,null,null,null,null,null,null,null,null,null,null,null,null,null,null,null,null,null,null,null,null,null,null,null,null,null,null,"",null,null,null,null,null,null,null,null,null,null,null,0,0]
["C5",0,0,0,null,null,null,null,null,null,null,null,null,null,null,null,null,null,null,null,null,null,null,null,null,null,null,null,null,null,null,null,null,null,null,null,null,null,null,null,null,null,null,null,null,null,null,null,null,null,null,null,null,null,null,null,null,null,null,null,null,null,null,null,null,null,null,null,null,null,null,null,null,null,null,null,null,null,null,{"$f":"IF(B25<>(C25+D25),\"* La suma de los campos Hombres y Mujeres debe ser igual al Total. \",\"\")","v":""},null,null,null,null,null,null,null,null,null,null,null,0,0]
["SIN CATEGORIZACIÓN",0,0,0,null,null,null,null,null,null,null,null,null,null,null,null,null,null,null,null,null,null,null,null,null,null,null,null,null,null,null,null,null,null,null,null,null,null,null,null,null,null,null,null,null,null,null,null,null,null,null,null,null,null,null,null,null,null,null,null,null,null,null,null,null,null,null,null,null,null,null,null,null,null,null,null,null,null,null,{"$f":"IF(B26<>(C26+D26),\"* La suma de los campos Hombres y Mujeres debe ser igual al Total. \",\"\")","v":""},null,null,null,null,null,null,null,null,null,null,null,{"$f":"IF(B26<>(C26+D26),1,0)","v":0},0]
["TOTAL",0,0,0,{"$f":"SUM(E21:E26)","v":0},{"$f":"SUM(F21:F26)","v":0},0,0,0,0,0,0,0,0,0,0,0,{"$f":"SUM(R21:R26)","v":0},0,0,0,0,0,0,0,0,0,0,0,0,0,0,0,0,0,0,0,0]
[]
["SECCIÓN C: ATENCIONES REALIZADAS POR MÉDICOS ESPECIALISTAS EN LAS UNIDADES DE URGENCIA HOSPITALARIA"]
["ESPECIALIDADES","TOTAL        ","DE TURNO","CONSULTOR LLAMADA","OTROS",null,null,null,null,null,null,null,null," "]
["MEDICINA INTERNA",{"$f":"SUM(C31:E31)","v":0}]
["NEUROLOGÍA ADULTOS",{"$f":"SUM(C32:E32)","v":0}]
["NEUROLOGÍA PEDIÁTRICA",0]
["OBSTETRICIA Y GINECOLOGÍA",{"$f":"SUM(C34:E34)","v":0}]
["OFTALMOLOGÍA",0]
["OTORRINOLARINGOLOGÍA",0]
["PEDIATRÍA",0]
["TRAUMATOLOGÍA Y ORTOPEDIA",{"$f":"SUM(C38:E38)","v":0}]
["NEUROCIRUGÍA",0]
["PSIQUIATRÍA ADULTOS",0]
["PSIQUIATRÍA PEDIÁTRICA Y ADOLESCENTE",0]
["UROLOGÍA",0]
["URGENCIÓLOGO",0]
["CIRUGÍA VASCULAR PERIFÉRICA",0]
["CIRUGÍA GENERAL",0]
["CIRUGÍA PEDIÁTRICA",0]
["CARDIOLOGÍA",0]
["ANESTESIOLOGÍA",0]
["CIRUGÍA DE CABEZA, CUELLO Y MAXILOFACIAL",0]
["TOTAL",0,{"$f":"SUM(C31:C49)","v":0},{"$f":"SUM(D31:D49)","v":0},0]
[]
["SECCIÓN D: PACIENTES CON INDICACIÓN DE HOSPITALIZACIÓN EN ESPERA DE CAMAS EN UNIDAD DE EMERGENCIA HOSPITALARIA (UEH)"]
["TIPO DE PACIENTES",null,"TOTAL        ",null,null,"GRUPOS DE EDAD (en años)",null,null,null,null,null,null,null,null,null,null,null,null,null,null,null,null,null,null,null,null,null,null,null,null,null,null,null,null,null,null,null,null,null,"Beneficiarios/as FONASA"]
[null,null,null,null,null,"0 - 4 años",null,"5 - 9 años",null,"10 - 14 años",null,"15 - 19 años",null,"20 - 24 años",null,"25 - 29 años",null,"30 - 34 años",null,"35 - 39 años",null,"40 - 44 años",null,"45 - 49 años",null,"50 - 54 años",null,"55 - 59 años",null,"60 - 64 años",null,"65 - 69 años",null,"70 - 74 años",null,"75 - 79 años",null,"80 y más años"]
[null,null,"Ambos Sexos","Hombres ","Mujeres","Hombres ","Mujeres","Hombres ","Mujeres","Hombres ","Mujeres","Hombres ","Mujeres","Hombres ","Mujeres","Hombres ","Mujeres","Hombres ","Mujeres","Hombres ","Mujeres","Hombres ","Mujeres","Hombres ","Mujeres","Hombres ","Mujeres","Hombres ","Mujeres","Hombres ","Mujeres","Hombres ","Mujeres","Hombres ","Mujeres","Hombres ","Mujeres","Hombres ","Mujeres"]
["TOTAL DE PACIENTES CON INDICACIÓN DE HOSPITALIZACIÓN",null,{"$f":"SUM(D56:E56)","v":0},{"$f":"SUM(F56+H56+J56+L56+N56+P56+R56+T56+X56+Z56+AB56+AF56+AH56+AJ56+AL56+V56+AD56)","v":0},{"$f":"SUM(G56+I56+K56+M56+O56+Q56+S56+W56+Y56+AA56+AE56+AG56+AI56+AK56+AM56+U56+AC56)","v":0},{"$f":"SUM(F57:F59)","v":0},{"$f":"SUM(G57:G59)","v":0},0,0,0,0,{"$f":"SUM(L57:L59)","v":0},0,0,0,0,0,0,0,0,0,0,0,0,0,0,0,0,0,0,0,0,0,0,0,0,0,0,0,0,{"$f":"$CB56 & CC56 & CD56 & CE56 &CF56","v":""}]
["PACIENTES QUE INGRESAN A CAMA HOSPITALARIA SEGÚN TIEMPO DE DEMORA AL INGRESO                               ","MENOS DE 12 HORAS",{"$f":"SUM(D57:E57)","v":0},{"$f":"SUM(F57+H57+J57+L57+N57+P57+R57+T57+X57+Z57+AB57+AF57+AH57+AJ57+AL57+V57+AD57)","v":0},{"$f":"SUM(G57+I57+K57+M57+O57+Q57+S57+W57+Y57+AA57+AE57+AG57+AI57+AK57+AM57+U57+AC57)","v":0},null,null,null,null,null,null,null,null,null,null,null,null,null,null,null,null,null,null,null,null,null,null,null,null,null,null,null,null,null,null,null,null,null,null,null,{"$f":"$CB57 & CC57","v":""},null,null,null,null,null,null,null,null,null,null,null,null,null,null,null,null,null,null,null,null,null,null,null,null,null,null,null,null,null,null,null,null,null,null,null,null,null,null,{"$f":"IF(C57<>(D57+E57),\"* La suma de los campos Hombres y Mujeres debe ser igual al Total. \",\"\")","v":""},{"$f":"IF(AND($C57<>0,AN57=\"\"),\"* No olvide ingresar la columna \"&AN$53&\"\"&\" (Digite CERO si no tiene).  \",IF(AN57>$C57,\" *La columna \"&AN$53&\"\"&\" no puede superar el Total. \",\"\"))","v":""},{"$f":"IF(C57<AN57,\"* El campo Beneficiarios no debe ser mayor al total. \",\"\")","v":""},null,null,null,null,null,null,null,null,null,{"$f":"IF(D57+E57<>C57,1,0)","v":0},{"$f":"IF(AND($C57<>0,AN57=\"\"),1,IF(AN57>$C57,1,0))","v":0}]
[null,"12-24 HORAS",{"$f":"SUM(D58:E58)","v":0},{"$f":"SUM(F58+H58+J58+L58+N58+P58+R58+T58+X58+Z58+AB58+AF58+AH58+AJ58+AL58+V58+AD58)","v":0},{"$f":"SUM(G58+I58+K58+M58+O58+Q58+S58+W58+Y58+AA58+AE58+AG58+AI58+AK58+AM58+U58+AC58)","v":0},null,null,null,null,null,null,null,null,null,null,null,null,null,null,null,null,null,null,null,null,null,null,null,null,null,null,null,null,null,null,null,null,null,null,null,{"$f":"$CB58 & CC58","v":""},null,null,null,null,null,null,null,null,null,null,null,null,null,null,null,null,null,null,null,null,null,null,null,null,null,null,null,null,null,null,null,null,null,null,null,null,null,null,{"$f":"IF(C58<>(D58+E58),\"* La suma de los campos Hombres y Mujeres debe ser igual al Total. \",\"\")","v":""},{"$f":"IF(AND($C58<>0,AN58=\"\"),\"* No olvide ingresar la columna \"&AN$53&\"\"&\" (Digite CERO si no tiene).  \",IF(AN58>$C58,\" *La columna \"&AN$53&\"\"&\" no puede superar el Total. \",\"\"))","v":""},{"$f":"IF(C58<AN58,\"* El campo Beneficiarios no debe ser mayor al total. \",\"\")","v":""},null,null,null,null,null,null,null,null,null,{"$f":"IF(D58+E58<>C58,1,0)","v":0},{"$f":"IF(AND($C58<>0,AN58=\"\"),1,IF(AN58>$C58,1,0))","v":0}]
[null,"MAYOR A 24 HORAS",0,0,0,null,null,null,null,null,null,null,null,null,null,null,null,null,null,null,null,null,null,null,null,null,null,null,null,null,null,null,null,null,null,null,null,null,null,null,"",null,null,null,null,null,null,null,null,null,null,null,null,null,null,null,null,null,null,null,null,null,null,null,null,null,null,null,null,null,null,null,null,null,null,null,null,null,null,"","","",null,null,null,null,null,null,null,null,null,0,0]
["PACIENTES QUE RECHAZAN HOSPITALIZACIÓN ",null,0,0,0,null,null,null,null,null,null,null,null,null,null,null,null,null,null,null,null,null,null,null,null,null,null,null,null,null,null,null,null,null,null,null,null,null,null,null,"",null,null,null,null,null,null,null,null,null,null,null,null,null,null,null,null,null,null,null,null,null,null,null,null,null,null,null,null,null,null,null,null,null,null,null,null,null,null,"","","",null,null,null,null,null,null,null,null,null,0,0]
["PACIENTES DERIVADOS A OTRO ESTABLECIMIENTO",null,0,0,0,null,null,null,null,null,null,null,null,null,null,null,null,null,null,null,null,null,null,null,null,null,null,null,null,null,null,null,null,null,null,null,null,null,null,null,"",null,null,null,null,null,null,null,null,null,null,null,null,null,null,null,null,null,null,null,null,null,null,null,null,null,null,null,null,null,null,null,null,null,null,null,null,null,null,"","","",null,null,null,null,null,null,null,null,null,0,0]
["PACIENTES QUE PERMANECEN EN UEH",null,0,0,0,null,null,null,null,null,null,null,null,null,null,null,null,null,null,null,null,null,null,null,null,null,null,null,null,null,null,null,null,null,null,null,null,null,null,null,"",null,null,null,null,null,null,null,null,null,null,null,null,null,null,null,null,null,null,null,null,null,null,null,null,null,null,null,null,null,null,null,null,null,null,null,null,null,null,"","","",null,null,null,null,null,null,null,null,null,0,0]
["PACIENTES QUE INGRESAN DIRECTAMENTE A PROCESO QUIRÚRGICO",null,0,{"$f":"SUM(F63+H63+J63+L63+N63+P63+R63+T63+X63+Z63+AB63+AF63+AH63+AJ63+AL63+V63+AD63)","v":0},0,null,null,null,null,null,null,null,null,null,null,null,null,null,null,null,null,null,null,null,null,null,null,null,null,null,null,null,null,null,null,null,null,null,null,null,"",null,null,null,null,null,null,null,null,null,null,null,null,null,null,null,null,null,null,null,null,null,null,null,null,null,null,null,null,null,null,null,null,null,null,null,null,null,null,"","","",null,null,null,null,null,null,null,null,null,0,0]
[]
["SECCIÓN E: PACIENTES FALLECIDOS EN UNIDAD DE EMERGENCIA HOSPITALARIA (UEH)"]
["TIPO DE PACIENTES",null,"TOTAL        ",null,null,"GRUPOS DE EDAD (en años)",null,null,null,null,null,null,null,null,null,null,null,null,null,null,null,null,null,null,null,null,null,null,null,null,null,null,null,null,null,null,null,null,null,"Beneficiarios/as FONASA"]
[null,null,null,null,null,"0 - 4 años",null,"5 - 9 años",null,"10 - 14 años",null,"15 - 19 años",null,"20 - 24 años",null,"25 - 29 años",null,"30 - 34 años",null,"35 - 39 años",null,"40 - 44 años",null,"45 - 49 años",null,"50 - 54 años",null,"55 - 59 años",null,"60 - 64 años",null,"65 - 69 años",null,"70 - 74 años",null,"75 - 79 años",null,"80 y más años"]
[null,null,"Ambos Sexos","Hombres ","Mujeres","Hombres ","Mujeres","Hombres ","Mujeres","Hombres ","Mujeres","Hombres ","Mujeres","Hombres ","Mujeres","Hombres ","Mujeres","Hombres ","Mujeres","Hombres ","Mujeres","Hombres ","Mujeres","Hombres ","Mujeres","Hombres ","Mujeres","Hombres ","Mujeres","Hombres ","Mujeres","Hombres ","Mujeres","Hombres ","Mujeres","Hombres ","Mujeres","Hombres ","Mujeres"]
["PACIENTES FALLECIDOS EN ESPERA DE ATENCIÓN MÉDICA",null,{"$f":"SUM(D69:E69)","v":0},{"$f":"SUM(F69+H69+J69+L69+N69+P69+R69+V69+X69+Z69+AD69+AF69+AH69+AJ69+AL69+T69+AB69)","v":0},{"$f":"SUM(G69+I69+K69+M69+O69+Q69+S69+W69+Y69+AA69+AE69+AG69+AI69+AK69+AM69+U69+AC69)","v":0},null,null,null,null,null,null,null,null,null,null,null,null,null,null,null,null,null,null,null,null,null,null,null,null,null,null,null,null,null,null,null,null,null,null,null,{"$f":"$CB69 & $CC69 & $CD69 &CE69 &CF69","v":""},null,null,null,null,null,null,null,null,null,null,null,null,null,null,null,null,null,null,null,null,null,null,null,null,null,null,null,null,null,null,null,null,null,null,null,null,null,null,{"$f":"IF(C69<>(D69+E69),\"* La suma de los campos Hombres y Mujeres debe ser igual al Total. \",\"\")","v":""},{"$f":"IF(AND($C69<>0,AN69=\"\"),\"* No olvide ingresar la columna \"&AN$53&\"\"&\" (Digite CERO si no tiene).  \",IF(AN69>$C69,\" *La columna \"&AN$53&\"\"&\" no puede superar el Total. \",\"\"))","v":""},null,null,null,null,null,null,null,null,null,null,{"$f":"IF(D69+E69<>C69,1,0)","v":0},{"$f":"IF(AND($C69<>0,AN69=\"\"),1,IF(AN69>$C69,1,0))","v":0}]
["PACIENTES FALLECIDOS EN PROCESO DE ATENCIÓN",null,{"$f":"SUM(D70:E70)","v":0},{"$f":"SUM(F70+H70+J70+L70+N70+P70+R70+V70+X70+Z70+AD70+AF70+AH70+AJ70+AL70+T70+AB70)","v":0},{"$f":"SUM(G70+I70+K70+M70+O70+Q70+S70+W70+Y70+AA70+AE70+AG70+AI70+AK70+AM70+U70+AC70)","v":0},null,null,null,null,null,null,null,null,null,null,null,null,null,null,null,null,null,null,null,null,null,null,null,null,null,null,null,null,null,null,null,null,null,null,null,{"$f":"$CB70 & $CC70 & $CD70 &CE70 &CF70","v":""},null,null,null,null,null,null,null,null,null,null,null,null,null,null,null,null,null,null,null,null,null,null,null,null,null,null,null,null,null,null,null,null,null,null,null,null,null,null,"","",null,null,null,null,null,null,null,null,null,null,0,0]
["PACIENTES FALLECIDOS EN ESPERA DE CAMA HOSPITALARIA ",null,{"$f":"SUM(D71:E71)","v":0},{"$f":"SUM(F71+H71+J71+L71+N71+P71+R71+V71+X71+Z71+AD71+AF71+AH71+AJ71+AL71+T71+AB71)","v":0},{"$f":"SUM(G71+I71+K71+M71+O71+Q71+S71+W71+Y71+AA71+AE71+AG71+AI71+AK71+AM71+U71+AC71)","v":0},null,null,null,null,null,null,null,null,null,null,null,null,null,null,null,null,null,null,null,null,null,null,null,null,null,null,null,null,null,null,null,null,null,null,null,{"$f":"$CB71 & $CC71 & $CD71 &CE71 &CF71","v":""},null,null,null,null,null,null,null,null,null,null,null,null,null,null,null,null,null,null,null,null,null,null,null,null,null,null,null,null,null,null,null,null,null,null,null,null,null,null,"","",null,null,null,null,null,null,null,null,null,null,0,0]
[]
["SECCIÓN F: ATENCIONES MÉDICAS ASOCIADAS A VIOLENCIA"]
["CONCEPTO",null,"TOTAL",null,null,"0 - 9 años",null,"10-17 años",null,"18 - 24 años",null,"25-34 años",null,"35-44 años",null,"45-54 años",null,"55-64 años",null,"65 -74 años",null,"75 y más años",null,"Embarazadas","AGRESOR /A",null,null,null,"Total por Sexo de Agresores",null,"LESIONES DE LA VÍCTIMA",null,null,null,"Sin lesiones constatables"]
[null,null,"Ambos Sexos","Hombres","Mujeres","Hombres ","Mujeres","Hombres ","Mujeres","Hombres ","Mujeres","Hombres ","Mujeres","Hombres ","Mujeres","Hombres ","Mujeres","Hombres ","Mujeres","Hombres ","Mujeres","Hombres ","Mujeres",null,"Pareja/ Ex pareja","Familiar","Conocido/a","Desconocido/a","Hombre","Mujer","Traumatológicas","Odontológicas","Contusiones","Por Arma"]
["VIOLENCIA INTRAFAMILIAR",null,{"$f":"SUM(D76:E76)","v":0},{"$f":"SUM(F76+H76+J76+L76+N76+P76+R76+V76+T76)","v":0},{"$f":"SUM(G76+I76+K76+M76+O76+Q76+S76+W76+U76)","v":0},null,null,null,null,null,null,null,null,null,null,null,null,null,null,null,null,null,null,null,null,null,null,null,null,null,null,null,null,null,null,{"$f":"$CB76 &CC76&CD76&CE76&CF76&CG76&CH76&CI76&CJ76&CK76&CL76&CM76","v":""},null,null,null,null,null,null,null,null,null,null,null,null,null,null,null,null,null,null,null,null,null,null,null,null,null,null,null,null,null,null,null,null,null,null,null,null,null,null,null,null,null,null,null,{"$f":"IF(C76<>(D76+E76),\"* La suma de los campos Hombres y Mujeres debe ser igual al Total. \",\"\")","v":""},{"$f":"IF(AC76+AD76<Y76+Z76,\"* La variable AGRESOR/A no debe ser mayor al Total por Sexo de Agresores. \",\"\")","v":""},{"$f":"IF(E76<>0, IF(X76=\"\",\"* No olvide digitar la variable \"&$X$74&\"\"&\" (*Digite CERO si no tiene). \",\"\"),\"\")","v":""},{"$f":"IF(C76<X76,\"* La variable Embarazada no debe ser mayor al Total Ambos Sexos. \",\"\")","v":""},{"$f":"IF(C76<>0, IF(Y76 & Z76=\"\",\"* No olvide digitar la variable AGRESOR/A. (Digite CERO si no tiene). \",\"\"),\"\")","v":""},{"$f":"IF(C76<Y76+Z76,\"* La variable AGRESOR/A no debe ser mayor al total. \",\"\")","v":""},{"$f":"IF(C76<>0, IF(AC76&AD76=\"\",\"* No olvide digitar la variable Total por Sexo del Agresor. (Digite CERO si no tiene). \",\"\"),\"\")","v":""},{"$f":"IF(C76<AC76+AD76,\"* La variable Total por Sexo de Agresor no debe ser mayor al Total Ambos Sexos. \",\"\")","v":""},null,{"$f":"IF(C76<>0, IF(AE76&AF76&AG76&AH76=\"\",\"* No olvide digitar la variable LESIONES DE LA VICTIMA (Digite CERO si no tiene). \",\"\"),\"\")","v":""},null,null,{"$f":"IF(D76+E76<>C76,1,0)","v":0},{"$f":"IF(E76<>0, IF(X76=\"\",1,0),0)","v":0},{"$f":"IF(C76<X76,1,0)","v":0},{"$f":"IF(C76<>0, IF(AC76&AD76=\"\",1,0),0)","v":0},{"$f":"IF(C76<AC76+AD76,1,0)","v":0},{"$f":"IF(C76<>0, IF(AE76&AF76&AG76&AH76=\"\",1,0),0)","v":0},{"$f":"IF(C76<AE76+AF76+AG76+AH76,1,0)","v":0},{"$f":"IF(C76<>0, IF(AI76=\"\",1,0),0)","v":0},{"$f":"IF(C76<AI76,1,0)","v":0}]
["OTRAS VIOLENCIAS ",null,{"$f":"SUM(D77:E77)","v":0},{"$f":"SUM(F77+H77+J77+L77+N77+P77+R77+V77+T77)","v":0},{"$f":"SUM(G77+I77+K77+M77+O77+Q77+S77+U77+W77)","v":0},null,null,null,null,null,null,null,null,null,null,null,null,null,null,null,null,null,null,null,null,null,null,null,null,null,null,null,null,null,null,{"$f":"$CB77 &CC77&CD77&CE77&CF77&CG77&CH77&CI77&CJ77&CK77&CL77&CM77","v":""},null,null,null,null,null,null,null,null,null,null,null,null,null,null,null,null,null,null,null,null,null,null,null,null,null,null,null,null,null,null,null,null,null,null,null,null,null,null,null,null,null,null,null,{"$f":"IF(C77<>(D77+E77),\"* La suma de los campos Hombres y Mujeres debe ser igual al Total. \",\"\")","v":""},{"$f":"IF(AC77+AD77<AA77+AB77,\"* La variable AGRESOR/A no debe ser mayor al total por sexo de agresor. \",\"\")","v":""},{"$f":"IF(E77<>0, IF(X77=\"\",\"* No olvide digitar la variable \"&$X$74&\"\"&\" (*Digite CERO si no tiene). \",\"\"),\"\")","v":""},{"$f":"IF(C77<X77,\"* La variable Embarazada no debe ser mayor al Total Ambos Sexos. \",\"\")","v":""},{"$f":"IF(C77<>0, IF(AA77 & AB77=\"\",\"* No olvide digitar la variable AGRESOR/A. (Digite CERO si no tiene). \",\"\"),\"\")","v":""},{"$f":"IF(C77<AA77+AB77,\"* La variable AGRESOR/A no debe ser mayor al total. \",\"\")","v":""},{"$f":"IF(C77<>0, IF(AC77&AD77=\"\",\"* No olvide digitar La variable Total por Sexo del Agresor. (Digite CERO si no tiene). \",\"\"),\"\")","v":""},{"$f":"IF(C77<AC77+AD77,\"* La variable Total por Sexo de Agresor no debe ser mayor al Total Ambos Sexos. \",\"\")","v":""},null,{"$f":"IF(C77<>0, IF(AE77&AF77&AG77&AH77=\"\",\"* No olvide digitar la variable LESIONES DE LA VICTIMA (Digite CERO si no tiene). \",\"\"),\"\")","v":""},null,null,{"$f":"IF(D77+E77<>C77,1,0)","v":0},{"$f":"IF(E77<>0, IF(X77=\"\",1,0),0)","v":0},{"$f":"IF(C77<X77,1,0)","v":0},{"$f":"IF(C77<>0, IF(AC77&AD77=\"\",1,0),0)","v":0},{"$f":"IF(C77<AC77+AD77,1,0)","v":0},{"$f":"IF(C77<>0, IF(AE77&AF77&AG77&AH77=\"\",1,0),0)","v":0},{"$f":"IF(C77<AE77+AF77+AG77+AH77,1,0)","v":0},{"$f":"IF(C77<>0, IF(AI77=\"\",1,0),0)","v":0},{"$f":"IF(C77<AI77,1,0)","v":0}]
[]
["SECCIÓN G: ATENCIONES POR ANTICONCEPCIÓN DE EMERGENCIA "]
["CONCEPTO",null,"TOTAL","GRUPOS DE EDAD (en años)",null,null,null,null,null,"Beneficiarios/as FONASA"]
[null,null,null,"10 - 14 años","15 - 19 años","20 - 24 años","25 - 34 años","35 - 44 años","45 - 54 años"]
["ATENCIÓN POR ANTICONCEPCIÓN DE EMERGENCIA ","CON ENTREGA DE ANTICONCEPTIVO",{"$f":"SUM(D82:I82)","v":0},null,null,null,null,null,null,null,{"$f":"$CB82&CC82","v":""},null,null,null,null,null,null,null,null,null,null,null,null,null,null,null,null,null,null,null,null,null,null,null,null,null,null,null,null,null,null,null,null,null,null,null,null,null,null,null,null,null,null,null,null,null,null,null,null,null,null,null,null,null,null,null,null,null,null,null,null,null,null,null,null,null,null,null,null,{"$f":"IF(C82<>(D82+E82+F82+G82+H82+I82),\"* La suma de los campos Hombres y Mujeres debe ser igual al Total. \",\"\")","v":""},{"$f":"IF(AND($C82<>0,J82=\"\"),\"* No olvide ingresar la columna \"&J$80&\"\"&\" (Digite CERO si no tiene).  \",IF(J82>$C82,\" *La columna \"&J$80&\"\"&\" no puede superar el Total. \",\"\"))","v":""},null,null,null,null,null,null,null,null,null,null,{"$f":"IF(D82+E82+F82+G82+H82+I82<>C82,1,0)","v":0},{"$f":"IF(AND($C82<>0,J82=\"\"),1,IF(J82>$C82,1,0))","v":0}]
[null,"SIN ENTREGA DE ANTICONCEPTIVO",{"$f":"SUM(D83:I83)","v":0},null,null,null,null,null,null,null,{"$f":"$CB83&CC83","v":""},null,null,null,null,null,null,null,null,null,null,null,null,null,null,null,null,null,null,null,null,null,null,null,null,null,null,null,null,null,null,null,null,null,null,null,null,null,null,null,null,null,null,null,null,null,null,null,null,null,null,null,null,null,null,null,null,null,null,null,null,null,null,null,null,null,null,null,null,{"$f":"IF(C83<>(D83+E83+F83+G83+H83+I83),\"* La suma de los campos Grupo de Edad debe ser igual al Total. \",\"\")","v":""},{"$f":"IF(AND($C83<>0,J83=\"\"),\"* No olvide ingresar la columna \"&J$80&\"\"&\" (Digite CERO si no tiene).  \",IF(J83>$C83,\" *La columna \"&J$80&\"\"&\" no puede superar el Total. \",\"\"))","v":""},null,null,null,null,null,null,null,null,null,null,{"$f":"IF(D83+E83+F83+G83+H83+I83<>C83,1,0)","v":0},{"$f":"IF(AND($C83<>0,J83=\"\"),1,IF(J83>$C83,1,0))","v":0}]
[]
["SECCIÓN H: MOTIVOS DE ATENCIÓN POR EMERGENCIA OBSTÉTRICA AL SERVICIO DE  URGENCIA"]
["PATOLOGÍA","CANTIDAD"]
[]
["PREECLAMPSIA SEVERA"]
["ECLAMPSIA"]
["SÍNDROME HIPERTENSIVO DEL EMBARAZO (SHE)"]
["RETARDO CRECIMIENTO INTRAUTERINO (RCIU)"]
["HELLP"]
["PARTO PREMATURO"]
["HEMORRAGIA I TRIMESTRE"]
["HEMORRAGIA II TRIMESTRE"]
["HEMORRAGIA III TRIMESTRE"]
["ROTURA PREMATURA DE MEMBRANA"]
["OTRAS PATOLOGÍAS"]
["TRABAJO DE PARTO SIN PATOLOGÍA"]
["TOTAL",{"$f":"SUM(B88:B99)","v":0}]
[]
["SECCIÓN I: ATENCIONES EN URGENCIA POR VIOLENCIA SEXUAL  "]
["CONCEPTO",null,"TOTAL",null,null,"GRUPOS DE EDAD (en años)  Y CONDICIÓN\n \n",null,null,null,null,null,null,null,null,null,null,null,null,null,null,null,"Gestantes","Con entrega de Anticoncepción de Emergencia","Sin entrega de Anticoncepción de Emergencia","Con profilaxis VIH ","Con profilaxis ITS","Con profilaxis Hepatitis B","VICTIMARIO/A",null,null,null,"Total por Sexo Victimario"]
[null,null,null,null,null,"0 - 4 años",null,"5 - 9 años",null,"10 - 14 años",null,"15 - 17 años",null,"18 - 24 años",null,"25 - 44 años",null,"45-64 años",null,"65 y más años",null,null,null,null,null,null,null,"Pareja/ Ex pareja","Familiar","Conocido/a","Desconocido/a","Hombre","Mujer"]
[null,null,"Ambos Sexos","Hombres ","Mujeres","Hombres ","Mujeres","Hombres ","Mujeres","Hombres ","Mujeres","Hombres ","Mujeres","Hombres ","Mujeres","Hombres ","Mujeres","Hombres ","Mujeres","Hombres ","Mujeres"]
["VIOLENCIA SEXUAL","72 horas o menos",{"$f":"SUM(D106:E106)","v":0},{"$f":"SUM(F106+H106+J106+L106+N106+P106+R106+T106)","v":0},{"$f":"SUM(G106+I106+K106+M106+O106+Q106+S106+U106)","v":0},null,null,null,null,null,null,null,null,null,null,null,null,null,null,null,null,null,null,null,null,null,null,null,null,null,null,null,null,{"$f":"$CB106&CC106&CD106&CE106&CF106&CG106&CH106&CI106&CJ106","v":""},null,null,null,null,null,null,null,null,null,null,null,null,null,null,null,null,null,null,null,null,null,null,null,null,null,null,null,null,null,null,null,null,null,null,null,null,null,null,null,null,null,null,null,null,null,{"$f":"IF(C106<>(D106+E106),\"* La suma de los campos Hombres y Mujeres debe ser igual al Total. \",\"\")","v":""},{"$f":"IF(AF106+AG106<AB106+AC106+AD106+AE106,\"* El campo \"&$AB$103&\"\"&\" no debe ser mayor al \"&$AF$103&\"\"&\". \",\"\")","v":""},{"$f":"IF(AF106+AG106>AB106+AC106+AD106+AE106,\"* El campo \"&$AF$103&\"\"&\" no debe ser mayor al \"&$AB$103&\"\"&\". \",\"\")","v":""},{"$f":"IF(AND($C106<>0,V106=\"\"),\"* No olvide ingresar la columna \"&$V$103&\"\"&\" (Digite CERO si no tiene).  \",IF(V106>$C106,\"* El Número de Gestantes no puede superar el Total. \",\"\"))","v":""},{"$f":"IF(AND($C106<>0,W106=\"\"),\"* No olvide ingresar la columna \"&$W$103&\"\"&\" (Digite CERO si no tiene).  \",IF(W106>$C106,\"* El Número de la columna \"&$W$103&\"\"&\" no puede superar el Total. \",\"\"))","v":""},{"$f":"IF(AND($C106<>0,X106=\"\"),\"* No olvide ingresar la columna \"&$X$103&\"\"&\" (Digite CERO si no tiene).  \",IF(X106>$C106,\"* El Número de la columna \"&X$103&\"\"&\" no puede superar el Total. \",\"\"))","v":""},{"$f":"IF(AND($C106<>0,Y106=\"\"),\"* No olvide ingresar la columna \"&Y$103&\"\"&\" (Digite CERO si no tiene).  \",IF(Y106>$C106,\"* El Número de la columna \"&Y$103&\"\"&\" no puede superar el Total. \",\"\"))","v":""},{"$f":"IF(AND($C106<>0,Z106=\"\"),\"* No olvide ingresar la columna \"&Z$103&\"\"&\" (Digite CERO si no tiene).  \",IF(Z106>$C106,\"* El Número de la columna \"&Z$103&\"\"&\" no puede superar el Total. \",\"\"))","v":""},{"$f":"IF(AND($C106<>0,AA106=\"\"),\"* No olvide ingresar la columna \"&AA$103&\"\"&\" (Digite CERO si no tiene).  \",IF(AA106>$C106,\"* El Número de la columna \"&AA$103&\"\"&\" no puede superar el Total. \",\"\"))","v":""},null,null,null,{"$f":"IF(D106+E106<>C106,1,0)","v":0},{"$f":"IF(AND($C106<>0,V106=\"\"),1,IF(V106>$C106,1,0))","v":0},0,0,0,0,0,{"$f":"IF(AF106+AG106<AB106+AC106+AD106+AE106,1,0)","v":0},{"$f":"IF(AF106+AG106>AB106+AC106+AD106+AE106,1,0)","v":0}]
[null,"Después de 72 horas",{"$f":"SUM(D107:E107)","v":0},{"$f":"SUM(F107+H107+J107+L107+N107+P107+R107+T107)","v":0},{"$f":"SUM(G107+I107+K107+M107+O107+Q107+S107+U107)","v":0},null,null,null,null,null,null,null,null,null,null,null,null,null,null,null,null,null,null,null,null,null,null,null,null,null,null,null,null,{"$f":"$CB107&CC107&CE107&CF107&CG107&CH107&CI107&CJ107","v":""},null,null,null,null,null,null,null,null,null,null,null,null,null,null,null,null,null,null,null,null,null,null,null,null,null,null,null,null,null,null,null,null,null,null,null,null,null,null,null,null,null,null,null,null,null,{"$f":"IF(C107<>(D107+E107),\"* La suma de los campos Hombres y Mujeres debe ser igual al Total. \",\"\")","v":""},{"$f":"IF(AF107+AG107<AB107+AC107+AD107+AE107,\"* El campo \"&$AB$103&\"\"&\" no debe ser mayor al \"&$AF$103&\"\"&\". \",\"\")","v":""},{"$f":"IF(AF107+AG107>AB107+AC107+AD107+AE107,\"* El campo \"&$AF$103&\"\"&\" no debe ser mayor al \"&$AB$103&\"\"&\". \",\"\")","v":""},{"$f":"IF(AND($C107<>0,V107=\"\"),\"* No olvide ingresar la columna \"&$V$103&\"\"&\" (Digite CERO si no tiene).  \",IF(V107>$C107,\"* El Número de Gestantes no puede superar el Total. \",\"\"))","v":""},{"$f":"IF(AND($C107<>0,W107=\"\"),\"* No olvide ingresar la columna \"&$W$103&\"\"&\" (Digite CERO si no tiene).  \",IF(W107>$C107,\"* El Número de la columna \"&$W$103&\"\"&\" no puede superar el Total. \",\"\"))","v":""},{"$f":"IF(AND($C107<>0,X107=\"\"),\"* No olvide ingresar la columna \"&$X$103&\"\"&\" (Digite CERO si no tiene).  \",IF(X107>$C107,\"* El Número de \"&X$103&\"\"&\" no puede superar el Total. \",\"\"))","v":""},{"$f":"IF(AND($C107<>0,Y107=\"\"),\"* No olvide ingresar la columna \"&Y$103&\"\"&\" (Digite CERO si no tiene).  \",IF(Y107>$C107,\"* El Número de \"&Y$103&\"\"&\" no puede superar el Total. \",\"\"))","v":""},{"$f":"IF(AND($C107<>0,Z107=\"\"),\"* No olvide ingresar la columna \"&Z$103&\"\"&\" (Digite CERO si no tiene).  \",IF(Z107>$C107,\"* El Número de \"&Z$103&\"\"&\" no puede superar el Total. \",\"\"))","v":""},{"$f":"IF(AND($C107<>0,AA107=\"\"),\"* No olvide ingresar la columna \"&AA$103&\"\"&\" (Digite CERO si no tiene).  \",IF(AA107>$C107,\"* El Número de \"&AA$103&\"\"&\" no puede superar el Total. \",\"\"))","v":""},null,null,null,{"$f":"IF(D107+E107<>C107,1,0)","v":0},0,0,0,0,0,0,{"$f":"IF(AF107+AG107<AB107+AC107+AD107+AE107,1,0)","v":0},{"$f":"IF(AF107+AG107>AB107+AC107+AD107+AE107,1,0)","v":0}]
[]
["SECCIÓN J: ATENCIONES MÉDICAS POR VIOLENCIA SEXUAL CON REALIZACIÓN O INDICACIÓN DE PERITAJE "]
["TIPO DE ATENCIÓN","DE TURNO"]
[]
["ATENCIÓN POR MÉDICO PERITO"]
["ATENCIÓN OTROS MÉDICOS"]
["TOTAL",{"$f":"SUM(B112:B113)","v":0}]
[]
["SECCIÓN K: ATENCIONES DE URGENCIA ASOCIADAS A LESIONES AUTOINFLIGIDAS"]
["CONCEPTO","TOTAL",null,null,"GRUPOS DE EDAD (en años)"]
[null,null,null,null,"0 - 9 años",null,"10 - 19 años",null,"20 - 24 años",null,"25-44 años",null,"45-54 años",null,"55-64 años",null,"65-74 años",null,"75-84 años",null,"85 y más años"]
[null,"Ambos Sexos","Hombres","Mujeres","Hombres ","Mujeres","Hombres ","Mujeres","Hombres ","Mujeres","Hombres ","Mujeres","Hombres ","Mujeres","Hombres ","Mujeres","Hombres ","Mujeres","Hombres ","Mujeres","Hombres ","Mujeres"]
["Nº DE ATENCIONES ",{"$f":"SUM(C120:D120)","v":0},{"$f":"SUM(E120+G120+I120+K120+M120+O120+Q120+S120+U120)","v":0},{"$f":"SUM(F120+H120+J120+L120+N120+P120+R120+T120+V120)","v":0},null,null,null,null,null,null,null,null,null,null,null,null,null,null,null,null,null,null,null,null,null,null,null,null,null,null,null,null,null,null,null,null,null,null,null,null,null,null,null,null,null,null,null,null,null,null,null,null,null,null,null,null,null,null,null,null,null,null,null,null,null,null,null,null,null,null,null,null,null,null,null,null,null,null,null,{"$f":"IF(B120<>(C120+D120),\"* La suma de los campos Hombres y Mujeres debe ser igual al Total. \",\"\")","v":""},null,null,null,null,null,null,null,null,null,null,null,{"$f":"IF(C120+D120<>B120,1,0)","v":0}]
[]
["SECCIÓN L: ATENCIONES POR MORDEDURA DE ANIMALES EN SERVICIO DE URGENCIA"]
["IDENTIFICACION DEL ANIMAL MORDEDOR",null,"TOTAL","POR SEXO",null,"POR GRUPO DE EDAD (AÑOS)",null,null,null,null,null,null,null,"TIPO DE MORDEDURA",null,"Indicación de vacuna"]
[null,null,null,null,null,"0 - 4 años",null,"5 - 9 años",null,"10 - 14 años",null,"Mayor de 15 años"]
[null,null,"Ambos Sexos","Hombres ","Mujeres","Hombres ","Mujeres","Hombres ","Mujeres","Hombres ","Mujeres","Hombres ","Mujeres","Única","Múltiple"]
["Perro",null,{"$f":"SUM(D126:E126)","v":0},{"$f":"SUM(F126+H126+J126+L126)","v":0},{"$f":"+G126+I126+K126+M126","v":0},null,null,null,null,null,null,null,null,null,null,null,{"$f":"$CB126&$CC126&CE126&CF126","v":""},null,null,null,null,null,null,null,null,null,null,null,null,null,null,null,null,null,null,null,null,null,null,null,null,null,null,null,null,null,null,null,null,null,null,null,null,null,null,null,null,null,null,null,null,null,null,null,null,null,null,null,null,null,null,null,null,null,null,null,null,null,null,{"$f":"IF(C126<(N126+O126),\"* La suma de los campos Tipo de Mordedura Única y Múltiple no debe ser superior al Total Ambos Sexos. \",\"\")","v":""},{"$f":"IF(C126<P126,\"* El campo Indicación de Vacuna no debe ser superior al Total Ambos Sexos. \",\"\")","v":""},null,{"$f":"IF(C126<>0, IF(N126&O126=\"\",\"* No olvide digitar el campo Tipo de Mordedura Única y Múltiple. (*Digite CERO si no tiene). \",\"\"),\"\")","v":""},{"$f":"IF(C126<>0, IF(P126=\"\",\"* No olvide digitar el campo Indicación de vacuna. (Digite CERO si no tiene). \",\"\"),\"\")","v":""},null,null,null,null,null,null,null,{"$f":"IF(C126<(N126+O126),1,0)","v":0},{"$f":"IF(C126<P126,1,0)","v":0},null,{"$f":"IF(AND($C126<>0,N126&O126=\"\"),1,0)","v":0},{"$f":"IF(AND($C126<>0,P126=\"\"),1,0)","v":0}]
["Gato",null,{"$f":"SUM(D127:E127)","v":0},{"$f":"SUM(F127+H127+J127+L127)","v":0},{"$f":"+G127+I127+K127+M127","v":0},null,null,null,null,null,null,null,null,null,null,null,{"$f":"$CB127&$CC127&CE127&CF127","v":""},null,null,null,null,null,null,null,null,null,null,null,null,null,null,null,null,null,null,null,null,null,null,null,null,null,null,null,null,null,null,null,null,null,null,null,null,null,null,null,null,null,null,null,null,null,null,null,null,null,null,null,null,null,null,null,null,null,null,null,null,null,null,{"$f":"IF(C127<(N127+O127),\"* La suma de los campos Tipo de Mordedura Única y Múltiple no debe ser superior al Total Ambos Sexos. \",\"\")","v":""},{"$f":"IF(C127<P127,\"* El campo Indicación de Vacuna no debe ser superior al Total Ambos Sexos. \",\"\")","v":""},null,{"$f":"IF(C127<>0, IF(N127&O127=\"\",\"* No olvide digitar el campo Tipo de Mordedura Única y Múltiple. (Digite CERO si no tiene). \",\"\"),\"\")","v":""},{"$f":"IF(C127<>0, IF(P127=\"\",\"* No olvide digitar el campo Indicación de vacuna. (Digite CERO si no tiene). \",\"\"),\"\")","v":""},null,null,null,null,null,null,null,{"$f":"IF(C127<(N127+O127),1,0)","v":0},{"$f":"IF(C127<P127,1,0)","v":0},null,{"$f":"IF(AND($C127<>0,N127&O127=\"\"),1,0)","v":0},{"$f":"IF(AND($C127<>0,P127=\"\"),1,0)","v":0}]
["Animal silvestre",null,{"$f":"SUM(D128:E128)","v":0},{"$f":"SUM(F128+H128+J128+L128)","v":0},{"$f":"+G128+I128+K128+M128","v":0},null,null,null,null,null,null,null,null,null,null,null,{"$f":"$CB128&$CC128&CE128&CF128","v":""},null,null,null,null,null,null,null,null,null,null,null,null,null,null,null,null,null,null,null,null,null,null,null,null,null,null,null,null,null,null,null,null,null,null,null,null,null,null,null,null,null,null,null,null,null,null,null,null,null,null,null,null,null,null,null,null,null,null,null,null,null,null,"","",null,"","",null,null,null,null,null,null,null,0,0,null,0,0]
["Exposición a murciélago",null,{"$f":"SUM(D129:E129)","v":0},{"$f":"SUM(F129+H129+J129+L129)","v":0},{"$f":"+G129+I129+K129+M129","v":0},null,null,null,null,null,null,null,null,null,null,null,{"$f":"$CB129&$CC129&CE129&CF129","v":""},null,null,null,null,null,null,null,null,null,null,null,null,null,null,null,null,null,null,null,null,null,null,null,null,null,null,null,null,null,null,null,null,null,null,null,null,null,null,null,null,null,null,null,null,null,null,null,null,null,null,null,null,null,null,null,null,null,null,null,null,null,null,"","",null,"","",null,null,null,null,null,null,null,0,0,null,0,0]
["Roedor o animal de abasto",null,{"$f":"SUM(D130:E130)","v":0},{"$f":"SUM(F130+H130+J130+L130)","v":0},{"$f":"+G130+I130+K130+M130","v":0},null,null,null,null,null,null,null,null,null,null,null,{"$f":"$CB130&$CC130&CE130&CF130","v":""},null,null,null,null,null,null,null,null,null,null,null,null,null,null,null,null,null,null,null,null,null,null,null,null,null,null,null,null,null,null,null,null,null,null,null,null,null,null,null,null,null,null,null,null,null,null,null,null,null,null,null,null,null,null,null,null,null,null,null,null,null,null,"","",null,{"$f":"IF(C130<>0, IF(N130&O130=\"\",\"* No olvide digitar el campo Tipo de Mordedura Única y Múltiple. (Digite CERO si no tiene). \",\"\"),\"\")","v":""},"",null,null,null,null,null,null,null,{"$f":"IF(C130<(N130+O130),1,0)","v":0},{"$f":"IF(C130<P130,1,0)","v":0},null,0,0]
[]
[]
[]
[]
[]
[]
[]
[]
[]
[]
[]
[]
[]
[]
[]
[]
[]
[]
[]
[{"$f":"SUM(E12:AL14, E21:AL26,C31:E49,F57:AM63,F69:AM71,F76:W77,D82:J83,B88:B99,F106:U107,B112:B113,E120:V120,F126:M130)","v":0},{"$f":"SUM(CN12:CV130)","v":0}]

{"sheet":"REMASEP B1","index":3,"n_rows":134,"n_cols":83,"rows_kept":134,"cut":false,"hidden":false,"merged":[[68,0,68,1],[49,0,49,1],[50,0,50,1],[51,0,51,1],[67,0,67,1],[55,0,55,1],[56,0,56,1],[53,0,53,1],[60,0,60,1],[48,0,48,1],[73,0,73,1],[74,0,74,1],[91,0,91,1],[90,0,90,1],[65,0,65,2],[72,0,72,1],[82,0,82,1],[63,0,63,1],[83,0,83,1],[57,0,57,1],[58,0,58,1],[59,0,59,1],[52,0,52,1],[54,0,54,1],[66,0,66,1],[112,0,112,1],[114,0,114,1],[109,0,109,1],[108,0,108,1],[107,0,107,1],[110,0,110,1],[69,0,69,1],[95,0,95,1],[80,0,80,2],[71,0,71,1],[94,0,94,1],[92,0,92,1],[70,0,70,1],[75,0,75,1],[78,0,78,1],[76,0,76,1],[81,0,81,1],[89,0,89,1],[85,0,85,1],[77,0,77,1],[39,0,40,0],[45,0,45,1],[101,0,101,1],[97,0,97,2],[111,0,111,1],[100,0,100,1],[98,0,98,1],[104,0,104,1],[106,0,106,1],[102,0,102,1],[103,0,103,1],[99,0,99,1],[47,0,47,2],[88,0,88,2],[86,0,86,1],[84,0,84,1],[10,11,10,12],[7,0,7,10],[25,0,25,1],[10,2,10,10],[9,0,9,10],[24,0,24,2],[20,0,22,0],[12,0,15,0],[10,0,11,1],[16,0,19,0]]}
[{"$f":"CONCATENATE(\"SEREMI: \",NOMBRE!B2,\" \",NOMBRE!C2,,NOMBRE!D2,NOMBRE!E2,NOMBRE!F2,NOMBRE!G2,NOMBRE!H2,\"\")","v":"SEREMI:  "}]
[{"$f":"CONCATENATE(\"Establecimiento: \", NOMBRE!B3,\" \", NOMBRE!C3, NOMBRE!D3,NOMBRE!E3,NOMBRE!F3,NOMBRE!G3,NOMBRE!H3,\"\")","v":"Establecimiento:  "}]
[{"$f":"CONCATENATE(\"Comuna: \",NOMBRE!B4,\" \",NOMBRE!C4,NOMBRE!D4,NOMBRE!E4,NOMBRE!F4,NOMBRE!G4)","v":"Comuna:  "}]
[{"$f":"CONCATENATE(\"Mes: \",NOMBRE!B5, \" \",  \"(\",NOMBRE!C5,NOMBRE!D5,\")\")","v":"Mes:  ()"}]
[{"$f":"CONCATENATE(\"Año: \",NOMBRE!B6)","v":"Año: 2024"},{"$f":"CONCATENATE(NOMBRE!C6)","v":""}]
[]
[]
["REMASEP B1:  ACTIVIDADES DE APOYO DIAGNOSTICO Y TERAPEUTICO\nRESUMEN ESTADÍSTICO MENSUAL  DE ALGUNAS ACTIVIDADES REALIZADAS EN \nESTABLECIMIENTOS NO PERTENECIENTES AL SISTEMA NACIONAL DE SERVICIOS DE SALUD"]
[]
["SECCIÓN A: RESUMEN DE INTERVENCIONES QUIRÚRGICAS POR TIPO DE INTERVENCIÓN Y GRUPO DE EDAD"]
["INTERVENCIONES",null,"POR GRUPO DE EDAD (AÑOS)",null,null,null,null,null,null,null,null,"POR SEXO"]
[null,null,"TOTAL","Menor de \n10 años","10 - 14 \naños","15-19 \naños","20 - 24 \naños","25-39\naños","40-54 \naños","55-64 \naños","65 y más años","Hombres","Mujeres"]
["Electivas","Mayor Ambulatorias ",{"$f":"SUM(D13:K13)","v":0},null,null,null,null,null,null,null,null,null,null,{"$f":"$CA13&CB13&CC13","v":""},null,null,null,null,null,null,null,null,null,null,null,null,null,null,null,null,null,null,null,null,null,null,null,null,null,null,null,null,null,null,null,null,null,null,null,null,null,null,null,null,null,null,null,null,null,null,null,null,null,null,null,null,null,null,null,null,null,null,null,null,null,null,null,null,null,{"$f":"IF(AND(L13+M13<>$C13),\"* *La Sumatoria de las columnas Por Sexo debe ser igual al Total. \",\"\")","v":""},null,null,{"$f":"IF(AND(L13+M13<>$C13),1,0)","v":0}]
[null,"Mayor no Ambulatorias ",{"$f":"SUM(D14:K14)","v":0},null,null,null,null,null,null,null,null,null,null,{"$f":"$CA14&CB14&CC14","v":""},null,null,null,null,null,null,null,null,null,null,null,null,null,null,null,null,null,null,null,null,null,null,null,null,null,null,null,null,null,null,null,null,null,null,null,null,null,null,null,null,null,null,null,null,null,null,null,null,null,null,null,null,null,null,null,null,null,null,null,null,null,null,null,null,null,{"$f":"IF(AND(L14+M14<>$C14),\"* *La Sumatoria de las columnas Por Sexo debe ser igual al Total. \",\"\")","v":""},null,null,{"$f":"IF(AND(L14+M14<>$C14),1,0)","v":0}]
[null,"Menores",0,null,null,null,null,null,null,null,null,null,null,{"$f":"$CA15&CB15&CC15","v":""},null,null,null,null,null,null,null,null,null,null,null,null,null,null,null,null,null,null,null,null,null,null,null,null,null,null,null,null,null,null,null,null,null,null,null,null,null,null,null,null,null,null,null,null,null,null,null,null,null,null,null,null,null,null,null,null,null,null,null,null,null,null,null,null,null,"",null,null,0]
[null,"Total",0,{"$f":"SUM(D13:D15)","v":0},{"$f":"SUM(E13:E15)","v":0},0,0,0,0,0,0,0,0]
["Urgencia","Mayor Ambulatorias ",0,null,null,null,null,null,null,null,null,null,null,{"$f":"$CA17&CB17&CC17","v":""},null,null,null,null,null,null,null,null,null,null,null,null,null,null,null,null,null,null,null,null,null,null,null,null,null,null,null,null,null,null,null,null,null,null,null,null,null,null,null,null,null,null,null,null,null,null,null,null,null,null,null,null,null,null,null,null,null,null,null,null,null,null,null,null,null,"",null,null,0]
[null,"Mayor no Ambulatorias ",0,null,null,null,null,null,null,null,null,null,null,{"$f":"$CA18&CB18&CC18","v":""},null,null,null,null,null,null,null,null,null,null,null,null,null,null,null,null,null,null,null,null,null,null,null,null,null,null,null,null,null,null,null,null,null,null,null,null,null,null,null,null,null,null,null,null,null,null,null,null,null,null,null,null,null,null,null,null,null,null,null,null,null,null,null,null,null,"",null,null,0]
[null,"Menores",0,null,null,null,null,null,null,null,null,null,null,{"$f":"$CA19&CB19&CC19","v":""},null,null,null,null,null,null,null,null,null,null,null,null,null,null,null,null,null,null,null,null,null,null,null,null,null,null,null,null,null,null,null,null,null,null,null,null,null,null,null,null,null,null,null,null,null,null,null,null,null,null,null,null,null,null,null,null,null,null,null,null,null,null,null,null,null,"",null,null,0]
[null,"Total",0,{"$f":"SUM(D17:D19)","v":0},{"$f":"SUM(E17:E19)","v":0},0,0,0,0,0,0,{"$f":"SUM(L17:L19)","v":0},{"$f":"SUM(M17:M19)","v":0}]
["TOTAL","Mayores",0,{"$f":"SUM(D13+D14+D17+D18)","v":0},{"$f":"SUM(E13+E14+E17+E18)","v":0},{"$f":"SUM(F13+F14+F17+F18)","v":0},0,0,0,0,0,{"$f":"SUM(L13+L14+L17+L18)","v":0},{"$f":"SUM(M13+M14+M17+M18)","v":0}]
[null,"Menores",0,{"$f":"SUM(D15+D19)","v":0},{"$f":"SUM(E15+E19)","v":0},0,0,0,0,0,0,{"$f":"SUM(L15+L19)","v":0},{"$f":"SUM(M15+M19)","v":0}]
[null,"Total",0,{"$f":"SUM(D16+D20)","v":0},{"$f":"SUM(E16+E20)","v":0},0,0,0,0,0,0,{"$f":"SUM(L16+L20)","v":0},{"$f":"SUM(M16+M20)","v":0}]
[]
["SECCIÓN B: INTERVENCIONES QUIRÚRGICAS"]
["TIPOS DE INTERVENCIÓN",null,"TOTAL"]
["I","Neurocirugía",{"$f":"'B2 ANEXO'!C1075","v":0}]
["II","Cirugía Oftalmológica",{"$f":"'B2 ANEXO'!C1206","v":0}]
["III","Cirugía Otorrinológica",{"$f":"'B2 ANEXO'!C1361","v":0}]
["IV","Cirugía de Cabeza y Cuello",{"$f":"'B2 ANEXO'!C1472","v":0}]
["V","Cirugía plástica y reparadora",{"$f":"'B2 ANEXO'!C1533","v":0}]
["VI","Dermatología y Tegumentos",{"$f":"'B2 ANEXO'!C1622","v":0}]
["VII","Cirugía Cardiovascular",{"$f":"'B2 ANEXO'!C1719","v":0}]
["VIII","Cirugía de Torax",{"$f":"'B2 ANEXO'!C1801","v":0}]
["IX","Cirugía Abdominal",{"$f":"'B2 ANEXO'!C2009","v":0}]
["X","Cirugía Proctológica",{"$f":"'B2 ANEXO'!C2125","v":0}]
["XI","Cirugía Urológica y Suprarrenal",{"$f":"'B2 ANEXO'!C2204","v":0}]
["XII","Cirugía de la Mama",{"$f":"'B2 ANEXO'!C2314","v":0}]
["XIII","Cirugía Ginecológica",{"$f":"'B2 ANEXO'!C2320","v":0}]
["XIV","Cirugía Obstétrica",{"$f":"SUM(C41:C43)","v":0}]
[null,"Cesárea c/s salpingoligadura o salpingectomía",{"$f":"'B2 ANEXO'!C2365","v":0}]
[null,"Cesárea con histerectomía",{"$f":"'B2 ANEXO'!C2366","v":0}]
[null,"Otras cirugías obstétricas ",{"$f":"'B2 ANEXO'!C2370+'B2 ANEXO'!C2371+'B2 ANEXO'!C2372+'B2 ANEXO'!C2373+'B2 ANEXO'!C2374","v":0}]
["XVI","Traumatología",{"$f":"'B2 ANEXO'!C2394","v":0}]
["XVI","Retiro Elementos Osteosíntesis  ",{"$f":"'B2 ANEXO'!C2607","v":0}]
["TOTAL DE INTERVENCIONES QUIRÚRGICAS",null,{"$f":"SUM(C27:C40,C44:C45)","v":0}]
[]
["SECCIÓN C: EXÁMENES DE LABORATORIO"]
["EXÁMENES",null,"TOTAL"]
["   I            Hematológicos",null,{"$f":"+'B2 ANEXO'!C12","v":0}]
["   II           Bioquímicos",null,{"$f":"+'B2 ANEXO'!C88","v":0}]
["   III          Hormonales",null,{"$f":"+'B2 ANEXO'!C168","v":0}]
["   IV          Genéticos",null,{"$f":"+'B2 ANEXO'!C213","v":0}]
["   V           Inmunológicos",null,{"$f":"+'B2 ANEXO'!C227","v":0}]
["   VI          Microbiológicos",null,{"$f":"SUM(C56+C57+C58)","v":0}]
["                                    a) Bacterias y Hongos (Otros)",null,{"$f":"+'B2 ANEXO'!C307","v":0}]
["                                    b) Parásitos",null,{"$f":"'B2 ANEXO'!C365","v":0}]
["                                   c) Virus",null,{"$f":"+'B2 ANEXO'!C384","v":0}]
["   VII        Procedimiento o determinación directa con paciente",null,{"$f":"+'B2 ANEXO'!C431","v":0}]
["   VIII       Exámenes de deposiciones, exudados, secreciones y otros líquidos",null,{"$f":"+'B2 ANEXO'!C450","v":0}]
["   IX         Orina",null,{"$f":"+'B2 ANEXO'!C499","v":0}]
["Toma de muestras",null,{"$f":"'B2 ANEXO'!C440","v":0}]
["Exámenes de Anatomía Patológica",null,{"$f":"'B2 ANEXO'!C972","v":0}]
["TOTAL DE EXÁMENES LABORATORIO CLÍNICO",null,{"$f":"C61+C60+C59+C55+C54+C53+C52+C51+C50+C62+C63","v":0}]
[]
["SECCIÓN D: IMAGENOLOGÍA"]
["EXÁMENES",null,"TOTAL"]
["a) Radiológicos simples",null,{"$f":"+'B2 ANEXO'!C542","v":0}]
["   a.1) Mamografía bilateral",null,{"$f":"'B2 ANEXO'!C550","v":0}]
["   a.2) Mamografía unilateral",null,{"$f":"'B2 ANEXO'!C551","v":0}]
["b) Radiológicos complejos",null,{"$f":"+'B2 ANEXO'!C599","v":0}]
["c) Tomografía axial computarizada TAC",null,{"$f":"+'B2 ANEXO'!C621","v":0}]
["d) Ultrasonografía",null,{"$f":"+'B2 ANEXO'!C650","v":0}]
["d.1) Ecotomografías (Sin Ecografía Obstétrica y Abdominal)",null,{"$f":"'B2 ANEXO'!C650-'B2 ANEXO'!C651-'B2 ANEXO'!C652","v":0}]
["d.2) Ecografías Obstétricas",null,{"$f":"'B2 ANEXO'!C651","v":0}]
["d.3) Ecotomografías abdominal ",null,{"$f":"'B2 ANEXO'!C652","v":0}]
["e) Resonancia Magnética",null,{"$f":"+ 'B2 ANEXO'!C674","v":0}]
["f) Otros Exámenes de Imágenes",null,{"$f":"+'B2 ANEXO'!C715","v":0}]
["TOTAL DE EXÁMENES IMAGENOLÓGICOS",null,{"$f":"C68+C71+C72+C73+C77+C78","v":0}]
[]
["SECCIÓN E: ANATOMÍA PATOLÓGICA"]
["EXÁMENES",null,"TOTAL"]
["Biopsias",null,{"$f":"+'B2 ANEXO'!C975+'B2 ANEXO'!C976+'B2 ANEXO'!C977+'B2 ANEXO'!C979+'B2 ANEXO'!C980","v":0}]
["Citodiagnósticos",null,{"$f":"+'B2 ANEXO'!C973+'B2 ANEXO'!C974","v":0}]
["Necropsias",null,{"$f":"+'B2 ANEXO'!C981+'B2 ANEXO'!C982","v":0}]
["Otros",null,{"$f":"'B2 ANEXO'!C978+'B2 ANEXO'!C983+'B2 ANEXO'!C984+'B2 ANEXO'!C985+'B2 ANEXO'!C986","v":0}]
["TOTAL DE EXÁMENES ANATOMÍA PATOLÓGICA",null,{"$f":"SUM(C83+C84+C85+C86)","v":0}]
[]
["SECCIÓN F: MEDICINA NUCLEAR Y RADIOTERAPIA"]
["TIPO DE PROCEDIMIENTO",null,"TOTAL"]
["Medicina Nuclear ",null,{"$f":"'B2 ANEXO'!C759","v":0}]
["Braquiterapia",null,{"$f":"'B2 ANEXO'!C824","v":0}]
["Radioterapia ",null,{"$f":"'B2 ANEXO'!C828","v":0}]
["Quimioterapia",null,{"$f":"'B2 ANEXO'!C839","v":0}]
["Radiocirugía",null,{"$f":"'B2 ANEXO'!C837","v":0}]
["TOTAL DE EXÁMENES MEDICINA NUCLEAR",null,{"$f":"SUM(C91:C95)","v":0}]
[]
["SECCIÓN G: PROCEDIMIENTOS DIAGNÓSTICOS Y TERAPÉUTICOS"]
["PROCEDIMIENTOS",null,"TOTAL"]
["Neurología",null,{"$f":"+'B2 ANEXO'!C1020","v":0}]
["Oftalmología",null,{"$f":"+'B2 ANEXO'!C1158","v":0}]
["Otorrinolaringología",null,{"$f":"+'B2 ANEXO'!C1291","v":0}]
["Cabeza y Cuello",null,{"$f":"'B2 ANEXO'!C1470","v":0}]
["Dermatología",null,{"$f":"+'B2 ANEXO'!C1606","v":0}]
["Cardiología",null,{"$f":"+'B2 ANEXO'!C1648","v":0}]
["Respiratorio",null,{"$f":"'B2 ANEXO'!C1900","v":0}]
["Gastroenterología",null,{"$f":"+'B2 ANEXO'!C1940","v":0}]
["Urología y Nefrología",null,{"$f":"+'B2 ANEXO'!C2165","v":0}]
["Ginecología y Obstetricia (se incluyen Abortos)",null,{"$f":"+'B2 ANEXO'!C2285","v":0}]
["Traumatología",null,{"$f":"+'B2 ANEXO'!C2376","v":0}]
["Kinesiología y Fisioterapia",null,{"$f":"'B2 ANEXO'!C858","v":0}]
["Procedimientos Ortopédicos",null,{"$f":"+'B2 ANEXO'!C2611","v":0}]
["Prótesis y órtesis",null,{"$f":"+'B2 ANEXO'!C2622","v":0}]
["Anestésicos",null,{"$f":"'B2 ANEXO'!C2675","v":0}]
["TOTAL DE PROCEDIMIENTOS",null,{"$f":"SUM(C100:C114)","v":0}]
[]
[]
[]
[]
[]
[]
[]
[]
[]
[]
[]
[]
[]
[]
[]
[]
[]
[]
[{"$f":"SUM(C16:K16,C20:K20,C27:C45,C49:C56,C57:C58,C59:C63,C68:C78,C83:C86,C91:C95,C100:C114)","v":0},{"$f":"SUM(CE13:CE19)","v":0}]

{"sheet":"B2 ANEXO","index":4,"n_rows":2724,"n_cols":3,"rows_kept":2724,"cut":false,"hidden":false,"merged":[[780,0,780,1],[765,0,765,1],[167,0,167,1],[212,0,212,1],[6,0,7,2],[11,0,11,1],[87,0,87,1],[649,0,649,1],[620,0,620,1],[540,0,540,2],[598,0,598,1],[226,0,226,1],[305,0,305,1],[306,0,306,1],[364,0,364,1],[383,0,383,1],[430,0,430,1],[10,0,10,2],[857,0,857,1],[498,0,498,1],[541,0,541,1],[714,0,714,1],[757,0,757,2],[804,0,804,1],[811,0,811,1],[798,0,798,1],[801,0,801,1],[758,0,758,1],[759,0,759,1],[772,0,772,1],[795,0,795,1],[816,0,816,1],[789,0,789,1],[673,0,673,1],[2283,0,2283,2],[997,0,997,1],[439,0,439,1],[449,0,449,1],[1532,0,1532,1],[1605,0,1605,1],[1290,0,1290,1],[1360,0,1360,1],[1471,0,1471,1],[836,0,836,1],[927,0,927,1],[813,0,813,1],[971,0,971,1],[815,0,815,2],[1017,0,1017,2],[838,0,838,1],[2674,0,2674,1],[2621,0,2621,1],[822,0,822,1],[823,0,823,1],[827,0,827,1],[2374,0,2374,2],[2393,0,2393,1],[2375,0,2375,1],[1938,0,1938,2],[1939,0,1939,1],[2008,0,2008,1],[1646,0,1646,2],[1019,0,1019,1],[1621,0,1621,1],[2606,0,2606,1],[1074,0,1074,1],[1018,0,1018,2],[1156,0,1156,2],[1289,0,1289,2],[1604,0,1604,2],[1157,0,1157,1],[1205,0,1205,1],[2191,0,2191,1],[986,0,986,1],[1899,0,1899,1],[2610,0,2610,1],[2124,0,2124,1],[2163,0,2163,2],[1647,0,1647,1],[1718,0,1718,1],[2164,0,2164,1],[2203,0,2203,1],[2319,0,2319,1],[2359,0,2359,1],[2313,0,2313,1],[1800,0,1800,1],[1531,0,1531,2],[1469,0,1469,1],[2284,0,2284,1]]}
[{"$f":"CONCATENATE(\"SEREMI: \",NOMBRE!B2,\" \",NOMBRE!C2,,NOMBRE!D2,NOMBRE!E2,NOMBRE!F2,NOMBRE!G2,NOMBRE!H2,\"\")","v":"SEREMI:  "}]
[{"$f":"CONCATENATE(\"Establecimiento: \", NOMBRE!B3,\" \", NOMBRE!C3, NOMBRE!D3,NOMBRE!E3,NOMBRE!F3,NOMBRE!G3,NOMBRE!H3,\"\")","v":"Establecimiento:  "}]
[{"$f":"CONCATENATE(\"Comuna: \",NOMBRE!B4,\" \",NOMBRE!C4,NOMBRE!D4,NOMBRE!E4,NOMBRE!F4,NOMBRE!G4)","v":"Comuna:  "}]
[{"$f":"CONCATENATE(\"Mes: \",NOMBRE!B5, \" \",  \"(\",NOMBRE!C5,NOMBRE!D5,\")\")","v":"Mes:  ()"}]
[{"$f":"CONCATENATE(\"Año: \",NOMBRE!B6)","v":"Año: 2024"}]
[]
["REMASEP B2 ANEXO: PROCEDIMIENTOS DIAGNÓSTICO E INTERVENCIONES QUIRÚRGICAS"]
[]
[]
["CÓDIGOS ","GLOSA","TOTAL"]
["EXÁMENES DE LABORATORIO"]
["SANGRE, HEMATOLOGIA",null,{"$f":"SUM(C13:C87)","v":0}]
["0301002","Ácido fólico o folatos"]
["0301003","Adenográma, mielograma, c/u"]
["0301006","Agregación plaquetaria con diferentes agonistas"]
["0301007","Anticoagulantes circulantes o anticoagulante lúpico"]
["0301008","Antitrombina III"]
["0301011","Coagulación, tiempo de"]
["0301013","Tiempo de lisis del coágulo"]
["0301014","Prueba de antiglobulina directa"]
["0301017","Deshidrogenasa glucosa-6-fosfato en eritrocitos"]
["0301020","Tiempo de lisis de euglobulinas"]
["0301021","Fibrinógeno"]
["0301022","Test de neutralización plaquetaria"]
["0301024","Factor V"]
["0301025","Factores VII, VIII, IX, X, XI, XII, XIII, c/u"]
["0301026","Ferritina"]
["0301027","Fibrinógeno, productos de degradación del"]
["0301028","Fierro sérico"]
["0301029","Fierro, capacidad de fijación del (incluye fierro sérico)"]
["0301030","Fierro, cinética del (cada determinación)"]
["0301034","Clasificación sanguínea AB0 y RhD"]
["0301035","Haptoglobina cuantitativa"]
["0301036","Hematocrito (proc. aut.)"]
["0301038","Hemoglobina en sangre total (proc. aut.)"]
["0301040","Hemoglobina fetal cuantitativa en eritrocitos"]
["0301041","Hemoglobina glicada A1c"]
["0301042","Hemoglobina plasmática"]
["0301044","Electroforesis de hemoglobina"]
["0301045","Hemograma (incluye recuentos de leucocitos, eritrocitos, plaquetas, hemoglobina, hematocrito, fórmula leucocitaria, características de los elementos figurados y velocidad de eritrosedimentación)  "]
["0301048","Hemosiderina medular"]
["0301049","Cuantificación de heparina"]
["0301051","Identificación de anticuerpos irregulares eritrocitarios"]
["0301054","Metahemoglobina"]
["0301059","Tiempo de protrombina (incluye INR, Razón Internacional Normalizada)"]
["0301062","Recuento de basófilos (absoluto)"]
["0301063","Recuento de eosinófilos (absoluto)"]
["0301064","Recuento de eritrocitos, absoluto (proc. aut.)"]
["0301065","Recuento de leucocitos, absoluto (proc. aut.)"]
["0301066","Recuento de linfocitos (absoluto)"]
["0301067","Recuento de plaquetas (absoluto)"]
["0301068","Recuento de reticulocitos (absoluto o porcentual)"]
["0301069","Recuento diferencial o formula leucocitaria (proc. aut.)"]
["0301070","Resistencia globular osmótica"]
["0301072","Tiempo de sangría (no incluye dispositivo asociado)"]
["0301082","Transferrina"]
["0301083","Trombina, tiempo de"]
["0301085","Tromboplastina, tiempo parcial de (TTPA, TTPK o similares)"]
["0301086","Velocidad de eritrosedimentación (proc. aut.)"]
["0301089","Factor Von Willebrand antigénico (FVW: Ag)"]
["0301090","Factor Von Willebrand antigénico Cofactor Ristocetina (FVW: CoRis)"]
["0301091","Proteína C funcional"]
["0301092","Proteína S"]
["0301093","Resistencia a la Proteína C activada"]
["0301094","Estudio de la hemoglobinuria paroxística nocturna (HPN) por citometría de flujo"]
["0301095","Dímero-D"]
["0301096","Procalcitonina"]
["0301097","Inhibidor de factor de la coagulación"]
["0301098","Secreción plaquetaria con diferentes agonistas"]
["0301099","Tiempo de veneno de víbora de Russell diluido"]
["0301100","Antitrombina III antigénica"]
["0301101","Actividad anti-factor X activado"]
["0301102","Tiempo de tromboplastina parcial activado (TTPA) con mezcla de plasma normal"]
["0301103","Mioglobina"]
["0301104","Tromboelastografía"]
["0301105","Mutación JAK-2"]
["0301106","Hematocrito automatizado (en contador hematológico)"]
["0301107","Recuento de reticulocitos (absoluto o porcentual) automatizado"]
["0301108","Ensayo de unión a colágeno"]
["0301109","Multimeros del factor Von Willebrand"]
["0301110","Factor V Leiden"]
["0301111","Mutación G20210A del gen de la protrombina"]
["0301112","Anticuerpos antiplaquetarios"]
["0301113","Folato Eritrocitario"]
["0301114","Proteína C antigénica"]
["0301115","Tipificación antigénica de las plaquetas"]
["0301116","Hemoglobina Glicada, A1c, test rápido en el lugar de asistencia (incluye toma de muestra sangre capilar)"]
["SANGRE, EXAMENES BIOQUIMICOS",null,{"$f":"SUM(C89:C167)","v":0}]
["0302001","Cuerpos cetónicos en sangre"]
["0302002","Ácido cítrico"]
["0302004","Lactato en sangre"]
["0302005","Ácido úrico, en sangre"]
["0302008","Amilasa, en sangre"]
["0302009","Aminoácidos, cualitativo en sangre"]
["0302010","Amonio"]
["0302070","Apolipoproteínas (A1, B u otras) c/u"]
["0302011","Bicarbonato (proc. aut.)"]
["0302012","Bilirrubina total (proc. aut.)"]
["0302013","Bilirrubina total y conjugada"]
["0302015","Calcio en sangre"]
["0302017","Caroteno"]
["0302018","Caroteno, prueba de sobrecarga de"]
["0302019","Ceruloplasmina"]
["0302020","Cobre en sangre"]
["0302067","Colesterol total (proc. aut.)"]
["0302068","Colesterol HDL (proc. aut.)"]
["0302021","Colinesterasa en suero o plasma"]
["0302023","Creatinina en sangre"]
["0302024","Clearance de creatinina (proc.aut.)"]
["0302025","Creatinquinasa CK - MB actividad"]
["0302026","Creatinquinasa CK - total"]
["0302027","Troponina"]
["0302030","Deshidrogenasa láctica total (LDH)"]
["0302031","Deshidrogenasa láctica total (LDH), con separación de isoenzimas"]
["0302032","Electrolitos plasmáticos (sodio, potasio, cloro) c/u"]
["0302033","Enzima convertidora de angiotensina I"]
["0302034","Perfil lipídico (incluye mediciones de colesterol total, HDL-colesterol y triglicéridos con estimaciones por fórmula de LDL-colesterol, VLDL-colesterol y colesterol no-HDL)"]
["0302035","Fármacos y/o drogas; niveles plasmáticos de (alcohol, anorexígenos, antiarrítmicos, antibióticos, antidepresivos, antiepilépticos, antihistamínicos, antiinflamatorios y analgésicos, estimulantes respiratorios, tranquilizantes mayores y menores, etc.) c/u"]
["0302036","Fenilalanina"]
["0302039","Fosfatasas alcalinas con separación de isoenzimas hepáticas, intestinales, óseas c/u"]
["0302040","Fosfatasas alcalinas totales"]
["0302042","Fósforo (fosfatos) en sangre"]
["0302043","Galactosa"]
["0302045","Gamma glutamiltranspeptidasa (GGT)"]
["0302046","Gases y equilibrio ácido base en sangre (incluye: pH, O2, CO2, exceso de base y bicarbonato), todos o cada uno de los parámetros"]
["0302047","Glucosa en sangre"]
["0302048","Glucosa, Prueba de Tolerancia a la Glucosa Oral (PTGO), (dos determinaciones)"]
["0302050","Adenosindeaminasa en sangre u otro fluido biológico (ADA)"]
["0302052","Leucinaminopeptidasa (LAP)"]
["0302053","Lipasa en sangre"]
["0302055","Litio en sangre"]
["0302056","Magnesio en sangre"]
["0302057","Nitrógeno ureico y/o urea, en sangre"]
["0302058","Osmolalidad en sangre"]
["0302075","Perfil bioquímico (determinación automatizada de 12 parámetros)"]
["0302100","Proteínas totales en sangre"]
["0302101","Albúminas en sangre"]
["0302061","Electroforesis de Proteínas (incluye cód. 03-02-100 y 03-02-101)"]
["0302076","Perfil Hepático (incluye tiempo de protrombina, bilirrubina total y conjugada, fosfatasas alcalinas totales, GGT, transaminasas GOT/AST y GPT/ALT)"]
["0302063","Transaminasas, oxalacética (GOT/AST), Pirúvica (GPT/ALT), c/u"]
["0302064","Triglicéridos en sangre (proc.aut.)"]
["0302066","Xilosa, prueba de absorción "]
["0302077","Vitamina B12 por inmunoensayo"]
["0302078","25 OH Vitamina D Total por inmunoensayo (quimioluminiscencia, enzimoinmunoensayo, radio Inmunoensayo y otros)"]
["0302080","Vitamina B6 por HPLC"]
["0302081","Calcio iónico. Incluye medición de pH método ión selectivo. No incluye Point of Care Testing POCT"]
["0302082","Fenilalanina Cuantitativa en Gotas de Sangre Seca"]
["0302083","Carboxihemoglobina"]
["0302084","Plomo en sangre"]
["0302085","Prealbumína"]
["0302086","Homocisteína"]
["0302087","Co-oximetría"]
["0302088","Nivel de Carnitina "]
["0302089","Lipoproteína (A)"]
["0302090","Bilirrubina neonatal"]
["0302091","Colesterol LDL directo"]
["0302092","Creatinquinasa CK - MB masa"]
["0302093","Panel de glicemia (incluye glucosa basal, glucosa 2 horas post desayuno y glucosa 2 horas post almuerzo)"]
["0302094","CK isoenzimas"]
["0302095","Tiopurina metiltransferasa, actividad enzimática"]
["0302096","Tirosina cuantitativa en GSS"]
["0302097","Hormona tiroestimulante, neonatal"]
["0302098","Perfil de aminoácidos y acilcarnitinas"]
["0302099","Pesquisa neonatal ampliada en GSS (incluye perfil de aminoácidos y acilcarnitinas; succinilacetona; hormona tiroestimulante, neonatal; biotinidasa; galactosa total; galactosa-1-fosfato uridiltransferasa; 17-hidroxiprogesterona; tripsina inmunorreactiva)."]
["0302102","Leucina cualitativa en GSS"]
["0302103","Zinc en sangre"]
["0302104","Triptasa sérica"]
["HORMONAS",null,{"$f":"SUM(C169:C212)","v":0}]
["0303001","Adenocorticotrofina (ACTH)"]
["0303002","Aldosterona"]
["0303003","Androstenediona"]
["0303004","Angiotensina"]
["0303006","Cortisol"]
["0303007","Crecimiento, hormona de (HGH) (somatotrofina)"]
["0303008","Dehidroepiandrosterona sulfato (DHEA-S)"]
["0303009","Eritropoyetina"]
["0303012","Gastrina"]
["0303014","Gonadotrofina coriónica, sub-unidad beta (cuantificación)"]
["0303015","Hormona folículo estimulante (FSH)"]
["0303016","Hormona luteinizante (LH)"]
["0303047","IGF1 o Somatomedina - C (Insuline Like Growth Factor)"]
["0303048","IGFBP3, IGFBP1 (Insulin Like Growth Factor Binding Proteins) c/u"]
["0303017","Insulina"]
["0303031","Insulina, curva de (mínimo dos determinaciones)"]
["0303018","Parathormona, hormona Paratiroídea o PTH."]
["0303019","Progesterona"]
["0303020","Prolactina (PRL)"]
["0303021","Renina"]
["0303046","SHBG (Sex-Hormone Binding Globulin)"]
["0303022","Testosterona en sangre"]
["0303023","Testosterona libre en sangre"]
["0303123","Índice androgénico (incluye Testosterona Total y SHBG)"]
["0303024","Tiroestimulante (TSH), hormona (adulto, niño o R.N.)"]
["0303025","Tiroglobulina"]
["0303026","Tiroxina libre (T4L)"]
["0303027","Tiroxina o tetrayodotironina (T4)"]
["0303028","Triyodotironina (T3)"]
["0303029","17 - Hidroxiprogesterona"]
["0303030","Estradiol (17-Beta)"]
["0303049","Catecolaminas en sangre (incluye medición de Adrenalina, Noradrenalina y Dopamina por separado por métodos cromatográficos)"]
["0303052","Péptido C"]
["0303053","Calcitonina"]
["0303054","Inhibina B"]
["0303055","NT-Pro BNP O BNP"]
["0303057","Triyodotironina Libre (T3 libre)"]
["0303058","Hormona antimulleriana"]
["0303033","Angiotensina en Orina"]
["0303035","Cortisol libre urinario"]
["0303039","Gonadotrofina coriónica, sub-unidad Beta; titulación por (Elisa; RIA o IRMA; Quimioluminiscencia u otra técnica)"]
["0303050","Metanefrinas urinarias (incluye determinación de Metanefrina y Normetanefrina por separado por métodos cromatográficos)"]
["0303051","Catecolaminas urinarias (incluye medición de Adrenalina, Noradrenalina y Dopamina por separado por métodos cromatográficos)"]
["0303056","Cortisol salival"]
["IV.- GENETICA",null,{"$f":"SUM(C214:C226)","v":0}]
["0304001","Cariotipo en sangre por cultivo de linfocitos (incluye mínimo 25 mitosis con bandeo G y eventualmente Q, R, C, NOR) (montaje de 3 metafases bandeadas)"]
["0304002","Cariotipo con técnicas especiales (incluye muestra de sangre o de médula ósea, tratamiento con FUDR, bromuro de etidio, medio deficiente en ácido fólico)"]
["0304003","Cariotipo en fibroblastos por cultivo de trofoblasto, líquido amniótico, piel u otros bandeos G y eventualmente Q, R, C, NOR"]
["0304006","FISH Cromosomas X e Y"]
["0304007","Diagnóstico Genético Molecular: Displasia Tanatofórica tipo I y II"]
["0304008","Amplificación por PCR más análisis de fragmentos fluorescentes por electroforesis capilar (hasta 5 fragmentos)"]
["0304009","Estudio de deleciones y duplicaciones por amplificación múltiple de sondas dependiente de ligación (MLPA) (1 o varios genes)"]
["0304010","Estudio de deleciones y duplicaciones por amplificación múltiple de sondas dependiente de ligación (MLPA) más estudio de metilación o segundo set de sondas (1 o varios genes)"]
["0304012","Amplificación por PCR en tiempo real cuantitativo con sonda"]
["0304013","Amplificación de ADN por PCR convencional de 1 fragmento"]
["0304014","Amplificación por PCR más análisis por restricción enzimática"]
["0304015","FISH en frotis frescos de médula ósea, sangre, concentrado de células plasmáticas seleccionadas o corte de tejido en parafina, búsqueda de alteraciones adquiridas"]
["0304016","Cariotipo molecular (Hibridación Genómica Comparativa en Micromatrices) 60K (incluye la extracción de ADN)"]
["V.- INMUNOLOGIA",null,{"$f":"SUM(C228:C305)","v":0}]
["0305001","Alfa -1- antitripsina cuantitativa"]
["0305002","Alfa -2- macroglobulina"]
["0305003","Alfa fetoproteínas"]
["0305004","Tamizaje de Anticuerpos anti-antígenos nucleares extractables (a- ENA) (incluye Sm, RNP, Ro, La, Scl- 70 y Jo- 1)."]
["0305005","Anticuerpos antinucleares (ANA), antimitocondriales, anti DNA (ADNA), anti músculo liso, anticentrómero, u otros, c/u."]
["0305007","Anticuerpos específicos y otros autoanticuerpos (anticuerpos antitiroídeos: anticuerpos antimicrosomales y antitiroglobulinas y otros anticuerpos: prostático, espermios, etc.) c/u."]
["0305008","Antiestreptolisina O, por técnica de látex"]
["0305009","Antígeno carcinoembrionario (CEA)"]
["0305070","Antígeno prostático específico"]
["0305170","Antígeno Ca 125, Ca 15-3 y Ca 19-9, c/u"]
["0305010","Beta-2-microglobulina"]
["0305012","Complemento C1Q, C2, C3, C4, etc., c/u"]
["0305013","Complemento hemolítico (CH 50)"]
["0305014","Crioglobulinas, precipitación en frío (cualitativa) o cuantitativa c/u"]
["0305019","Factor reumatoídeo por técnica de látex u otras similares"]
["0305020","Factor reumatoídeo por técnica de Scat, Waaler Rose, nefelométricas y/o turbidimétricas"]
["0305021","Inhibidor de C1Q, C2 y C3, c/u"]
["0305025","Inmunofijación de inmunoglobulina, c/u"]
["0305026","Inmunoglobulina IgA secretora"]
["0305027","Inmunoglobulinas IgA, IgG, IgM, c/u"]
["0305028","Inmunoglobulinas IgE, IgD total, c/u"]
["0305029","Inmunoglobulinas IgE, IgG específicas, c/u"]
["0305030","Proteína C reactiva por técnica de látex u otras similares"]
["0305031","Proteína C reactiva por técnicas automatizadas"]
["0305181","Anticuerpos antitransglutaminasa (TTG) (Incluye IgG e IgA)"]
["0305081","Anticuerpo antiendomisio (EMA, antimembrana basal glomerular (GBM), antireticulina, por IFI c/u."]
["0305082","Anticuerpos anticitoplasma de neutrófilos (ANCA), (incluye C-ANCA y P-ANCA), por IFI."]
["0305083","Determinación de isotipos de anticuerpos anticitoplasma de neutrófilos (G-M-A-C'3), por IFI, c/u."]
["0305084","Anticuerpos anticardiolipinas (IgG, IgM), c/u"]
["0305085","Anticuerpos anti LKM-1"]
["0305086","Anticuerpos contra péptidos deaminados de gliadina IgG e IgA"]
["0305098","Cromogranina A"]
["0305099","Péptido Cíclico Citrulinado, anticuerpos IgG"]
["0305100","Proteína C ultrasensible"]
["0305101","Anticuerpos anti-saccharomyces cerevisiae (ASCA) IGA e IGG, c/u"]
["0305104","Antígeno prostático total y libre"]
["0305105","Anticuerpos anti-Beta 2 glicoProteína 1 (IgG, IgM), c/u"]
["0305106","Estudio inmunológico de diabetes (incluye determinación simultánea de anticuerpos anti-células de islotes (ICA), auto anticuerpo insulina nativa (IAA), anti-antígeno de insulinoma-2 (IA2) y anti-glutamato descarboxilasa (GADA)."]
["0305107","Anticuerpos anti-MPO (mieloperoxidasa)"]
["0305108","Anticuerpos anti antígenos nucleares extractables (A-ENA): SM, RNP, SS-A/RO, SS-B/LA, SCL-70, JO-1). c/u"]
["0305109","Anticuerpos anti-PR3 (proteasa 3)"]
["0305124","Receptor de tirotropina (TRAb), anticuerpos anti"]
["0305125","CTX sérico"]
["0305126","Subclases de IgG (1,2,3,4)"]
["0305035","Detección, identificación y titulación de crioaglutininas"]
["0305036","Criohemolisinas"]
["0305037","Digestión fagocítica nitroblue-tetrazolium cualitativo y cuantitativo"]
["0305038","Fagocitosis: ingestión y digestión (killing) de levaduras por polimorfonucleares"]
["0305039","Fagocitosis: ingestión y digestión (killing) de bacterias por polimorfonucleares"]
["0305040","Inmunoadherencia de leucocitos macrófagos"]
["0305041","Intradermorreacción (PPD, histoplasmina, aspergilina, u otros, incluye el valor del antígeno y reacción de control), c/u."]
["0305042","LIF o MIF"]
["0305044","Linfocitos B (rosetas EAC) y linfocitos T (rosetas E) c/u"]
["0305047","Linfotoxínas humanas, detección de"]
["0305049","Transformación linfoblástica a drogas, análisis de transformación espontánea con estímulo inespecífico y con diferentes concentraciones de la droga en 1000 células"]
["0305089","Linfocitos B totales (CD19). Técnica Citometría de Flujo"]
["0305091","Linfocitos T (incluye CD3, CD4, CD8). Técnica Citometría de Flujo"]
["0305092","Natural Killers (incluye CD16, CD 56). Técnica Citometría de Flujo"]
["0305080","Estudio para hipersensibilidad retardada"]
["0305093","Inmunofenotipo en Leucemias Agudas"]
["0305094","Inmunofenotipo en Síndrome Linfoproliferativos"]
["0305095","Inmunofenotipo en Síndrome Mielodisplásicos"]
["0305096","Detección de Enfermedad Residual Mínima"]
["0305097","Cuantificación de células progenitoras hematopoyéticas CD 34"]
["0305110","Alocross Match Linfocitos T y Linfocitos B (Citometría de Flujo)"]
["0305111","Anticuerpo Anti HLA Clase I y II Screening (Luminex)"]
["0305112","Autocrossmatch linfocitos T y B (Citometría de flujo)"]
["0305113","Especificidad de anticuerpos HLA con Antígenos Individuales clase I (Luminex)"]
["0305114","Especificidad de anticuerpos hla con Antígenos Individuales clases II (Luminex)"]
["0305115","Estudio Receptor Trasplantado Con Donante Cadáver"]
["0305116","HLA-AB Tipificación (Biología Molecular)"]
["0305117","HLA-ABDR Tipificación (Biología Molecular)"]
["0305118","HLA-B27 Tipificación (Biología Molecular)"]
["0305119","HLA-C Tipificación (Biología Molecular)"]
["0305120","HLA-DP Tipificación (Biología Molecular)"]
["0305121","HLA-DQ Tipificación (Biología Molecular)"]
["0305122","HLA-DR Tipificación (Biología Molecular)"]
["0305123","Seroteca Mensual y Mantención en Lista de Espera"]
["EXAMENES MICROBIOLOGICOS",null,{"$f":"C307+C365+C384","v":0}]
[" BACTERIAS Y HONGOS",null,{"$f":"SUM(C308:C364)","v":0}]
["0306001","Baciloscopía por método de concentración"]
["0306002","Baciloscopía Ziehl-Neelsen, c/u"]
["0306004","Examen directo al fresco, c/s tinción (incluye trichomonas)"]
["0306005","Tinción de Gram"]
["0306006","Ultramicroscopía"]
["0306102","Tinción de toluidina"]
["0306103","Tinción de calcofluor"]
["0306104","Tinción para campylobacter"]
["0306105","Tinción tinta china"]
["0306007","Coprocultivo, c/u"]
["0306008","Cultivo corriente (excepto coprocultivo, hemocultivo y urocultivo) c/u"]
["0306011","Urocultivo, recuento de colonias y antibiograma (cualquier técnica)"]
["0306091","Hemocultivo automatizado. Incluye Antibiograma con CIM. "]
["0306093","Hemocultivo automatizado para Micobacterias."]
["0306101","Cultivo de Líquido de Cavidades Estériles en frasco de Hemocultivo automatizado. Incluye Antibiograma por difusión o dilución (1 frasco, costo no incluido en arancel). "]
["0306106","Hemocultivo automatizado para hongos"]
["0306012","Cultivo para Anaerobios (incluye Cód. 03-06-008)"]
["0306013","Cultivo para Bordetella"]
["0306014","Cultivo para Campylobacter, Yersinia, Vibrio, c/u"]
["0306016","Neisseria gonorrhoeae (gonococo)"]
["0306017","Cultivo para hongos (levaduras y filamentosos)"]
["0306117","Cultivo para dermatofitos"]
["0306018","Cultivo para micobacterias (incluye bacilo de Koch)"]
["0306019","Cultivo para Legionella"]
["0306022","Cultivo y Tipificación de micobacterias"]
["0306023","Cultivo mycoplasma y ureaplasma, c/u."]
["0306099","Streptococcus Grupo B/ agalactiae en embarazada por cultivo con medio selectivo y/o enriquecido."]
["0306100","Cultivo acelerado para Micobacterias"]
["0306025","Antibiograma Bacilo de Koch (cada fármaco)"]
["0306026","Antibiograma Corriente (mínimo 10 fármacos) (en caso de urocultivo no corresponde su cobro; incluido en el valor 03-06-011)"]
["0306027","Antibiograma de estudio de sensibilidad por dilución (CIM) (mínimo 6 fármacos) (en caso de urocultivo, no corresponde su cobro; incluido en el valor código 03-06-011)"]
["0306028","Antifungigrama (mínimo 4 fármacos antihongos)"]
["0306097","Chlamydia Trachomatis y Neisseria Gonorrhoeae detección por técnica de biología molecular"]
["0306090","Test rápido de detección de streptococcus grupo A (Pyogenes)"]
["0306098","Toxina Clostridium Difficile en deposiciones test rápido"]
["0306107","Pneumocystis Jirovecci por técnica de biología molecular en tiempo real"]
["0306108","Helicobacter pylori, detección en deposiciones, test rápido"]
["0306118","Amplificación de DNA de Bordetella Pertussis por técnica de biología molecular en tiempo real"]
["0306133","Streptococcus agalactiae en embarazada por biología molecular "]
["0306134","Panel ETS por biología molecular"]
["0306135","Beta-d- glucano"]
["0306136","Detección de antígeno capsular de cryptococcus"]
["0306138","Clostridium Difficile por técnica de biología molecular en tiempo real"]
["0306033","Brucella abortus, melitensis y suis, anticuerpos, por Aglutinación o Elisa"]
["0306034","Clamidias por inmunofluorescencia, peroxidasa, Elisa o similares"]
["0306036","Mononucleosis, reacción de Paul Bunnell, Anticuerpos Heterófilos o similares"]
["0306037","Mycoplasma IgG, IgM, c/u."]
["0306038","R.P.R."]
["0306039","Tíficas, reacciones de aglutinación (Eberth H y O, paratyphi A y B) (Widal)"]
["0306041","Treponema pallidum FTA - ABS, MHA-TP c/u"]
["0306042","V.D.R.L."]
["0306094","Antígeno galactomanano"]
["0306114","Antígeno de neumococo"]
["0306115","Legionella antígeno urinario"]
["0306119","Interferón Gamma T.B.C."]
["0306131","Bordetella pertussis IgG, IgM en sangre"]
["0306132","Bartonella henselae, anticuerpos IgG o IgM, c/u"]
["PARASITOS           ",null,{"$f":"SUM(C366:C383)","v":0}]
["0306043","Artrópodos macroscópicos y microscópicos (imagos y/o pupas y/o larvas), diagnóstico de"]
["0306045","Coproparasitario seriado con técnica para cryptosporidium Sp o para diantamoeba fragilis (incluye los códigos 03-06-048 y/o 03-06-059 más aplicación de técnica de frotis con Tinción tricrómica o tinción Ziehl-Neelsen en por lo menos 3 muestras, según corresponda)"]
["0306046","Coproparasitario seriado para fasciola hepática (incluye diagnóstico de gusanos macroscópicos y examen microscópico de 10 muestras por método de Telemann y simultáneamente por técnica de Sedimentación rápida (Copa Cónica)"]
["0306047","Coproparasitario seriado para Isospora y Sarcocystis (incluye diagnóstico de gusanos macroscópicos y examen microscópico de 3 muestras separadas)"]
["0306048","Coproparasitológico seriado simple (incluye diagnóstico de gusanos macroscópicos y examen microscópico por concentración de tres muestras separadas método Telemann) (proc. aut.)"]
["0306049","Diagnóstico de parásitos en jugo duodenal y/o bilis, examen macroscópico y microscópico (directo y/o concentración, c/s tinción)"]
["0306050","Diagnóstico parasitario en exudados, secreciones y otros líquidos orgánicos, examen macro y microscópico de (incluye concentración y/o tinción cuando proceda), c/u"]
["0306051","Graham, examen de (incluye diagnóstico de gusanos macroscópicos y examen microscópico de 5 muestras separadas)"]
["0306052","Estudio de gusanos macroscópicos"]
["0306053","Hemoparásitos, diagnóstico microscópico de (mínimo 10 frotis y/o gotas gruesas, c/s examen directo al fresco), cada sesión"]
["0306054","Hemoparásitos, diagnóstico por técnica de Microstrout o similar en hasta 10 tubos capilares, cada sesión (Chagas)"]
["0306056","Raspado de piel, examen microscópico de (\"Acarotest\"): de 6 a 10 preparaciones"]
["0306059","Coproparasitológico seriado simple (incluye diagnóstico de gusanos macroscópicos y examen microscópico por concentración de tres muestras separadas método PAFS) (proc. aut.)"]
["0306137","Raspado de piel, examen microscópico para búsqueda de demodex"]
["0306061","Parásitos IgG/IgM (Chagas, Hidatidosis, toxocariásis y otros por Elisa o Inmunofluorescencia), c/u"]
["0306066","Inmunofluorescencia indirecta (toxoplasmosis, Chagas, amebiasis y otras), c/u"]
["0306095","Parásitos: determinación por reacción de polimerasa en cadena (PCR)"]
["0306096","Parásitos: test rápido anticuerpos (Chagas y otros)"]
["VIRUS                         ",null,{"$f":"SUM(C385:C430)","v":0}]
["0306068","Aislamiento de virus (Adenovirus, Citomegalovirus, Enterovirus, Herpes, Influenza, Polio, Sarampión y otros), c/u"]
["0306069","Anticuerpos virales, determ. de (Sars cov-2 igm IgG), (adenovirus, citomegalovirus, herpes simple, rubeóla, Influenza A y B; virus Varicela-Zoster; virus sincicial Respiratorio; parainfluenza 1, 2 y 3; Epstein Barr y otros), c/u"]
["0306169","Anticuerpos virales, determ. de H.I.V."]
["0306070","Antígenos virales determ. de (Adenovirus, Citomegalovirus, Herpes simplex, Rubeola, influenza y otros), (por cualquier técnica ej: inmunofluorescencia), c/u"]
["0306170","Antígenos virales determ. de rotavirus, por cualquier técnica"]
["0306270","Antígenos virales determ. de virus sincicial, por cualquier técnica"]
["0306074","Virus Hepatitis A, anticuerpos IgG, IgM o totales c/u"]
["0306075","Virus hepatitis B, anticuerpo del antígeno E del"]
["0306076","Virus hepatitis B, anticore total del (anti HBc total)"]
["0306077","Virus hepatitis B, anticuerpos contra antígeno superficie"]
["0306078","Virus hepatitis B, antígeno E del (HBEAg)"]
["0306079","Virus hepatitis B, antígeno de superficie (HBsAg)"]
["0306080","Virus hepatitis B, anticore IgM del (anti HBc IgM)"]
["0306081","Virus hepatitis C, anticuerpos de (anti HCV)"]
["0306082","Reacción de Polimerasa en cadena (P.C.R.) en tiempo real, SARS CoV-2, (incluye toma muestra hisopado nasofaríngeo)."]
["0306182","Reacción de Polimerasa en cadena (P.C.R.) en tiempo real, virus Influenza, virus Herpes, citomegalovirus, hepatitis C, mycobacteria T.B.C., c/u (incluye toma muestra hisopado nasofaríngeo)."]
["0306083","Citomegalovirus (CMV) shell vial aislamiento rápido"]
["0306084","Hepatitis B, carga viral"]
["0306085","Hepatitis C carga viral. Técnica PCR"]
["0306086","VIH, carga viral"]
["0306087","Virus Epstein Barr (VEB) carga viral. Técnica PCR"]
["0306088","Polioma (BK) virus carga viral \tPolioma (BK) virus carga viral. Técnica PCR"]
["0306109","VIH, Genotipificaciones antivirales"]
["0306110","PCR metapneumovirus"]
["0306111","HTLV I y II determinación de anticuerpos virales"]
["0306112","VIH, anticuerpos y antígenos virales, determ. de H.I.V."]
["0306113","VIH, reacción de polimerasa en cadena (P.C.R.) en líquido cefalorraquídeo"]
["0306120","Panel viral diarrea por PCR (determinación de rotavirus, norovirus g1, norovirus g2, astrovirus, adenovirus)"]
["0306121","Hanta virus, anticuerpos IgM test rápido"]
["0306122","Panel virus respiratorio molecular (15 a 17 virus) (adenovirus, VRS A, VRS B, parainfluenza 1,2,3,4, influenza a y b, influenza a H1N1, bocavirus, coronavirus (2 tipos), rinovirus, enterovirus."]
["0306123","Virus Papiloma Humano por PCR con genotipificación de papiloma de alto riesgo de Cáncer Cérvico Uterino tipos 16 y 19"]
["0306124","Virus ARN por PCR (hanta, dengue, chikungunya, sarampión, enterovirus, parechovirus, zika) c/u"]
["0306125","Virus hepatitis C, genotipificación "]
["0306126","Hanta virus serología IgG/IgM c/u"]
["0306127","Panel de meningitis encefalitis por biología molecular "]
["0306128","Rotavirus y adenovirus detección simultanea de por inmunocromatografía"]
["0306129","Norovirus detección por inmunocromatografía"]
["0306130","Virus hepatitis B, anticuerpos anti antígeno de superficie (títulos)"]
["0306271","Test rápido de detección de antígenos SARS-CoV-2 (incluye toma de muestra)"]
["0306139","Virus Hepatitis E, Anticuerpos IgM"]
["0306140","Virus Hepatitis E, Anticuerpos IgG"]
["0306141","Parvovirus B19, anticuerpos IgG o IgM, c/u"]
["0306142","PCR para parvovirus B19"]
["0306143","PCR para virus varicela zoster "]
["0306144","HTLV virus por PCR"]
["0306145","CMV, carga viral"]
["PROCEDIMIENTOS O DETERMINACIONES DIRECTAMENTE CON EL PACIENTE",null,{"$f":"SUM(C432:C439)","v":0}]
["0307001","Dietilendiamina tetraacetato de sodio cromo (EDTA Cr 51)"]
["0307002","Prueba de la sed (volumen, densidad, osmolalidad seriada en sangre y orina)"]
["0307005","Reacción cutánea de parche c/u"]
["0307006","Sobrecarga hídrica"]
["0307007","Test del sudor (procedimiento completo)"]
["0307008","Vasopresina test o similares (incluye además mediciones de diuresis)"]
["0307023","Aspirados nasofaríngeos para adulto y niño."]
["0307024","Reacción cutánea a alergenos (incluye el valor de los alergenos)"]
["TOMA DE MUESTRAS",null,{"$f":"SUM(C441:C449)","v":0}]
["0307009","Toma de muestra Arterial en adultos"]
["0307010","Toma de muestra Arterial en niños y lactantes"]
["0307011","Toma de muestra Venosa en adultos"]
["0307012","Toma de muestra Venosa en niños y lactantes"]
["0307013","Toma de muestra con técnica aséptica para hemocultivo automatizado, c/u"]
["0307014","Toma de muestra Capilar (adultos, niños y lactantes)"]
["0307016","Toma de muestra por punción traqueal"]
["0307017","Toma de muestra por punción vesical en recién nacidos"]
["0307018","Toma de muestra por punción medular ósea"]
["EXAMENES DE DEPOSICIONES, EXUDADOS, SECRECIONES Y OTROS LIQUIDOS",null,{"$f":"SUM(C451:C498)","v":0}]
["0308001","Azúcares reductores (Benedict-Fehling o similar)"]
["0308003","Grasas neutras (Sudán III)"]
["0308004","Hemorragias ocultas, (bencidina, guayaco o test de Weber y similares), cualquier método, c/muestra"]
["0308005","Leucocitos fecales"]
["0308006","pH en deposiciones"]
["0308007","Elastasa fecal"]
["0308047","Esteatocrito"]
["0308049","Calprotectina cuantitativa por Elisa"]
["0308009","Células neoplásicas en fluidos biológicos"]
["0308010","Citológico c/s tinción (incluye examen al fresco, recuento celular y citológico porcentual)"]
["0308011","Directo al fresco c/s tinción, (incluye trichomonas)"]
["0308012","Electrolitos (sodio, potasio, cloro), en exudados, secreciones y otros líquidos, c/u"]
["0308013","Eosinófilos en secreciones"]
["0308014","Físico-químico (incluye aspecto, color, pH, glucosa, proteína, Pandy y filancia)"]
["0308015","Glucosa en exudados, secreciones y otros líquidos"]
["0308016","Mucina, determinación de"]
["0308017","pH en exudados, secreciones y otros líquidos (proc. aut.)"]
["0308050","Proteínas totales en exudados, secreciones y otros líquidos"]
["0308051","Albúminas en exudados, secreciones y otros líquidos"]
["0308019","Proteínas, electroforésis de (incluye proteínas totales) en otros líquidos biológicos"]
["0308020","Bandas oligoclonales (incluye electroforésis de I.C.R., Suero e inmunofijación)"]
["0308021","Glutamina"]
["0308022","Índice IgG/albúmina (incluye determ. de IgG y albúmina en L.C.R. y suero)"]
["0308023","Estudio de cristales (con luz polarizada)"]
["0308025","Prueba de estimulación máxima con histamina, mínimo 5 muestras (no incluye la histamina ni el antihistamínico)."]
["0308029","Espermiograma (físico y microscópico, con o sin observación hasta 24 horas)"]
["0308030","Fosfatasa ácida prostática"]
["0308031","Fructosa seminal"]
["0308033","Células anaranjadas (proc. aut.)"]
["0308034","Contaminantes (meconio y sangre) (proc. aut.)"]
["0308035","Creatinina en exudados, secreciones y otros líquidos (proc. aut.)"]
["0308036","Fosfatidil glicerol y/o fosfatidil inositol"]
["0308037","Índice de bilirrubina (prueba de Liley)"]
["0308038","Índice lecitina/esfingomielina"]
["0308039","Madurez fetal completa (físico; células anaranjadas, bilirrubina, test de Clements, creatinina, contaminantes)"]
["0308040","Test de Clements (proc. aut.)"]
["0308041","Colpocitograma"]
["0308043","Moco-semen, prueba de compatibilidad"]
["0308044","Flujo vaginal o secreción uretral, estudio de (incluye toma de muestra y códigos 03-06-004, 03-06-005, 03-06-008, 03-06-017 y 03-06-026)"]
["0308045","Amilasa en Líquidos Biológicos"]
["0308046","Lipasa en Líquidos Biológicos"]
["0308048","Cuerpos lamelares (procedimiento automatizado) en líquido amniótico"]
["0308052","Colesterol total en exudados, secreciones y otros líquidos"]
["0308053","Hematocrito automatizado (en contador hematológico) en exudados, secreciones y otros líquidos"]
["0308054","LDH en exudados, secreciones y otros líquidos"]
["0308055","Triglicéridos en exudados, secreciones y otros líquidos"]
["0308056","Beta-2 transferrina"]
["0308057","Ácido láctico, LCR"]
[" EXAMENES ORINA ",null,{"$f":"SUM(C500:C540)","v":0}]
["0309001","Ácido ascórbico"]
["0309002","Ácido delta aminolevulínico"]
["0309004","Ácido úrico en orina (cuantitativo)"]
["0309005","Ácido 5 hidroxiindolacético cuantitativo"]
["0309006","Amilasa cuantitativa en orina"]
["0309007","Aminoácidos en orina (cualitativo) (excepto fenilalanina, PKU)"]
["0309008","Calcio cuantitativo en orina"]
["0309009","Cálculo urinario (examen físico y químico)"]
["0309010","Creatinina cuantitativa en orina"]
["0309011","Cuerpos cetónicos"]
["0309012","Electrolitos (sodio, potasio, cloro) c/u, en orina"]
["0309013","Microalbuminuria cuantitativa"]
["0309014","Gonadotrofina coriónica, sub-unidad beta en orina (test rápido)"]
["0309015","Fósforo cuantitativo en orina"]
["0309016","Glucosa (cuantitativo), en orina"]
["0309035","Hemosiderina"]
["0309017","Hidroxiprolina en orina"]
["0309019","Mucopolisacáridos"]
["0309020","Nitrógeno ureico o urea en orina (cuantitativo)"]
["0309021","Nucleótidos cíclicos (CAMP, CGM, u otros) c/u"]
["0309022","Orina completa, (incluye cód. 03-09-023 y 03-09-024)"]
[309023,"Orina, físico-químico (aspecto, color, densidad, pH; proteínas, glucosa, cuerpos cetónicos, urobilinógeno, bilirrubina, hemoglobina y nitritos, determinación cualitativa o semi cuantitativa) todos o cada uno de los parámetros (proc. aut.)"]
["0309024","Sedimento de orina (proc. aut.)"]
["0309025","Osmolalidad"]
["0309027","Porfirinas, c/u"]
["0309028","Proteína (cuantitativa), en orina"]
["0309029","Proteínas de Bence-Jones prueba térmica"]
["0309031","Screening de drogas"]
["0309034","Arsénico en orina (muestra aislada)"]
["0309036","Cobre en orina"]
["0309037","Oxalato en orina"]
["0309038","Citrato en orina (enzimático)"]
["0309039","Deoxipiridinolina (DPD)"]
["0309040","Magnesio en orina"]
["0309041","Sulfato en orina"]
["0309042","L-Cistina en orina"]
["0309043","Ph en orina con peachimetro"]
["0309044","Ácidos orgánicos, orina"]
["0309045","Ácido orótico, orina"]
["0309046","Screening de mucopolisacáridos"]
["0309047","Zinc en orina"]
[" IMAGENOLOGIA"]
[" EXAMENES RADIOLOGICOS SIMPLES",null,{"$f":"SUM(C543:C598)","v":0}]
["0401001","Radiografía de las glándulas salivales \"sialografía\""]
["0401002","Radiografía de partes blandas, laringe lateral, cavum rinofaríngeo (rinofarinx). "]
["0401004","Radiografía de tórax, proyección complementaria (oblicuas, selectivas u otras)"]
["0401008","Radiografía de tórax  frontal o lateral con equipo móvil fuera del departamento de rayos."]
["0401009","Radiografía de tórax simple frontal o lateral "]
["0401070","Radiografía de tórax frontal y lateral"]
["0401075","Radiografía de tórax frontal y lateral con equipo móvil fuera del departamento de rayos"]
["0401010","Mamografía bilateral"]
["0401110","Mamografía unilateral"]
["0401130","Mamografía proyección complementaria  (axilar u otras)"]
["0401011","Marcación preoperatoria de lesiones de la mama"]
["0401012","Radiografía de mama, pieza operatoria"]
["0401013","Radiografía de Abdomen Simple"]
["0401014","Radiografía de abdomen simple, proyección complementaria (lateral y/o oblicua)"]
["0401015","Colangiografía intra o postoperatoria (por sonda T, o similar)"]
["0401018","Enema baritado del colon (incluye llene y control post-vaciamiento)"]
["0401019","Enema baritado del colon o intestino delgado, doble contraste"]
["0401020","Esofagograma  (incluye pesquisa de cuerpo extraño) (proc.aut.)"]
["0401021","Radiografía de esófago, estómago y duodeno, relleno y/o doble contraste "]
["0401022","Estudio radiológico de deglución faríngea"]
["0401023","Estudio radiológico del intestino delgado"]
["0401024","Radiografía de esófago, estómago y duodeno, simple en niños "]
["0401027","Pielografía de eliminación o descendente: incluye renal y vesical simples previas, 3 placas post inyección de medio de contraste, controles de pie y cistografía pre y post miccional. "]
["0401028","Radiografía renal simple (proc. aut.)"]
["0401029","Radiografía vesical simple o perivesical (proc. aut.)"]
["0401031","Radiografía de cavidades perinasales, órbitas, articulaciones temporomandibulares, huesos propios de la nariz, malar, maxilar, arco cigomático y cara"]
["0401032","Radiografía de cráneo frontal y lateral"]
["0401033","Radiografía de Cráneo  proyección especial de  base de cráneo (Towne)"]
["0401035","Radiografía de oído, unilateral o bilateral"]
["0401040","Radiografía de silla turca frontal y lateral"]
["0401042","Radiografía de columna cervical o atlas-axis (frontal y lateral)"]
["0401043","Radiografía de columna cervical (frontal, lateral y oblicuas)"]
["0401044","Radiografía de columna cervical  flexión y  extensión (Dinámicas)"]
["0401045","Radiografía de columna dorsal o dorsolumbar localizada, parrilla costal (frontal y lateral)"]
["0401046","Radiografía columna lumbar o lumbosacra ( frontal, lateral y focalizada en el 5° espacio)   "]
["0401047","Radiografía columna lumbar o lumbosacra  flexión y  extensión (Dinámicas)"]
["0401048","Radiografía columna lumbar o lumbosacra, oblicuas adicionales "]
["0401049","Radiografía de columna total, panorámica con folio graduado  frontal o lateral"]
["0401051","Radiografía de pelvis, cadera o coxofemoral"]
["0401151","Radiografía de pelvis, cadera o coxofemoral de RN, lactante o niño menor de 6 años."]
["0401052","Radiografía de pelvis, cadera o coxofemoral, proyecciones especiales; (rotación interna, abducción, lateral, Lawenstein u otras)"]
["0401053","Radiografía de Sacrocoxis o articulaciones sacroilíacas."]
["0401054","Radiografía de brazo, antebrazo, codo, muñeca, mano, dedos, pie  (frontal y lateral)"]
["0401055","Radiografía de clavícula."]
["0401056","Radiografía Edad Ósea: carpo y mano "]
["0401057","Radiografía Edad ósea : rodilla frontal"]
["0401058","Estudio radiológico de escafoides"]
["0401059","Estudio radiológico de muñeca o tobillo frontal lateral y oblicuas"]
["0401060","Radiografía de hombro, fémur, rodilla, pierna, costilla o esternón Frontal y Lateral"]
["0401062","Radiografía de Proyecciones especiales oblicuas u otras en hombro, brazo, codo, rodilla, rótulas, sesamoideos, axial de ambas rótulas o similares"]
["0401063","Radiografía de túnel intercondíleo o radio-carpiano"]
["0401064","Apoyo fluoroscópico a procedimientos intraoperatorios y/o biopsia (no incluye el proc.)"]
["0401071","Mamografía bilateral digital 3D con tomosíntesis"]
["0401072","Mamografía unilateral digital 3D con tomosíntesis"]
["0401073","Videofluoroscopia para estudio de deglución"]
["0401074","Tránsito colónico con marcadores"]
["EXAMENES RADIOLOGICOS COMPLEJOS",null,{"$f":"SUM(C600:C620)","v":0}]
["0402001","Vía lagrimal unilateral"]
["0402005","Galactografía, unilateral"]
["0402008","Colangiopancreatografía endoscópica (5-7 exp)"]
["0402009","Fistulografía (3 exp.)"]
["0402011","Histerosalpingografía (a.c. 20-01-013) (4 exp.; incluye prueba de Cotte tardía)"]
["0402012","Pielografía ascendente(3 exp.)"]
["0402014","Uretro y/o cistouretrografía miccional retrógrada (5 exp.)"]
["0402015","Artrografía facetaria"]
["0402019","Angiografía selectiva de carótida externa o interna"]
["0402020","Angiografía selectiva medular"]
["0402024","Aortografía con AOT o cineangiografía"]
["0402025","Arteriografía de miembros superiores o inferiores unilateral (a.c.17-01-023)"]
["0402027","Arteriografía selectiva con AOT o cineangiografía (pulmonar, renal, tronco celíaco o similar) c/u."]
["0402029","Arteriografía de vasos del cuello (carótidas y vertebrales) (a.c. 11-01-013)"]
["0402031","Embolización o balonización (a.c. de la angiografía correspondiente) (incluye control radiológico inmediato)"]
["0402032","Instalación de catéter o sonda intracardíaca, control por radiólogo"]
["0402035","Cavografía"]
["0402038","Flebografía extremidad inferior o superior, unilateral (a.c. 17-01-026) cada extremidad."]
["0402040","Flebografía orbitaria o yugular"]
["0402041","Flebografía selectiva de venas hepáticas, renales, gonadales, pélvicas. (a.c. 17-01-027)"]
["0402050","Mielografía por punción lumbar con contraste hidrosoluble"]
["TOMOGRAFIA AXIAL COMPUTARIZADA (TAC)",null,{"$f":"SUM(C622:C649)","v":0}]
["0403001","Tomografía Computarizada de cráneo encefálica"]
["0403002","Tomografía Computarizada de hipotálamo-hipófisis"]
["0403003","Tomografía Computarizada de fosa posterior"]
["0403006","Tomografía Computarizada de temporal-oído"]
["0403007","Tomografía Computarizada de órbitas maxilofacial"]
["0403008","Tomografía Computarizada de columna cervical"]
["0403018","Tomografía Computarizada de Columna Dorsal. Incluye mínimo 6 espacios"]
["0403019","Tomografía Computarizada de Columna Lumbar"]
["0403012","Tomografía Computarizada de cuello, partes blandas"]
["0403013","Tomografía Computarizada de Tórax. Incluye, además: Esternón, Clavículas, Articulación Acromioclavicular, Escápula, Costillas, Articulación Esternoclavicular. Incluye todo el Tórax o cada segmento o articulación. Incluye bilateralidad"]
["0403014","Tomografía Computarizada de abdomen (hígado, vías y vesícula biliar, páncreas, bazo, suprarrenales y riñones)"]
["0403016","Tomografía Computarizada de Pelvis (Además incluye Sacro, Coxis, Caderas, Huesos Pélvicos, Articulaciones Sacro Ilíacas). Bilateral"]
["0403020","Tomografía Computarizada de Abdomen y Pelvis"]
["0403021","Tomografía Computarizada Pielografía"]
["0403022","Tomografía Computarizada Urografía"]
["0403023","Tomografía Computarizada de Colonoscopía Virtual. No incluye instalación de sonda"]
["0403024","Tomografía Computarizada Planificación Radioterapia"]
["0403025","Tomografía Computarizada de Calcio Coronario"]
["0403104","Tomografía Computarizada Angio de Cuello"]
["0403105","Tomografía Computarizada Angio de Pelvis"]
["0403106","Tomografía Computarizada de Angio Cardíaco. Mínimo 64 cortes"]
["0403017","Tomografía Computarizada Musculoesquelética por zona anatómica. Por cada segmento o articulación: muslo, pierna, rodillas, antebrazo, codo, muñeca, mano, hombro, pie, tobillo u otros. Bilateral solo para rodillas"]
["0403101","Tomografía Computarizada angio de encéfalo"]
["0403102","Tomografía Computarizada angio de tórax"]
["0403103","Tomografía Computarizada angio de abdomen"]
["0403107","Tomografía computarizada angio de extremidades inferiores (bilateral)"]
["0403108","Tomografía computarizada angio de extremidad superior (unilateral)"]
["0403026","Tomografía computarizada de enterografía "]
["ULTRASONOGRAFIA",null,{"$f":"SUM(C651:C673)","v":0}]
["0404002","Ecografía obstétrica"]
["0404003","Ecografía abdominal (incluye hígado, vía biliar, vesícula, páncreas, riñones, bazo, retroperitoneo y grandes vasos)"]
["0404004","Ecografía como apoyo a cirugía, o a procedimiento (de tórax, muscular, partes blandas, etc.)"]
["0404005","Ecografía transvaginal o transrectal"]
["0404006","Ecografía ginecológica, pelviana femenina u obstétrica con estudio fetal"]
["0404007","Ecografía transvaginal para seguimiento de ovulación, procedimiento completo (6-8 sesiones)"]
["0404008","Ecografía para seguimiento de ovulación, procedimiento completo (6 a 8 sesiones)"]
["0404009","Ecografía pélvica masculina (incluye vejiga y próstata)"]
["0404010","Ecografía renal (bilateral), o de bazo"]
["0404011","Ecografía encefálica (RN o lactante)"]
["0404012","Ecografía mamaria bilateral (incluye Doppler)"]
["0404013","Ecografía ocular, unilateral o bilateral."]
["0404014","Ecografía testicular (unilateral o bilateral) (Incluye Doppler)"]
["0404015","Ecografía tiroidea (Incluye Doppler)"]
["0404016","Ecografía Partes Blandas o Musculoesquelética (cada zona anatómica)"]
["0404017","Ecografía axilar"]
["0404019","Ecografía espinal"]
["0404118","Ecografía vascular (arterial y venosa) periférica(bilateral)"]
["0404119","Ecografía Doppler de vasos del cuello"]
["0404120","Ecografía transcraneana"]
["0404121","Ecografía abdominal o de vasos testiculares"]
["0404122","Ecografía Doppler de vasos placentarios"]
["0404218","Elastografía hepática"]
["RESONANCIA MAGNÉTICA (incluye medio de contraste)",null,{"$f":"SUM(C675:C714)","v":0}]
["0405001","Resonancia Magnética Cráneo Encefálica u Oídos, bilateral"]
["0405002","Resonancia Magnética de hipotálamo - hipófisis"]
["0405003","Resonancia Magnética de órbitas"]
["0405004","Resonancia Magnética de articulaciones temporomandibulares"]
["0405005","Resonancia Magnética de columna cervical"]
["0405006","Resonancia Magnética de columna dorsal"]
["0405007","Resonancia Magnética de columna lumbar"]
["0405017","Resonancia Magnética Angiografía de Encéfalo"]
["0405018","Resonancia Magnética Angiografía de Cuello"]
["0405019","Resonancia Magnética Angiografía de Tórax"]
["0405020","Resonancia Magnética Angiografía de Abdomen"]
["0405021","Resonancia Magnética Angiografía de Pelvis"]
["0405022","Resonancia Magnética Angiografía de Extremidad Superior Unilateral"]
["0405023","Resonancia Magnética Angiografía de Extremidad Inferior Bilateral"]
["0405009","Resonancia Magnética de Tórax (corazón, esternón, clavículas, articulación acromioclavicular, escápula, costillas o articulación esternoclavicular). Toda la pared torácica o cada segmento o articulación. Bilateral"]
["0405010","Resonancia Magnética de abdomen"]
["0405011","Resonancia Magnética de Pelvis. Incluye: osteoarticular de sacroilíacas u osteoarticular de sacrocoxis u osteoarticular de huésos pélvicos u órganos pelvianos (incluye genitales internos y gastrointestinal)"]
["0405012","Resonancia Magnética de abdomen y pelvis"]
["0405098","Colangioresonancia"]
["0405013","Resonancia Magnética de rodilla"]
["0405024","Resonancia Magnética de Mano o Muñeca"]
["0405025","Resonancia Magnética de Antebrazo o Brazo"]
["0405026","Resonancia Magnética de Codo"]
["0405027","Resonancia Magnética de Hombro"]
["0405028","Resonancia Magnética de Pie, Antepié o Tobillo"]
["0405029","Resonancia Magnética de Pierna"]
["0405030","Resonancia Magnética de Muslo o Cadera. Unilateral"]
["0405031","Resonancia Magnética de Mama (bilateral)"]
["0405032","Resonancia Magnética Fetal"]
["0405016","Resonancia Columna Total (cervical, dorsal, lumbar)"]
["0405033","Resonancia magnética para planificación de tratamiento con radioterapia"]
["0405034","Resonancia magnética estudio funcional de encéfalo"]
["0405035","Resonancia magnética tractografía"]
["0405036","Resonancia magnética espectroscopía encefálica"]
["0405037","Resonancia magnética de cara, macizo facial y/o cavidades paranasales"]
["0405038","Resonancia magnética perfusión cerebral"]
["0405039","Resonancia magnética estudio de líquido cerebroespinal"]
["0405040","Resonancia magnética estudio de piso pélvico por defecografía "]
["0405041","Resonancia Magnética Screening óseo o muscular"]
["0405042","Resonancia Magnética de cuello"]
["OTROS EXÁMENES DE IMAGENES",null,{"$f":"SUM(C716:C757)","v":0}]
["0403998","Cisternotac o Cisterno TAC"]
[null,"Estudio de deglución faríngea por videofluroscopía"]
[null,"Ecotomografía portátil (traslado desde imagenología al servicio que lo requiere)"]
[null,"Marcación Ecográfica"]
[null,"Angiotomografía computarizada de corazón con estudios de vasos coronarios"]
[null,"Angiotomografía corazón con estudio de vasos coronarios"]
[null,"Estudio de Flujo de Líquido Cefalo Raquideo"]
[null,"Toracocentesis guiado por ecotomografía"]
[null,"Laparocentesis guiado por ecotomografía"]
[null,"Ablación por radiofrecuencia de tumores guiado por ecotomografía"]
[null,"Ablación por radiofrecuencia de tumores guiado por TAC"]
[null,"Contraste paramagnético para resonancia magnética"]
[null,"Contraste yodado hidrosoluble para tomografía computada"]
[null,"Extracción de cuerpos extraños guiado por ecotomografía"]
[null,"Marcación de microcalcificaciones preoperatorias guiada por mamografías "]
[null,"Marcación de nódulo mamario preoperatorio guiada por ultrasonido "]
[null,"Punción Citológica bajo Ecografía"]
[null,"Punción Citológica bajo TAC"]
[null,"Punción citológica de tiroides por ultrasonido"]
[null,"Radiofrecuencia bajo TAC"]
[null,"Asistencia ventricular en UCI"]
[null,"Biopsia de lesiones de partes blandas guiado por ecotomografía"]
[null,"Biopsia de tiroides con aguja fina PAAF"]
[null,"Biopsia Ósea con Anestesia General"]
[null,"Biopsia Ósea sin Anestesia General"]
[null,"Biopsia Percutánea bajo Ecografía con Anestesia General"]
[null,"Biopsia Percutánea bajo TAC con Anestesia General"]
[null,"Biopsia de médula"]
[null,"Biopsia hepática"]
[null,"Biopsia muscular"]
[null,"Biopsia rápida en quirófano"]
[null,"Infiltraciones terapéuticas guiado por ecotomografía"]
[null,"Artrocentesis (drenaje articular) diagnóstico y terapéutico guiado por ecotomografía"]
[null,"Aspiración tendinitis calcificante del hombre guiado por ecotomografía"]
[null,"Cálculo de reserva Fraccional de Flujo"]
[null,"Drenaje de colecciones guiado por ecotomografía"]
[null,"Drenaje de colecciones guiado por tomografía computada"]
[null,"Drenaje Percutáneo bajo TAC con Anestesia General"]
[null,"Drenaje Percutáneo bajo TAC sin Anestesia General"]
[null,"Nefrostomía bajo TAC con Anestesia General"]
[null,"Nefrostomía percutánea guiada en TAC"]
[null,"Biopsia mamaria guiado por ecotomografía"]
[" MEDICINA NUCLEAR Y RADIOTERAPIA "]
[" PROCEDIMIENTOS DIAGNOSTICOS   ",null,{"$f":"C760+C766+C773+C781+C790+C796+C799+C802+C805+C812+C814+C817","v":0}]
["ESTUDIOS ENDOCRINOLÓGICOS",null,{"$f":"SUM(C761:C765)","v":0}]
["0501100","Captación I-131 a las 2 y/o 24 horas"]
["0501101","Cintigrafía tiroidea, cualquier radioisótopo"]
["0501102","Cintigrafía glándulas paratiroides (no incluye MIBI)"]
["0501140","Cintigrafía Spect glándulas paratiroides con sestamibi"]
["0501141","Cintigrafía Spect-ct glándulas paratiroides con sestamibi "]
[" ESTUDIOS OSTEOARTICULARES",null,{"$f":"SUM(C767:C772)","v":0}]
["0501136","Cintigrafía ósea completa planar"]
["0501137","Cintigrafía de médula ósea"]
["0501104","Cintigrafía ósea trifásica (incluye mediciones fase precoz y tardía)"]
["0501142","Cintigrama óseo de cuerpo entero con Spect"]
["0501143","Cintigrama óseo de cuerpo entero con Spect-CT"]
["0501144","Cintigrama óseo Spect ATM"]
["ESTUDIOS CARDIOVASCULARES",null,{"$f":"SUM(C774:C780)","v":0}]
["0501105","Spect de perfusión miocárdica estrés y reposo (no incluye honorarios médico cardiólogo)"]
["0501106","Ventriculografía cardiaca isotópica de equilibrio con glóbulos rojos"]
["0501107","Pool sanguíneo, arteriografía isotópica c/u"]
["0501108","Linfocintigrafía isotópica (no incluye procedimiento)"]
["0501109","Pool sanguíneo spect"]
["0501145","Ventriculografía cardíaca isotópica de primer paso"]
["0501146","Ventriculografía cardíaca isotópica spect"]
["ESTUDIOS DIGESTIVOS",null,{"$f":"SUM(C782:C789)","v":0}]
["0501138","Cintigrafía de glándulas salivales"]
["0501139","Dacriocintigrafía"]
["0501111","Estudio motilidad esofágica y/o reflujo gastroesofágico"]
["0501112","Vaciamiento gástrico líquido o sólido"]
["0501113","Cintigrafía vesícula y vía biliar"]
["0501114","Detección de sitio de sangramiento digestivo con glóbulos rojos marcados"]
["0501115","Detección divertículo Meckel"]
["0501116","Spect hepatoesplénico, evaluación hemangioma o hiperplasia (incluye mediciones fase precoz y tardía)"]
["ESTUDIOS NEFROUROLÓGICOS",null,{"$f":"SUM(C791:C795)","v":0}]
["0501117","Cintigrafía renal con D.M.S.A."]
["0501118","Estudio dinámico renal con Tc 99 - DTPA"]
["0501119","Estudio dinámico renal con Tc 99 - MAG 3 o EC"]
["0501120","Cistografía isotópica indirecta"]
["0501121","Cistografía isotópica directa (no incluye procedimiento)"]
["ESTUDIOS PULMONARES",null,{"$f":"SUM(C797:C798)","v":0}]
["0501122","Cintigrafía pulmonar perfusión o ventilación o difusión, c/u"]
["0501123","Cintigrafía y estudio aspiración pulmonar"]
["ESTUDIOS SISTEMA NERVIOSO CENTRAL",null,{"$f":"SUM(C800:C801)","v":0}]
["0501124","Spect cerebral de perfusión (no incluye radiofármaco)"]
["0501125","Estudio dinámico sistema nervioso (radiocisternografía, fístula L.C.R, radioventriculografía, control válvula derivativa, sub-durografía isotópica), c/u (no incluye procedimiento)."]
["ESTUDIOS DE INFECCIONES",null,{"$f":"SUM(C803:C804)","v":0}]
["0501126","Cintigrafía evaluación infecciones (leucocitos, infecton, granulocitos u otros) (no incluye radiofármaco ni procedimiento)."]
["0501127","Cintigrafía con galio-67 planar infección (no incluye radioisótopo) (a.c. 0501133, cuando corresponda)"]
["ESTUDIOS ONCOLÓGICOS",null,{"$f":"SUM(C806:C811)","v":0}]
["0501128","Detección y/o marcación de ganglio centinela, no incluye, punción ni detección con gammaprobe"]
["0501129","Cintigrafía con galio-67 planar y Spect, para estudio de tumores (no incluye radioisótopo)"]
["0501130","Exploración sistémica con I-131 (incluye mediciones fase precoz y tardía)"]
["0501131","Estudio glándulas mamarias (mamocintigrafía) (no incluye MIBI)"]
["0501132","Estudio de tumores (anticuerpos monoclonales, octreoscan, DMSA pentavalente, prostacint u otros) (no incluye radioisótopo)"]
["0501133","Spect - Tomografía por emisión fotón único, cualquier órgano (no incluye radioisótopo)"]
["DENSITOMETRÍA OSEA",null,{"$f":"SUM(C813)","v":0}]
["0501134","Densitometría ósea a fotón doble, columna y cadera (unilateral o bilateral) o cuerpo entero"]
[" EXAMEN Y ESTUDIO PET-CT",null,{"$f":"SUM(C815)","v":0}]
["0501135","PET-CT"]
["PROCEDIMIENTOS TERAPEUTICOS."]
["RADIOISOTOPOS",null,{"$f":"SUM(C818:C822)","v":0}]
["0502001","Dosis terapéuticas con I-131 hasta 30 mCi."]
["0502002","Dosis terapéuticas con I-131 entre 31 a 100 mCi."]
["0502003","Dosis terapéuticas con I-131 entre 101 a 200 mCi."]
["0502004","Dosis terapéuticas con I-131 entre 201 a 300 mCi."]
["0502005","Terapia paliativa del dolor con radioisótopos (no incluye radiofármaco)"]
[" TRATAMIENTOS INTEGRALES DE BRAQUITERAPIA, RADIOTERAPIA Y QUIMIOTERAPIA",null,{"$f":"C824+C828+C837+C839","v":0}]
["BRAQUITERAPIA",null,{"$f":"SUM(C825:C827)","v":0}]
[2901001,"Tratamiento integral de braquiterapia endocavitaria o intersticial (por sesión)"]
["2901002","Tratamiento integral de braquiterapia de implante permanente, no incluye implante (por sesión)"]
["2901003","Tratamiento Integral braquiterapia alta o mediana dosis, HDR (por sesión)"]
["RADIOTERAPIA ",null,{"$f":"SUM(C829:C836)","v":0}]
[2902001,"Tratamiento integral de radioterapia altamente compleja con Linac"]
[2902002,"Tratamiento integral de radioterapia compleja con Linac"]
[2902003,"Tratamiento integral de radioterapia estándar con Linac"]
[2902004,"Tratamiento integral de radioterapia convencional con Linac"]
[2902009,"Tratamiento integral de radioterapia altamente compleja con cobalto"]
[2902010,"Tratamiento integral de radioterapia compleja con cobalto"]
[2902011,"Tratamiento integral de radioterapia estándar con cobalto"]
[2902012,"Tratamiento integral de radioterapia convencional con cobalto"]
["RADIOCIRUGÍA",null,{"$f":"SUM(C838)","v":0}]
[2903001,"Radiocirugía"]
["QUIMIOTERAPIA",null,{"$f":"SUM(C840:C857)","v":0}]
[2904001,"Quimioterapia alto riesgo 1 (por ciclo)"]
[2904002,"Quimioterapia alto riesgo 2 (por ciclo)"]
[2904003,"Quimioterapia bajo riesgo 1 (por ciclo)"]
[2904004,"Quimioterapia bajo riesgo 2 (por ciclo)"]
[2904005,"Quimioterapia bajo riesgo 3 (por ciclo)"]
[2904006,"Quimioterapia bajo riesgo 4 (por ciclo)"]
[2904007,"Quimioterapia riesgo intermedio 1 (por ciclo)"]
[2904008,"Quimioterapia riesgo intermedio 2 (por ciclo)"]
[2904009,"Quimioterapia riesgo intermedio 3 (por ciclo)"]
[2904010,"Quimioterapia riesgo intermedio 4 (por ciclo)"]
[2904011,"Quimioterapia radioterapia 1 (por ciclo)"]
[2904012,"Quimioterapia radioterapia 2 (por ciclo)"]
[2904013,"Tratamiento terapia endocrina 1 (por ciclo)"]
[2904014,"Tratamiento terapia endocrina 2 (por ciclo)"]
[2904015,"Tratamiento inhibidores tirosin kinasa 1 (valor trimestral)"]
[2904016,"Tratamiento inhibidores tirosin kinasa 2 (valor trimestral)"]
[2904017,"Tratamiento inhibidores tirosin kinasa 3 (valor trimestral)"]
[2904018,"Tratamiento inhibidores tirosin kinasa 4 (valor trimestral)"]
["KINESIOLOGÍA Y FISIOTERAPIA",null,{"$f":"SUM(C859:C927)","v":0}]
["0601101","Evaluación Kinesiológica Integral"]
["0601103","Atención Kinesiológica Integral en Pacientes hospitalizados"]
["0601104","Atención Kinesiológica Integral UPC (Intensivo e Intermedio)"]
["0602001","Atención integral de terapia ocupacional"]
["0602002","Intervención de terapia ocupacional en ayudas técnicas y tecnología asistida"]
["0602003","Intervención terapia ocupacional en actividades de la vida diaria, básicas, instrumentales y avanzadas"]
["0608101","Telerehabilitación: Evaluación Kinesiológica Integral"]
["0608102","Telerehabilitación: Atención Kinesiológica Integral"]
["0608201","Telerehabilitación: Atención integral de terapia ocupacional"]
["0608202","Telerehabilitación: Intervención de terapia ocupacional en ayudas técnicas y tecnología asistida"]
["0608203","Telerehabilitación: Intervención terapia ocupacional en actividades de la vida diaria, básicas, instrumentales y avanzadas"]
["0601105","Atención Kinesiológica Integral Ambulatoria"]
["0601106","Atención Kinesiológica Integral Domiciliaria"]
["0601001","Evaluación kinesiológica: muscular, articular, postural, neurológica y funcional (máximo 2 por tratamiento)"]
["0601003","Evaluación Biomecánica instrumental"]
["0601004","Piscina temperada (incluye ejercicios) (proc.aut.)"]
["0601005","Radiación infrarroja, horno, baño parafina, compresas húmedas, c/u (proc.aut.)"]
["0601006","Tanque de Hubbard con ejercicios (hiper o hipo-termal sobre 1.000 lts de capacidad) (proc.aut.)"]
["0601007","Turbión, tanque con remolino (hiper o hipotermal,baño de contraste) (proc.aut.)"]
["0601010","Terapia por radiación ultravioleta. (proc.aut.)"]
["0601008","Laserterapia (proc.aut.)"]
["0601009","Onda corta (ultratermia), microondas, c/u (proc.aut.)"]
["0601011","Terapia por ondas mecánicas (proc. aut.)"]
["0601012","Analgesia transcutánea (TENS) (proc.aut.)"]
["0601013","Estimulación eléctrica (interferencial, diadinámicas, exponenciales, galvánica, faradica, ultraexcitante) (proc.aut.)"]
["0601014","Iontoforesis (proc.aut.)"]
["0601015","Retroalimentación neuromuscular (miofeedback) (proc.aut.)"]
["0601016","Compresión neumática (masaje compresivo) (proc.aut.)"]
["0601027","Tracción cervical y/o lumbar (mecánica o manual) (proc.aut.)"]
["0601017","Ejercicios respiratorios y procedimientos de kinesiterápia torácica (ventilación pulmonar localizada, estimulación de la tos, bloqueos torácicos, vibraciones, percusiones y tapoteos) (proc.aut.)"]
["0601028","Entrenamiento cardiorespiratorio funcional"]
["0601018","Prueba de esfuerzo o Entrenamiento ergométrico (porc.aut.)"]
["0601019","Entrenamiento funcional con ayudas técnicas (órtesis, ayudas de desplazamiento, etc.) (proc.aut.)"]
["0601020","Entrenamiento protésico extremidades (proc.aut.)"]
["0601021","Manipulación osteopática (liberación articular, manipulación vertebral) (proc.aut.)"]
["0601022","Masoterapia, por sesión (proc.aut.)"]
["0601023","Orientación y entrenamiento de personas con baja visión o con ceguera (proc.aut.)"]
["0601024","Reeducación motriz (ejercicios terapéuticos para recuperación muscular, capacidad de trabajo, coordinación, gimnasia ortopédica, reeducación funcional, de marcha) (individual y por sesión, mínimo 30 minutos) (proc.aut.)"]
["0601025","Técnicas de facilitación, técnicas de inhibición  (Kabat y/o Bobath) (proc.aut.)"]
["0601026","Técnicas de relajación (entrenamiento autógeno Schultz - Jacobson o similar) (proc.aut.)"]
["0601030","Maniobras permeabilización de la vía aérea (proc.aut.)"]
["0601031","Atención kinesiológica integral, al enfermo hosp. en UTI o Intermedio (máx. 1 diaria)"]
["0601171","Asistencia en IOT, VMNI, cambio de cánula de traqueostomía"]
["0601181","Entrenamiento ortostático en mesa basculante"]
[null,"Evaluación de la deglución"]
[null,"Rehabilitación de la deglución "]
[null,"Reeducación de la tos y respiración en pacientes con traqueostomía"]
[null,"Evaluación de funciones cognitivas"]
[null,"Rehabilitación de funciones cognitivas"]
[null,"Deep oscilación"]
[null,"Plataforma Vibratoria"]
[null,"Rehabilitación  virtual en BRU"]
[null,"Vocastim"]
[null,"Prueba de tolerancia ortostática"]
[null,"Rehabilitación vestibular"]
[null,"Asistencia bloqueo espasticidad"]
[null,"Punción seca"]
[null,"Neurodinamia"]
[null,"Entrenamiento ortésico de gran incapacitado"]
[null,"Evaluación  y rehabilitación en actividades de la vida diaria"]
[null,"Habilitación y rehabilitación laboral"]
[null,"Habilitación y rehabilitación educacional"]
[null,"Integración sensorial"]
[null,"Manejo de trastorno de deglución"]
[null,"Infiltración intraneuromuscular (fenol y toxina botulínica)"]
[null,"Estimulación cognitiva grupal"]
[null,"Estimulación magnética"]
[null,"Atención integral en demencia"]
[null,"Entrenamiento ortésico de gran incapacitado (proc.aut) "]
["MEDICINA TRANSFUSIONAL",null,{"$f":"SUM(C929:C971)","v":0}]
["0702101","Producción de glóbulo rojo"]
["0702102","Producción de concentrado de plaquetas estándar"]
["0702103","Producción de plasma o crioprecipitado"]
["0702104","Producción de concentrado de plaquetas por aféresis automática"]
["0702105","Producción de concentrado de glóbulos rojos por aféresis automática"]
["0702106","Producción de concentrado de leucocitos por aféresis automática"]
["0702107","Producción de concentrado de plasma por aféresis automática"]
["0702108","Producción de células progenitoras hematopoyética por aféresis automática a partir de sangre periférica"]
["0702109","Irradiación de componente sanguíneo por unidad"]
["0702110","Filtración de glóbulos rojos o plaquetas (incluye filtro Recién nacido y pool de plaquetas)"]
["0702201","Calificación microbiológica por donante estudiado, componente sanguíneo producido o producto de aféresis automática"]
["0702202","Calificación inmunohematológica por donante estudiado, componente sanguíneo producido o producto de aféresis automática"]
["0702203","Prueba de compatibilidad por unidad de glóbulos rojos estudiada (proc. aut.)"]
["0702204","Fenotipificación otros antígenos de grupos sanguíneos por unidad de glóbulos rojos producido"]
["0702205","Titulación de anticuerpos irregulares eritrocitarios"]
["0702206","Genotipificación D variante (incluye D parcial y débil)"]
["0702207","Detección de anticuerpos irregulares eritrocitarios"]
["0702208","Grupos menores. Tipificación o detección de otros Antígenos de sistemas sanguíneos (Kell, Duffy, Kidd y otros) c/u."]
["0702209","Subgrupo ABO"]
["0702301","Transfusión en adulto por unidad o subunidad de Glóbulos Rojos o unidad / subunidad o pool de: plasma, plaquetas o Crioprecipitados (Atención ambulatoria, Atención cerrada siempre que la administración sea controlada por Profesional especialista, tecnólogo médico o médico responsable)"]
["0702302","Transfusión en niño por unidad o subunidad de Glóbulos Rojos, o unidad/subunidad o pool de: plasma, plaquetas o Crioprecipitados (Atención ambulatoria, Atención cerrada siempre que la administración sea controlada por profesional especialista, tecnólogo médico o médico responsable)"]
["0702303","Transfusión por unidad de Glóbulos rojos, o unidad o pool de: plasma, plaquetas o crioprecipitados, en adulto o niño en Pabellón (con asistencia permanente del médico o Tecnólogo médico responsable) (no corresponde su cobro cuando sea controlada por médico anestesista, por estar incluida en el valor de sus honorarios)"]
["0702304","Sangría (considera el cobro de una prestación por cada unidad de sangre extraída)"]
["0702305","Recambio plasmático por aféresis terapéutica"]
["0702306","Depleción leucocitaria por aféresis terapéutica"]
["0702307","Depleción plaquetaria por aféresis terapéutica"]
["0702308","Eritroféresis por aféresis terapéutica"]
["0702309","Fotoféresis terapéutica"]
["0704017","Parche de 5x5 cm (25 cm² c/u) Piel de Donante"]
["0704018","Parche de 5x10 cm (50 cm² c/u) Piel de Donante"]
["0704019","Parche de 10x10 cm (100 cm² c/u) Piel Donante"]
["0704020","Parche de 10x10 cm (100 cm² c/u) Amnios"]
["0704021","Parche de 5x10 cm (50 cm² c/u) Amnios"]
["0704022","Parche de 5x5 cm (25 cm² c/u) Amnios"]
["0704023","Parche de 2x2 cm (4 cm² c/u) Amnios"]
["0704024","Cubo de Tejido óseo (Liofilizado/congelado), c/u"]
["0704025","Rodaja de Tejido óseo (Liofilizado/congelado), c/u"]
["0704026","Tablilla de Tejido óseo (Liofilizado/congelado), c/u"]
["0704028","Microfragmentado o granulado (1 gr) de Tejido óseo (Liofilizado)"]
["0704029","Fragmento de hueso largo (o de soporte), c/u"]
["0704030","Procuramiento y Procesamiento Válvulas Cardiacas. Cada válvula"]
["0704031","Procuramiento y Procesamiento de Homoinjertos Segmentos Vasculares. Por segmento"]
["0704032","Córnea de Donante"]
["ANATOMIA PATOLOGICA             ",null,{"$f":"SUM(C973:C986)","v":0}]
["0801001","Citodiagnóstico corriente, exfoliativa (Papanicolau) (por cada placa)"]
["0801002","Citología no ginecológica (por cada placa o frasco) (máximo 6)"]
["0801003","Estudio histopatológico con microscopia electrónica (por cada grilla)"]
["0801004","Estudio histopatológico con técnicas de inmunohistoquímica o inmunofluorescencia (por cada anticuerpo investigado)"]
["0801005","Estudio histopatológico con técnicas histoquímicas, niveles, decalcificación (por cada lámina)"]
["0801006","Consulta intraoperatoria (por cada muestra / tejido o asistencia a pabellón) (no incluye biopsia diferida)"]
["0801007","Estudio histopatológico con tinción corriente de biopsia diferida con estudio seriado (mínimo 10 muestras) de un órgano o parte de él (no incluye estudio con técnica habitual de otros órganos incluidos en la muestra)"]
["0801008","Estudio histopatológico de biopsia diferida (por cada muestra y/o tejido) (incluye hasta 3 láminas)"]
["0801009","Necropsia de adulto o niño, con estudio histopatológico corriente."]
["0801010","Necropsia de feto o recién nacido, con estudio histopatológico corriente."]
["0801011","PCR tiempo real para marcadores tumorales en cortes histológicos (incluye microdisección y extracción de ADN)"]
["0801012","Técnica inmunohistoquímica para marcadores tumorales (ALK-PDL1-ROS1) c/u"]
["0801013","Hibridación in situ en corte de tejido en parafina, búsqueda de alteraciones"]
["0801014","PCR Virus Papiloma Humano más genotipificación de papiloma de alto riesgo de Cáncer Cérvico Uterino tipos 16 y 18"]
["PSIQUIATRIA Y SALUD MENTAL     ",null,{"$f":"SUM(C988:C997)","v":0}]
["0903002","Consulta o control por psicólogo clínico"]
["0903003","Consulta de salud mental por otros profesionales"]
["0903004","Intervención psicosocial grupal (4 a 8 pacientes, familiares o cuidadores)"]
["0903005","Psicoterapia de grupo (por psicólogo o psiquiatra) (4 a 8 pacientes)"]
["0903006","Consultoría de salud mental por psiquiatra (sesión 4 hrs.) (mínimo 8 pacientes)"]
["0903007","Programa de rehabilitación tipo 1 (mensual, grupo 6 a 10 pers.)"]
["0903008","Programa de rehabilitación tipo 2 (mensual, grupo 5 a 7 pers.)"]
["0908101","Telerehabilitación: Psicólogo clínico (sesiones 45')"]
["0908102","Telerehabilitación: Psicoterapia Individual"]
["0908103","Telerehabilitación: Sesión de psicoterapia de pareja (con ambos miembros)"]
["PSIQUIATRIA Y PSICOLOGIA CLINICA              ",null,{"$f":"SUM(C999:C1017)","v":0}]
["0901001","Control paciente psiquiátrico crónico; máx. 2 controles al mes"]
["0901002","Desintoxicación o deshabituación en pacientes hospitalizados (incluye tratamiento de la intoxicación, del síndrome de privación y de las complicaciones médicas); por día (máximo 15)"]
["0901003","Sesión de terapia electroconvulsivante (hasta 6 sesiones por ciclo o sesiones de mantención) c/ sesión"]
["0901005","Atención psiquiátrica o psicoterapia de familia, individual, de relajación o de manejo (con familia u otros); (cada sesión mínimo 45')"]
["0901010","Psicoterapia de pareja (por cada miembro de la pareja)"]
["0902001","Consulta Psicólogo clínico (sesiones 45')"]
["0902002","Sesión de Psicoterapia individual"]
["0902003","Sesión de psicoterapia de pareja (con ambos miembros)"]
["0902010","Test de Rorschach"]
["0902011","Test de relaciones objetales"]
["0902012","Test de Apercepción Temática, T.A.T., C.A.T.-H o C.A.T.-A."]
["0902013","Test de Edwards"]
["0902014","Test de M.M.P.I."]
["0902015","Test de Wechsler, Wais, Wisc o Wppsi"]
["0902016","Test de Dominó o Test de Raven"]
["0902017","Test de Bender"]
["0902018","Bender Bip"]
["0902019","Test de Goldstein"]
["0902020","Test de Luria-Nebraska"]
["INTERVENCIONES QUIRURGICAS Y PROCEDIMIENTOS"]
["NEUROLOGIA Y NEUROCIRUGIA "]
["PROCEDIMIENTOS DIAGNOSTICOS NEUROLOGIA.",null,{"$f":"SUM(C1021:C1074)","v":0}]
[1101004,"E.E.G. de 16 o más canales (incluye el cód. 11-01-006)"]
[1101006,"Electroencefalograma (E.E.G.) standard y/o activado \"sin privación de sueño\" (incluye mono y bipolares, hiperventilación, c/s reactividad auditiva, visual, lumínica, por drogas u otras). Equipo de 8 canales"]
[1101113,"Angiografía cerebral digital por cateterización (incluye proc. radiológico, medio de contraste e insumos)"]
[1101140,"Esclerosis Múltiple Remitente Recurrente, Tratamiento médico farmacológico Anual (incluye inmunomoduladores)"]
[1101141,"Esclerosis Múltiple Remitente Recurrente, Tratamiento rehabilitación"]
[1101142,"Esclerosis Múltiple Remitente Recurrente, Tratamiento Brote"]
[1101001,"Rellenado de bombas de administración de fármacos en LCR"]
[1101002,"Punción Subdural"]
[1101003,"Punción Lumbar c/s manometría c/s Queckensted"]
[1101047,"Cateterismo selectivo de senos petrosos"]
[1101048,"Neuromonitoreo intraoperatorio"]
[1101005,"Electrocorticografía"]
[1101007,"Estéreo-electroencefalografía (incluye uno o más electródos adicionales)"]
[1101008,"Monitoreo EEG invasivo con electrodos subdurales"]
[1101040,"E.E.G. en vigilia, sueño y post-privación de sueño. Equipo de 8 canales"]
[1101041,"E.E.G. en vigilia, sueño y post-privación de sueño. Equipo de 16 o más canales"]
[1101042,"E.E.G. digital 20 canales (con activaciones HV y FE) estándar o post privación de sueño de 20 a 30 minutos duración"]
[1101043,"E.E.G. digital 32 canales (con activaciones HV y FE) estándar o post privación de sueño de 20 a 30 minutos duración"]
[1101046,"Electroencefalograma digital de 32 canales con mapeo (mapping), análisis estadístico de frecuencias y de eventos por áreas (incluye estímulos cognitivos)"]
[1101044,"Monitoreo E.E.G. continuo de 24 hrs."]
[1101045,"Polisomnografía (electroencefalograma, electrocardiograma, monitoreo de apneas y electronistagmografía, electromiografía)"]
[1101009,"Electromiografía de fibra única"]
[1101010,"Electromiografías cualquier región, por ej.: músculos faciales, faringe, paravertebrales, vejiga y periné, test de miastenia (incluye el estudio clínico y muestreo suficientes para diagnosticar naturaleza del trastorno y estado evolutivo), c/u"]
[1101011,"Potenciales evocados en corteza (por ej.: auditivo, ocular o corporales), c/u"]
[1101012,"Velocidad de conducción nerviosa (incluye reflejo H, onda F y otros)"]
[1101013,"Carótida-vertebral por cateterización de la subclavia, axilar, humeral o femoral."]
[1101018,"Yugulografía"]
[1101019,"Neumoencefalografía fraccionada, por punción lumbar"]
[1101020,"Neumoencefalografía p/punción suboccipital"]
[1101026,"Bloqueo nervio periférico en punto motor"]
[1101027,"Bloqueo nervio troncular"]
[1101028,"Infiltración o bloqueo de ramas del trigémino o del facial"]
[1101029,"Infiltración o bloqueo del ganglio estrellado"]
[1101030,"Infiltración o bloqueo epidural, cervical, lumbar o similares, cada sesión"]
[1101031,"Infiltración o bloqueo intercostales (cualquier número)"]
[1101032,"Rizotomía química por medio de inyección intratecal."]
[1101033,"Infiltración o bloqueo suboccipital u otros nervios cervicales"]
[1101034,"Alcoholización o fenolización de nervios periféricos: intramuscular"]
[1101035,"Alcoholización o fenolización de nervios periféricos: intratecal"]
[1101036,"Alcoholización o fenolización de nervios periféricos: troncular"]
[1103000,"Tratamiento endovascular de aneurismas"]
[1103100,"Tratamiento endovascular de aneurisma no roto de alta complejidad (6 o más coils, dos o más aneurismas, utilización de stent + coils (uno o más), Embolización con coils asistida con balón)"]
[5099018,"Inyección toxina botulínica"]
[5099019,"Inyección interferón"]
[5099113,"Infiltración perineural"]
[5099112,"Infiltración intramuscular (Fenol y Toxina Botulínica)"]
[null,"Implantación estimulador vagal epilepsia refractaria menores de 15 años"]
[null,"Bloqueo neuromuscular con Toxina Butolínica"]
[null,"Bloqueo neuromuscular con anestésico (manejo del dolor)"]
[null,"Instalación cateter medición de presión líquido cefalo raquídeo"]
[null,"Trombólisis de urgencia infarto cerebral"]
[null,"Embolización de malformaciones arteriovenosas medulares"]
[null,"Tratamiento endovascular infarto cerebral (ACV)"]
[null,"Stent carotideo estenosis carotidea cervical"]
[" INTERVENCIONES QUIRURGICAS. NEUROCIRUGIA",null,{"$f":"SUM(C1076:C1156)","v":0}]
[1103001,"Malformaciones vasculares del cuero cabelludo incluye aneurisma cirsoídeo"]
[1103002,"Sinus pericrani, trat. quir."]
[1103003,"Hundimiento simple, reparación de"]
[1103004,"Craneoplastía con autoinjerto"]
[1103005,"Craneoplastía con prótesis (no incluye el valor de la prótesis)"]
[1103006,"Tumores de calota, extirp. de"]
[1103007,"Osteomielitis, limpieza quirúrgica"]
[1103008,"Craniectomías descompresivas"]
[1103009,"Reparación de fractura crecedora"]
[1103010,"Craneotomías lineales"]
[1103011,"Craniectomías c/s remodelación ósea"]
[1103071,"Retiro de material de osteosíntesis o distractores en cirugía de craneosinostosis"]
[1103014,"Hematoma o absceso extradural, vaciamiento de"]
[1103015,"Reparación de fístula de LCR"]
[1103016,"Hematoma, empiema o colección subdural, vaciamiento de"]
[1103017,"Quistes aracnoidales encefálicos, trat. quir. (suprasellares, temporales, cerebelosos, etc.)"]
[1103018,"Ventriculostomía o instalación de derivativa ventricular externa o instalación de captor para medición de pic o punción biopsia o reservorio para administración de medicamentos"]
[1103019,"Absceso cerebral, trat. quir."]
[1103020,"Tratamiento quirúrgico del traumatismo craneoencefálico abierto o penetrante (herida a bala u otro elemento penetrante)"]
[1103021,"Hundimiento expuesto, repar. de"]
[1103022,"Lobectomías por contusión cerebral"]
[1103023,"Hematoma intracerebral, vaciamiento de"]
[1103024,"De base de cráneo, resección de tumores y/o quistes y/o cavernoma"]
[1103025,"Intraorbitarios, resección de tumores y/o quistes y/o cavernoma"]
[1103026,"Encefálicos y de hipófisis, resección de tumores y/o quistes y/o cavernoma"]
[1103027,"Aneurismas, malformaciones arteriovenosas encefálicas u orbitarias, fístulas durales"]
[1103028,"Fístula carótido cavernosa tratamiento endovascular"]
[1103029,"Fístula carótido cavernosa, trat. quir."]
[1103030,"Revascularización intracraneána indirecta (endodurosinangiosis, multitrepanación, emas, etc.)"]
[1103031,"Anastomosis y revascularización cerebral extra-intracraneána (cirugía de carótida: ver cirugía vascular periférica)"]
[1103032,"Instalación de derivativas de LCR (no incluye valor de la válvula)"]
[1103132,"Instalación de derivativas de LCR (incluye valor de la válvula)"]
[1103033,"Revisión o exteriorización de derivativa"]
[1103034,"Ventriculocisternostomía"]
[1103035,"Fenestración, septostomía o coagulación plexos coroídeos (trat. endoscópico)"]
[1103036,"Cirugía descompresiva de fosa posterior u occipito-vertebral en Malformación de Chiari y/o siringomielia"]
[1103037,"Meningo y meningoencefalocéle occipital, repar. de"]
[1103038,"Cirugía descompresiva neurovascular"]
[1103039,"Neurotomías"]
[1103040,"Neurólisis o microcompresión percutánea"]
[1103041,"Cirugía de la epilepsia (Cualquier técnica)"]
[1103042,"Biopsia estereotáxica cerebral con marco de estereotáxia o neuronavegador"]
[1103043,"Termocoagulación de zonas cerebrales con radiofrecuencia o ultrasonido focalizado con técnica estereotáxica para el tratamiento de enfermedad de Parkinson, temblor esencial, Psicocirugía y otros"]
[1103045,"Implantación de estimuladores intracraneanos"]
[1103076,"Guía estereotáxica para realización de cirugía o procedimiento neuroquirúrgico intracranéano "]
[1103046,"Instalación de estimuladores medulares"]
[1103047,"Disráfias espinales: meningocéle, mielomeningocéle, diastematomielia, lipoma, lipomeningocéle, médula anclada, etc."]
[1103048,"Infiltración facetaria columna y radicular"]
[1103049,"Hernia núcleo pulposo, estenorraquis, aracnoiditis, fibrosis perirradicular cervical, dorsal o lumbar, trat. quir."]
[1103050,"Laminectomía descompresiva"]
[1103069,"Fijación de columna (cervical-dorsal-lumbar) cualquier vía abordaje, c/s osteosíntesis."]
[1103051,"Heridas raquimedulares, trat. quir."]
[1103052,"Tratamiento quirúrgico de tumor espinal extradural"]
[1103053,"Extirpación de tumor o quiste medular o intrarraquídeo"]
[1103054,"Malformación arteriovenosa o fístula dural medular, trat. quir."]
[1103055,"Cordotomía percutánea"]
[1103056,"Mielotomía, Dreztomía"]
[1103057,"Rizotomía (Cualquier técnica)"]
[1103072,"Denervación facetaria o ramo medial columna"]
[1103073,"Artroplastía de columna "]
[1103074,"Aseo quirúrgico de columna vertebral"]
[1103075,"Laminoplastía cervical"]
[1103078,"Cementación vertebral cervical, dorsal o lumbar hasta 3 niveles"]
[1103079,"Cementación vertebral cervical, dorsal o lumbar más de 3 niveles"]
[1103080,"Fusión intersomatica cervical"]
[1103081,"Fusión intersomática dorsal y lumbar corta"]
[1103082,"Fusión intersomática dorsal y lumbar larga"]
[1103058,"Tumor de nervio periférico, extirp. de"]
[1103059,"Reparación de plexos c/s neurotización con técnica microquirúrgica o injertos interfasciculares"]
[1103060,"Sección de nervio, reparación con injerto"]
[1103061,"Sección de nervio, reparación sin injerto"]
[1103068,"Neurectomía, cualquier localización, cada zona quirúrgica"]
[1103062,"Neurólisis con técnica microquirúrgica"]
[1103063,"Neurólisis externa"]
[1103064,"Síndrome del escaleno, trat. quir."]
[1103065,"Síndrome de costilla cervical, trat. quir."]
[1103066,"Liberación quirúrgica de nervio periférico extracraneáno (trat. quir. del Síndrome del Túnel Carpiano, tarso u otro)"]
[1103067,"Liberación de nervio cubital a nivel del codo, cualquier técnica"]
[1103070,"Biopsia de nervio periférico"]
[1103077,"Neurotomía periférica selectiva para tratamiento de espasticidad"]
[1103083,"Liberación quirúrgica de nervio periférico en el Síndrome del Túnel Carpiano téc. WALANT (anestesia local sin torniquete)"]
["OFTALMOLOGÍA"]
["PROCEDIMIENTOS DE OFTALMOLOGÍA",null,{"$f":"SUM(C1159:C1205)","v":0}]
[1201044,"Tomografía coherencia óptica, c/ ojo"]
[1201001,"Campimetría de proyección, unilateral (proc.aut.)"]
[1201042,"Campimetría computarizada, unilateral"]
[1201002,"Coordimetría, test de Hess u otro, unilateral"]
[1201003,"Cuantificación de lagrimación (test de Schirmer), uni o bilateral"]
[1201004,"Curva de tensión aplanática (por cada día), unilateral"]
[1201005,"Diploscopia cuantitativa, bilateral"]
[1201006,"Electromiografía músculos oculares adultos,  unilateral"]
[1201007,"Electromiografía músculos oculares niños, unilateral"]
[1201008,"Electrooculografía, bilateral"]
[1201009,"Exploración sensoriomotora: estrabismo, estudio completo, bilateral"]
[1201010,"Perimetría de Goldman o perimetría cinética, unilateral"]
[1201011,"Pruebas de provocación para glaucoma (prueba de oscuridad u otras), uno o uni o bilateral"]
[1201012,"Retinografía, bilateral"]
[1201014,"Tonometría aplanática  unilateral"]
[1201015,"Tratamiento ortóptico y/ o pleóptico (por sesión), bilateral"]
[1201027,"Examen Optométrico c/s Prescripción de Lentes"]
[1201016,"Angiografía de retina o de iris, (con fluoresceína o sim.),  unilateral"]
[1201017,"Angioscopia retinal y/o iris (con fluoresceína o similar),   unilateral (proc.aut.)"]
[1201018,"Electrorretinografía, unilateral"]
[1201019,"Exploración vitreorretinal,"]
[1201020,"Ecobiometría con cálculo de lente intraocular,. bilateral"]
[1201023,"Potencial visual evocado en adultos, bilateral"]
[1201024,"Potencial visual evocado en niños, bilateral"]
[1201043,"Topografía corneal computarizada,  unilateral"]
[1201029,"Cuerpo extraño conjuntival y/o corneal en adultos"]
[1201030,"Cuerpo extraño conjuntival y/o corneal en niños"]
[1201031,"Vía lagrimal, cateterísmo o sondaje en adultos"]
[1201032,"Vía lagrimal, cateterísmo o sondaje en lactantes"]
[1201033,"Vía lagrimal, cateterísmo o sondaje en niños"]
[1201034,"Tocación corneal c/yodo y/o éter u otros, en niños o adultos"]
[1201035,"Criocoagulación conjuntival, corneal o palpebral en adultos"]
[1201036,"Criocoagulación conjuntival, corneal o palpebral en niños"]
[1201037,"Glaucoma, ciclodiatérmia y/o ciclocrioterápia"]
[1201038,"Inyección retrobulbar"]
[1201039,"Pestañas, extirp. por electrocoagulación (cualquier número)"]
[1201040,"Puntos lagrimales; electrotermocoagulación"]
[1201041,"Sondaje vía lagrimal en niños (bajo anestesia general)"]
[1201045,"Paquimetría"]
[5099013,"Inyección intravítrea avastin"]
[5099014,"Toma agudeza visual (ambos ojos)"]
[5099015,"Autorefractometría"]
[5099016,"Lensometría"]
[5099051,"Test de Ishihara"]
[5099052,"Campo visual"]
[null,"Biomicroscopía ocular"]
[null,"Examen de visión cromática"]
["CIRUGIA OFTALMOLÓGICA ",null,{"$f":"SUM(C1207:C1289)","v":0}]
[1202001,"Intubación vía lagrimal"]
[1202002,"Puntos lagrimales, plastía de"]
[1202003,"Reconstitución de canalículos"]
[1202004,"Absceso, vaciamiento y/o drenaje de saco y/o glándula lagrimal"]
[1202005,"Dacriocistorrinostomía"]
[1202006,"Extirpación de saco y/o glándula lagrimal"]
[1202007,"Reconstitución vía lagrimal en ausencia del saco"]
[1202008,"Extirpación total o parcial de la glándula lagrimal"]
[1202009,"Tumor maligno del saco, trat. quir. completo"]
[1202010,"Absceso, trat. quir. párpado o ceja"]
[1202011,"Biopsia de párpado y/o anexos (proc. aut.)"]
[1202012,"Blefarochalasis, plastía de"]
[1202013,"Blefarofimosis, plastía de"]
[1202014,"Blefarorrafia con blefarotomía posterior"]
[1202015,"Cantoplastía"]
[1202016,"Chalazión y otros tumores benignos (uno o más, unilateral), trat. quir. completo"]
[1202017,"Coloboma, plastía de"]
[1202018,"Ectropión, plastía de"]
[1202019,"Entropión, plastía de"]
[1202020,"Epicanto, plastía de"]
[1202021,"Ptosis, trat. quir."]
[1202022,"Quiste dermoide de la cola de la ceja, resec. plástica"]
[1202023,"Tumor maligno de párpado o ceja, trat. quir. completo"]
[1202024,"Xantelasma, trat. quir."]
[1202071,"Herida o dehiscencia de sutura de párpado, reparación"]
[1202080,"Tratamiento quirúrgico ptosis de la ceja"]
[1202025,"Herida o dehiscencia de la conjuntiva, sutura de (proc. aut.)"]
[1202026,"Pterigión y/o pseudopterigión o su recidiva, extirpación"]
[1202027,"Simbléfaron, resección de adherencias y plastía de"]
[5099191,"Extirpación de Pterigión con injerto corneal"]
[1202028,"Extirpación de tumor benigno de la conjuntiva"]
[1202029,"Absceso orbitario, trat. quir."]
[1202030,"Corrección de cavidad anoftálmica trat. completo"]
[1202031,"Cuerpo extraño orbitario (con orbitotomía)"]
[1202032,"Exanteración orbitaria o tumor orbitario, trat. Quirúrgico completo"]
[1202033,"Orbitotomía anterior"]
[1202034,"Orbitotomía lateral descompresiva"]
[1202072,"Reconstrucción de paredes orbitarias"]
[1202035,"Biopsia de globo ocular (proc. aut.)"]
[1202036,"Enucleación o implante de prótesis ocular (proc. aut.)"]
[1202037,"Enucleación con implante"]
[1202038,"Tratamiento quirúrgico completo del estrabismo unilateral o bilateral"]
[1202039,"Exanteración ocular (proc. aut.)"]
[1202040,"Sutura de lesión traumática de globo o músculos oculares (proc. aut.)"]
[1202081,"Evisceración del globo ocular"]
[1202041,"Cirugía refractiva, queratotomía radial o similar con bisturí de diamante"]
[1202042,"Crioterapia y recesión conjuntival"]
[1202044,"Extracción quir. de cuerpo extraño en cornea y/o esclera"]
[1202045,"Glaucoma, trat. quir. por cualquier técnica"]
[1202046,"Herida corneal o corneo-escleral o dehiscencia de sutura"]
[1202047,"Queratectomía laminar"]
[1202048,"Queratoplastía. Injerto lamelar o penetrante trat. quir. completo"]
[1202049,"Queratoprótesis, implantación de (no incluye el valor de la prótesis)"]
[1202050,"Recubrimiento conjuntival"]
[1202051,"Rehabilitación superficie ocular (con injerto de mucosa)"]
[1202070,"Sinequiotomía (proc. aut.)"]
[1202073,"Operación triple (injerto, facoéresis e implante de lente intraocular) (no incluye valor de la prótesis)"]
[1202173,"Operación triple (injerto, facoéresis e implante de lente intraocular) (incluye valor de la prótesis)"]
[1202083,"Tratamiento Trasplante de Córnea"]
[1202053,"Iridectomía periférica y/u óptica, (proc. aut.)"]
[1202054,"Tratamiento quirúrgico de lesión tumoral del iris o cuerpo ciliar"]
[1202074,"Hernia de iris y/o fístulas, reparación de"]
[1202055,"Desgarro con o sin desprendimiento, diatermo y/o crio y/o fotocoagulación (incluye endofotocoagulación intraquirúrgica)"]
[1202056,"Desprendimiento retinal, cirugía convencional (exoimplantes)"]
[1202058,"Tumor retinal o coroidal, diatermo y/o crio y/o fotocoagulación de"]
[1202059,"Vasculopatía retinal (excepto retinopatía proliferativa) diatermo y/o crio y/o fotocoagulación (incluye endofotocoagulación intraquirúrgica)"]
[1202060,"Vitrectomía c/retinotomía (c/s inyección de gas o silicona)"]
[1202061,"Vitrectomía con inyección de gas o silicona"]
[1202062,"Vitrectomía con vitreófago (proc. aut)"]
[1202075,"Retinopéxia neumática"]
[1202077,"Desprendimiento coroídeo o hemorragia coroídea, trat. quir. "]
[1202063,"Facoéresis intracapsular o catarata secundaria o discisión y aspiración de masas"]
[1202064,"Facoéresis extracapsular con implante de lente intraocular (no incluye el valor de la prótesis)"]
[1202164,"Facoéresis extracapsular con implante de lente intraocular (incluye el valor de la prótesis)"]
[1202065,"Implante secundario de lente intraocular"]
[1202066,"Aspiración esferular c/s capsulotomía"]
[1202076,"Extracción o corrección de desplazamiento de lente intraocular"]
[1202079,"Facoemulsificación"]
[1202057,"Retinopatía proliferativa, (diabética, hipertensiva, eales y otras) panfotocoagulación trat. completo (incluye endofotocoagulación intraquirúrgica)"]
[1202067,"Discisión de cápsula posterior"]
[1202068,"Iridotomía"]
[1202069,"Trabeculoplastía o iridoplastía"]
[1202078,"Cirugía fotorrefractiva o fototerapéutica de córnea, cualquier técnica"]
["OTORRINOLARINGOLOGÍA"]
[" PROCEDIMIENTOS DE OTORRINOLARINGOLOGÍA ",null,{"$f":"SUM(C1292:C1360)","v":0}]
[1301001,"Electrogustometría"]
[1301047,"Nasofibroscopía de la deglución"]
[1301002,"Rinomanometría c/s vasocontrictor"]
[1301003,"Nasofaringolaringofibroscopia"]
[1301005,"Sinusoscopia de cada seno maxilar por punción, c/s biopsia, c/s toma de muestras"]
[1301006,"Laringoscopia y/o traqueoscopia directa c/s toma de muestra, c/s biopsia. Con microscopio"]
[1301007,"Laringoscopia y/o traqueoscopia directa c/s toma de muestra, c/s biopsia. Sin microscopio"]
[1301021,"Audiometría adultos"]
[1301008,"Audiometría niños"]
[1301009,"Impedanciometría"]
[1301010,"Calibración de audífonos o implantes"]
[1301011,"Potenciales evocados auditivos de tronco cerebral clínicos"]
[1301012,"Cócleovestibular con electronistagmografía"]
[1301015,"Electronistagmografía o Videoelectronistagmografía c/s nistag.de posición"]
[1301016,"Función tubaria"]
[1301017,"Prueba calórica o prueba calórica mínima (proc.aut.)"]
[1301019,"Test de glicerol (con 3 audiometrías)"]
[1301020,"Examen funcional de VIII par"]
[1301052,"Potenciales electromiogénicos vestibulares cervicales u oculares"]
[1303001,"Evaluación de voz"]
[1303002,"Evaluación de habla"]
[1303003,"Evaluación del lenguaje (incluye voz, habla y aspecto semántico, sintáctico y fonológico, etc. e informe) (incluye 3 sesiones de mínimo 30')"]
[1303004,"Rehabilitación de la voz "]
[1303005,"Rehabilitación del habla y/o del lenguaje (máximo 30 sesiones anuales)(cada sesión mínimo 30')      "]
[1303006,"Rehabilitación de la deglución"]
[1303007,"Evaluación clínica de la deglución "]
[1308301,"Telerehabilitación: Evaluación de voz"]
[1308302,"Telerehabilitación: Evaluación de habla"]
[1308303,"Telerehabilitación: Evaluación del lenguaje (incluye voz, habla y aspecto semántico, sintáctico y fonológico, etc. e informe) (incluye 3 sesiones de mínimo 30')"]
[1308304,"Telerehabilitación: Rehabilitación de la voz "]
[1308305,"Telerehabilitación: Rehabilitación del habla y/o del lenguaje (máximo 30 sesiones anuales)(cada sesión mínimo 30')      "]
[1301048,"Prueba de impulso cefálico con videooculografía o similar (VHIT) "]
[1301049,"Pruebas rotatorias"]
[1301050,"Audiometría campo libre. Niños y adultos"]
[1301024,"Senos perinasales, punción evacuadora c/s toma de muestras, c/s inyección de medicamentos; cada punción"]
[1301025,"Taponamiento nasal anterior (proc. aut.)"]
[1301026,"Taponamiento nasal posterior"]
[1301027,"Vaciamiento cavid. perinasales (Proetz y sim.) (10 sesiones)"]
[1301028,"Cauterización uni o bilateral de vasos en fosa nasal anterior"]
[1301029,"Cuerpo extraño en fosas nasales, extracción de: - En adultos"]
[1301030,"Cuerpo extraño en fosas nasales, extracción de: - En niños"]
[1301035,"Cuerpo extraño en laringe y/o tráquea, extracción de (incluye la endoscopia con tubo rígido) - En adultos"]
[1301036,"Cuerpo extraño en laringe y/o tráquea, extracción de (incluye la endoscopia con tubo rígido) - En niños"]
[1301037,"Dilatación esofágica por sesión"]
[1301038,"Cuerpo extraño extracción en hipofaringe y/o esófago (por tubo rígido) - En niños"]
[1301039,"Cuerpo extraño extracción en hipofaringe y/o esófago (por tubo rígido) - En adultos"]
[1301040,"Lesiones del oído externo y/o medio, curación bajo microscopio (proc. aut.)"]
[1301041,"Trompa de Eustaquio, insuflación instrumental (proc. aut.)"]
[1301042,"Cuerpo extraño en oído, extracción de (incluye tapón de cerumen) (proc. aut.) - En adultos"]
[1301043,"Cuerpo extraño en oído, extracción de (incluye tapón de cerumen) (proc. aut.) - En niños"]
[1301044,"Biopsia oído (proc. aut.)"]
[1301051,"Retiro de tubos de ventilación timpánica, uni o bilateral"]
[1301045,"Emisiones Otoacústicas "]
[1301046,"Potenciales evocados auditivos de tronco cerebral acortados"]
[5099092,"Retiro de taponaje anterior"]
[5099093,"Retiro de yeso"]
[5099094,"Cambio de canula traqueostomia (enfermera Otorrino)"]
[5099095,"Estroboscopia"]
[null,"Electrococleografía"]
[null,"Maniobras de reposición de partículas"]
[null,"Prueba calórica mínima"]
[null,"Rehabilitación vestibular"]
[null,"Rinometría acústica"]
[null,"Maniobras de reposición vestibular "]
[null,"Terapia de rehabilitación de la voz en paciente laringectomizado"]
[null,"Habituación vestibular"]
[null,"Timpanometría de banda ancha"]
[null,"Estudio funcional de equilibrio en plataforma"]
[null,"Estimulación repetitiva"]
["CIRUGÍA OTORRINOLARINGOLOGICA",null,{"$f":"SUM(C1362:C1469)","v":0}]
[1302001,"Absceso y/o hematomas oído externo, trat. quir."]
[1302002,"Extracción cuerpo extraño en conducto auditivo externo"]
[1302003,"Fístula preauricular complicada, trat. quir."]
[1302004,"Extirpación de tumor de conducto auditivo externo"]
[1302005,"Tumor maligno oído externo, trat. quir."]
[1302078,"Tumor de conducto auditivo externo, extirpación con reparación (injerto) del conducto"]
[1302006,"Estapedectomía o estapedostomía"]
[1302007,"Mastoidectomía c/s sección cuerda del tímpano"]
[1302008,"Tratamiento quirúrgico de Mucositis timpánica, otitis media con efusión uni o bilateral"]
[1302009,"Operación radical de oído"]
[1302011,"Reconstitución funcional de oído radicalizado"]
[1302012,"Timpanoplastía funcional (cualquier tipo) c/s mastoidectomía"]
[1302076,"Punción timpánica para inyección de medicamentos"]
[1302077,"Implante activo de oído medio"]
[1302079,"Aticotomía (excluye timpanoplastía funcional)"]
[1302080,"Plastía o dilatación por vía endoscópica trompa de Eustaquio"]
[1302081,"Meatoplastía en oído radicalizado"]
[1302082,"Reparación de brecha osteomeníngea por vía transtemporal"]
[1302083,"Resección subtotal del hueso temporal (incluye tegmen, laberinto y punta de peñasco)"]
[1302084,"Resección total del hueso temporal (abordaje combinado orl y neurocirujano)"]
[1302085,"Timpanectomía con o sin tubos de ventilación"]
[1302086,"Timpanoplastía funcional con reconstrucción de cadena osicular (excluye miringoplastía)"]
[1302087,"Timpanotomía exploradora"]
[1302088,"Tiroplastía 1-4"]
[1302089,"Toma de injerto cartílago tragal"]
[1302090,"Toma de injerto fascia temporal"]
[1302091,"Tumor glómico petro-tímpano-mástoídeo, tratamiento quirúrgico"]
[1302013,"Reconstitución plástica de conducto auditivo externo cartilaginoso"]
[1302014,"Exostosis u osteoma oído medio o externo, resección por cualquier vía"]
[1302015,"Neurectomía de Jacobson"]
[1302016,"Reconstitución de conducto auditivo externo, c/s timpanoplastía (incluye revisión de cadena osicular)"]
[1302017,"Tratamiento quirúrgico de tumor glómico timpánico"]
[1302018,"Laberintectomía"]
[1302019,"Neurinoma del acústico, trat. quir. vía translaberíntica y/o fosa media"]
[1302074,"Intervención quirúrgica implante coclear"]
[1302020,"Descompresión intraósea nervio facial c/s plastía"]
[1302021,"Lesiones a nivel del conducto auditivo interno, trat. quir."]
[1302022,"Biopsia buco-faríngea (proc. aut.)"]
[1302023,"Sección y/o resección frenillos cavidad bucal"]
[1302024,"Drenaje de absceso o flegmón de piso de boca"]
[1302025,"Drenaje de absceso o flegmón periamigdaliano"]
[1302026,"Drenaje de absceso o flegmón retrofaríngeo o faringolaríngeo"]
[1302027,"Drenaje de absceso o flegmón de vestíbulo bucal"]
[1302028,"Adenoidectomía (proc. aut.)"]
[1302029,"Amigdalectomía c/s adenoidectomía, uni o bilateral"]
[1302030,"Extracción de cálculos o tapones salivales"]
[1302031,"Tumor benigno de la mucosa bucal, extirp. c/s biopsia bucofaríngea"]
[1302032,"Tumor maligno de las amígdalas, trat. quir."]
[1302033,"Extirpación de tumor benigno de la base de la lengua"]
[1302034,"Extirpación tumor maligno de base de lengua"]
[1302035,"Faringoplastía (cualq. técn.), c/s desplazamiento de colgajos"]
[1302036,"Fibroangioma del rinofarinx, trat. quir."]
[1302037,"Glosectomía total"]
[1302038,"Abscesos y hematoma del tabique nasal, trat. quir."]
[1302039,"Arteria esfenopalatina, cauterización por vía nasal"]
[1302040,"Arteria maxilar interna, ligadura de (por vía transmaxilar)"]
[1302041,"Ligadura de arterias etmoidales anteriores"]
[1302042,"Turbinectomía o cauterización de cornetes, cualquier técnica"]
[1302043,"Conducto y/o seno lagrimal, obstrucción del, trat. quir. por vía nasal"]
[1302044,"Etmoidectomía endo o exonasal"]
[1302092,"Cirugía de fosa pterigo palatina"]
[1302045,"Tratamiento quirúrgico de las fístulas buco-sinusales o buco-nasales y/o retiro cuerpos extraños del seno maxilar"]
[1302046,"Fract. nasal reciente, cerrada o expuesta, reducción c/s inmovilización"]
[1302047,"Nervio vidiano, sección del (por cualquier vía)"]
[1302048,"Perforación del tabique, trat. quir."]
[1302049,"Tratamiento quirúrgico pólipo nasal"]
[1302050,"Rinitis atrófica, trat. por inclusión submucosa, con cualquier material, uni o bilateral"]
[1302051,"Rinofima, trat. quir."]
[1302052,"Rinoplastía y/o septoplastía, cualquier técnica"]
[1302053,"Seno esfenoidal, abertura por cualquier vía"]
[1302054,"Tratamiento quirúrgico de seno frontal, cualquier vía"]
[1302055,"Antrostomía seno maxilar, cualquier vía"]
[1302056,"Sinequia nasal, trat. quir."]
[1302057,"Tumor nasal, extirp. por rinotomía lateral"]
[1302058,"Vaciamiento etmoidal por vía nasal c/s polipectomía"]
[1302093,"Reparación de válvula nasal"]
[1302094,"Resección de tumor de base de cráneo anterior con reparación de duramadre (colgajo pediculado de haddad o similar)"]
[1302095,"Resección lateral del hueso temporal (incluye mastoides y conducto auditivo externo en forma circular)"]
[1302096,"Tumor benigno nasosinusal y/o rinofaríngeo, resección por vía endoscópica (excluye fibroangioma nasofaríngeo)"]
[1302097,"Tumor de espacio parafaríngeo, extirpación"]
[1302098,"Tumor maligno nasosinusal y/o rinofaríngeo, tratamiento quirúrgico por vía endoscópica"]
[1302099,"Sinuplastía seno frontal con balón por endoscopía u otra técnica"]
[1302100,"Sinuplastía seno maxilar con balón por endoscopía u otra técnica"]
[1302101,"Sinuplastía seno esfenoidal con balón por endoscopia u otra técnica"]
[1302102,"Dacriocistocele resección vía nasal"]
[1302059,"Aritenoidectomía vía endoscópica"]
[1302060,"Aritenoidectomía vía externa"]
[1302103,"Abducción de aritenoides, aritenoidopexia"]
[1302061,"Decorticación de cuerdas vocales c/microscopio"]
[1302104,"Cordectomía, sinequia y otras malformaciones, tratamiento quirúrgico por endoscópica (incluye laser)"]
[1302105,"Subluxación articulación cricotiroídea"]
[1302062,"Tumor benigno de cuerdas vocales, trat. quirúrgico por vía abierta"]
[1302063,"Tumor benigno de cuerdas vocales, trat. quirúrgico por vía endoscópica"]
[1302064,"Cordectomía, resección de sinequia y otras malformaciones, trat. quirúrgico por vía externa"]
[1302065,"Estenosis laringotraqueales y/o faríngeas, trat. quir. por vía abierta (incluye reconstrucción laringotraqueal)"]
[1302066,"Laringectomía parcial o subtotal (cualquier técnica)"]
[1302106,"Laringectomía parcial endoscópica con láser, incluye cordectomía ampliada (carcinoma supraglótico)"]
[1302067,"Laringectomía total más faringectomía parcial"]
[1302068,"Laringectomía total más faringectomía total y/o esofagectomía cervical"]
[1302107,"Laringoplastía por laringomalacia"]
[1302069,"Laringocele, trat. quir."]
[1302070,"Papilomas laríngeos, trat. quir. (por sesión)"]
[1302071,"Parálisis de cuerdas vocales, trat. quir. cualquier técnica"]
[1302072,"Traqueostomía (proc. aut.)"]
[1302073,"Estenosis laringotraqueales y faríngeas, trat. quir. por vía endoscópica (incluye laser)"]
[1302075,"Fractura laríngea, reducción abierta c/s microplacas"]
[1302108,"Inyección de cuerda vocal vía endoscópica"]
[1302109,"Inyección de cuerda vocal vía externa"]
["PROCEDIMIENTO DE CABEZA Y CUELLO  ","PROCEDIMIENTO DE CABEZA Y CUELLO     ",{"$f":"SUM(C1471)","v":0}]
[1401001,"Punción aspirativa con aguja fina de nódulo tiroideo"]
["CIRUGIA DE CABEZA Y CUELLO",null,{"$f":"SUM(C1473:C1531)","v":0}]
[1402001,"Tiroidectomía bilateral total"]
[1402002,"Tiroidectomía bilateral subtotal"]
[1402003,"Bocio intratorácico, trat. quir. por esternotomía"]
[1402004,"Extirpación de Tiroides lingual"]
[1402005,"Lobectomía con o sin istmectomía o resección parcial"]
[1402006,"Tiroidectomía total ampliada (incluye extirpación de estructuras anatómicas vecinas)"]
[1402007,"Autotrasplante de paratiroides (operación asociada a algunas de las prestaciones de tiroides y paratiroides)"]
[1402008,"Paratiroidectomía o exploración paratiroides con exploración de mediastino, abordaje transtorácico."]
[1402009,"Paratiroidectomía o exploración de paratiroides (abordaje cervical, clásico o mínimamente invasivo)"]
[1402010,"Reexploración cervical paratiroides por persistencia o recidiva hiperparatiroidismo"]
[1402011,"Parotidectomía suprafacial con disección y preservación del nervio facial"]
[1402012,"Parotidectomía total, con disección y preservación del nervio facial"]
[1402013,"Parotidectomía total ampliada (incluye músculos, ganglios, articulaciones y rama vertical de la mandíbula)"]
[1402014,"Totalización de parotidectomía previa o parotidectomía del lóbulo profundo"]
[1402015,"Extirpación submandibular ampliada (incluye piso de boca, arco mandibular, músculos y articulaciones)"]
[1402016,"Extirpación de glándula salival submandibular"]
[1402017,"Extirpación glándula salival sublingual"]
[1402018,"Extirpación sublingual ampliada (incluye piso de boca, arco mandibular, músculos, ganglios y articulaciones)"]
[1402019,"Absceso parotídeo submaxilar y/o cervical profundo, trat. quir."]
[1402020,"Conductos salivales de excreción, reimplantación oro-faríngea"]
[1402021,"Cierre de fístula salival: reparación del conducto de excreción"]
[1402022,"Extirpación de quiste o mucocele de glándula salival menor de labios"]
[1402023,"Tratamiento quirúrgico Torticolis congénita"]
[1402024,"Quistes y/o fístulas del conducto tirogloso, y/o branquial, y/o higroma, y/o fístula preauricular complicada, y/u otros quistes y/o tumores benignos, trat. quir."]
[1402025,"Tumores del cuerpo carotídeo, trat. quir. (incl. proc. vascular)"]
[1402026,"Biopsia quir., mucosa oronasofaríngea (proc. aut.)"]
[1402027,"Biopsia quir., piel y mucosa cara (proc. aut.)"]
[1402028,"Resección cutánea ampliada (incluye musculatura, ganglios y huesos subyacentes; desplazamiento de colgajos)"]
[1402029,"Resección cutánea simple (sutura primaria)"]
[1402030,"Tumor maligno de labio superior o inferior, resección total del labio y cirugía reparadora"]
[1402031,"Tumor maligno de labio superior o inferior, resección parcial del labio y cirugía reparadora"]
[1402032,"Resección parcial y cirugía reparadora nariz"]
[1402033,"Resección total y cirugía reparadora nariz"]
[1402034,"Extirpación ampliada de naríz incluyendo parte esqueleto facial (naso-etmoidiana)"]
[1402035,"Exanteración orbitaria ampliada (incluye etmoides, hueso frontal, base de cráneo anterior y región máxilo-malar)"]
[1402036,"Extirpación total ampliada del hueso temporal"]
[1402037,"Maxilectomía parcial y reparación protésica"]
[1402038,"Maxilectomía parcial (incluye paladar óseo; reparación con colgajo)"]
[1402039,"Maxilectomía radical ampliada (incluye exanteración orbitaria y de fosa craneal anterior o media)"]
[1402040,"Maxilectomía radical clásica (incluye exanteración orbitaria y reparación con colgajo)"]
[1402041,"Maxilectomía radical clásica (incluye exanteración orbitaria y reparación protésica)"]
[1402042,"Glosectomía parcial, reparación primaria"]
[1402043,"Resección amplia de tumor maligno cavidad oral y orofaríngea y disección ganglionar cervical"]
[1402044,"Hemimandibulectomía"]
[1402045,"Mandibulectomía total"]
[1402046,"Operación \"comando\" (incluye extirp. del tumor, hemimandibulectomía y disección ganglionar radical de cuello)"]
[1402047,"Resección parcial de mandíbula"]
[1402048,"Extirpación de tumor intraoral amplia en tercio posterior cavidad oral (región faríngea)"]
[1402050,"Faringectomía parcial"]
[1402051,"Genioplastía"]
[1402052,"Osteotomías segmentarias del maxilar o mandíbula"]
[1402053,"Osteotomías totales del maxilar o mandíbula (tipo Le Fort I o sagital de rama)"]
[1402054,"Reducción cerrada de fracturas maxilofaciales"]
[1402055,"Reducción abierta de fracturas maxilofaciales y estabilización con elementos de osteosíntesis"]
[1402056,"Reducción abierta de fracturas maxilofaciales con osteosíntesis única"]
[1402057,"Reconstrucciones complejas de la cara simultáneas con proc. neuroquirúrgico (craneotomías más abordajes y trat. facial), tiempo facial"]
[1402058,"Reconstrucciones de partes duras y blandas de la cara, mediante abordajes múltiples y hemicoronal o coronal"]
[1402059,"Remoción de arcos dentarios o ligaduras de alambre"]
[1402060,"Remoción simple (proc.aut.)"]
[" CIRUGIA PLASTICA Y REPARADORA"]
["CIRUGIA PLASTICA Y REPARADORA           ",null,{"$f":"SUM(C1534:C1604)","v":0}]
[1502001,"Heridas de la cara complicadas: 1 o varias de más de 5 cms. y/o ubicadas en bordes de párpados, labios o ala nasal y/o que comprometen músculos, conductos, vasos o nervios"]
[1502002,"Heridas de la cara simples: 1 o varias de hasta 5 cms. que solo comprometen piel"]
[1502003,"Implante de silicona facial (cualquier zona o zonas)"]
[1502004,"Resección plástica de hasta 2 cicatrices (cualquier localización o tamaño)"]
[1502005,"Resección plástica de 3 o más cicatrices (cualquier localización o tamaño)"]
[1502006,"Injertos hasta 1% superficie corporal receptora"]
[1502007,"Injertos hasta 5% superficie corporal receptora"]
[1502008,"Injertos hasta 10% superficie corporal receptora"]
[1502009,"Injertos por cada 10% (o su fracción) adicional hasta 50%"]
[1502010,"Injertos 51% y más de superficie corporal receptora"]
[1502011,"Piel total, cualquier tamaño (incluye tratamiento zona dadora y receptora)"]
[1502012,"Toma de injertos cartílago (auricular, costal o similares) c/u"]
[1502013,"Toma de injertos-óseo (costal, ilíaco, tibial o similares) c/u"]
[1502067,"Toma de injerto de cuero cabelludo"]
[1502068,"Expansor de piel (dos o más) primer tiempo"]
[1502069,"Expansor de piel (dos o más) segundo tiempo retiro"]
[1502070,"Expansor de piel (único) primer tiempo"]
[1502071,"Expansor de piel (único) segundo tiempo o retiro"]
[1502014,"Plastías en Z, hasta 3"]
[1502015,"Plastías en Z, 4 y más"]
[1502016,"Colgajos complejos (Abbe, Mustarda, Converse, Juri, Bakamjian o similar)"]
[1502017,"Colgajos libres con microanastomósis (incluye toma del colgajo y las suturas neurovasculares)"]
[1502018,"Colgajos musculares o musculocutáneos"]
[1502019,"Colgajos osteomusculocutáneos"]
[1502020,"Colgajos simples dos o más"]
[1502021,"Colgajo simple único"]
[1502022,"Parálisis facial, trasplantes musculares"]
[1502023,"Ridectomía cérvico-facial, un lado"]
[1502024,"Ridectomía frontal"]
[1502025,"Orejas aladas o en asa, corrección plástica"]
[1502026,"Lóbulo auricular partido, corrección plástica (proc. aut)"]
[1502027,"Malformación congénita compleja en orejas, cada plastía o plastías en tiempos diferentes"]
[1502028,"Corrección nasal parcial (alares, alargamiento columela o similar)"]
[1502029,"Blefaroplastia párpados inferiores, uni o bilateral"]
[1502030,"Blefaroplastia párpados superiores, uni o bilateral"]
[1502031,"Corrección quirúrgica secundaria de queiloplastía"]
[1502032,"Queiloplastía primaria, un lado (proc. quir. completo por cualquier técnica)"]
[1502033,"Cierre de paladar duro y/o cierre de comunicación oro-nasal"]
[1502034,"Cierre mucoso vestíbulo oral o gingivo-periostio-plastía"]
[1502035,"Plastía de velo (cualquier técnica)"]
[1502036,"Cierre de macrostomía, unilateral"]
[1502037,"Tratamiento quirúrgico de anomalías cráneo faciales"]
[1502038,"Reconstrucción osteoplástica reborde alveolar bilateral en un tiempo"]
[1502039,"Reconstrucción osteoplástica reborde alveolar unilateral"]
[1502040,"Distoplasias orbitarias: movilización unilateral o vertical tiempo facial"]
[1502041,"Expansión o reconstrucción de un micro-orbitismo"]
[1502042,"Síndrome de Apert Crouzon o similar: avance fronto-orbito-maxilar vía intracraneána, tiempo facial"]
[1502043,"Síndrome de Apert Crouzon o similar: osteotomía tipo Le Fort III o similar"]
[1502044,"Corrección telecanto"]
[1502045,"Movilización orbitaria extracraneáno"]
[1502046,"Movilización orbitaria intracraneána, tiempo facial"]
[1502047,"Ginecomastía, corrección plástica"]
[1502048,"Mamoplastía de aumento (unilateral)"]
[1502049,"Mamoplastía de reducción"]
[1502050,"Mastopexia c/s implante de prótesis (no incluye valor de la prótesis)"]
[1502051,"Reconstrucción areola y/o pezón c/s plastía (proc. aut.)"]
[1502052,"Reconstrucción mamaria"]
[1502053,"Abdominoplastía"]
[1502054,"Escarectomía con resección ósea c/s colgajo de rotación"]
[1502055,"Tratamiento de escaras de decúbito, con resección ósea y colgajos musculares o musculocutáneos"]
[1502056,"Sindactilia, trat. quir. cada espacio con injerto"]
[1502057,"Sindactilia, trat. quir. cada espacio sin injerto"]
[1502058,"Polidactilia, extirpación y plastía, unilateral"]
[1502059,"Lipectomía glútea, unilateral"]
[1502060,"Lipectomía trocantérea, unilateral"]
[1502061,"Escarotomía hasta 10% superficie corporal"]
[1502062,"Escarotomía por cada 10% adicional (o su fracción)"]
[1502063,"Escarectomía hasta 1% superficie corporal"]
[1502064,"Escarectomía hasta 5% superficie corporal"]
[1502065,"Escarectomía hasta 10% superficie corporal"]
[1502066,"Escarectomía por cada 10% adicional (o su fracción) (Se cobrará cód. ad. una sola vez por superficie entre el 11% y 50%)."]
["DERMATOLOGIA Y TEGUMENTOS   "]
["PROCEDIMIENTOS",null,{"$f":"SUM(C1607:C1621)","v":0}]
[1601110,"Curetaje de lesiones virales y similares hasta 10 lesiones por sesión"]
[1601111,"Aplicación de inmunomoduladores, químicos y similares hasta 10 lesiones por sesión"]
[1601112,"Fototerapia UVB, UVA localizada, por sesión"]
[1601113,"Fototerapia UVB, Banda Angosta y UVA por sesión en cabina"]
[1601115,"Implantes Subcutáneos, instalación o retiro"]
[1601116,"Crioterapia hasta 5 lesiones por sesión"]
[1601117,"Crioterapia 6 a 10 lesiones por sesión"]
[1601118,"Tumor maligno por criocirugía (por cada lesión) por sesión"]
[1601119,"Inyección intracutánea en áreas hasta 9 cm² por sesión"]
[1601120,"Tratamiento abrasivo cutáneo mecánico por sesión"]
[1601121,"Tratamiento abrasivo cutáneo químico por sesión"]
[1601122,"Tricograma"]
[1601124,"Tratamiento por láser, IPL o similar por área hasta 16 cm 2 por sesión"]
[1601125,"Terapia fotodinámica (no incluye medicamento) por sesión"]
[1601126,"Dermatoscopía digital con registro gráfico o digital hasta 5 lesiones"]
["INTERVENCIONES QUIRURGICAS DE DERMATOLOGÍA Y TEGUMENTOS    ",null,{"$f":"SUM(C1623:C1646)","v":0}]
[1602201,"Biopsia de piel y/o mucosa por curetaje o sección tangencial c/s electro por1 lesión"]
[1602202,"Cabeza, cuello, genitales hasta 3 lesiones: extirpación, reparación o biopsia, total o parcial, de lesiones benignas cutáneas por excisión"]
[1602203,"Resto del cuerpo hasta 3 lesiones: extirpación, reparación o biopsia, total o parcial, de lesiones benignas cutáneas por excisión"]
[1602204,"Cabeza, cuello y genitales desde 4 y hasta 6 lesiones: extirpación, reparación o biopsia, total o parcial, de lesiones benignas cutáneas por excisión"]
[1602205,"Resto del cuerpo desde 4 y hasta 6 lesiones: extirpación, reparación o biopsia, total o parcial, de lesiones benignas cutáneas por excisión"]
[1602206,"Extirpación de lesiones benignas por sec. tangencial, curetaje y/o fulguración hasta 15 lesiones"]
[1602207,"Tratamiento por electro de hemangiomas o telangectasias hasta 15 lesiones"]
[1602211,"Cabeza, cuello, genitales: tratamiento quirúrgico de tumor maligno por escisión total o parcial, con o sin sutura, por cada lesión o melanoma cualquier localización"]
[1602212,"Resto del cuerpo: tratamiento quirúrgico de tumor maligno por escisión total o parcial, con o sin sutura, por cada lesión"]
[1602213,"Cabeza, cuello, genitales o melanoma cualquier ubicación: ampliación de márgenes quirúrgicos de tumor maligno extirpado previamente"]
[1602214,"Resto del cuerpo: ampliación de márgenes quirúrgicos de tumor maligno extirpado previamente"]
[1602215,"Tumores vasculares profundos cabeza, cuello, genitales"]
[1602216,"Tumores Vasculares Profundos Resto del cuerpo"]
[1602221,"Herida cortante o contusa complicada, reparación y sutura (más de 5 cms.)"]
[1602222,"Herida cortante o contusa no complicada, reparación y sutura (una o múltiple hasta 5 cms. de largo total que comprometa solo la piel)"]
[1602223,"Cabeza, cuello, genitales: extirpación de lesión benigna subepidérmica, incluye tumor sólido, quiste epidérmico y lipoma por lesión"]
[1602224,"Resto del cuerpo: extirpación de lesión benigna subepidérmica, incluye tumor sólido, quiste epidérmico y lipoma por lesión"]
[1602225,"Vaciamiento y curetaje quirúrgico de lesiones quísticas o abscesos"]
[1602231,"Onicectomía total o parcial simple"]
[1602232,"Cirugía reparadora ungueal por proceso inflamatorio"]
[1602233,"Corrección quirúrgica de defecto congénito o por tumor ungueal"]
[1602240,"Curación por Médico, quemadura o similar menor al 5% superficie corporal en pabellón"]
[1602241,"Curación por Médico, quemadura o similar 5 a 10% superficie corporal en pabellón"]
[1602242,"Curación por médico, quemadura o similar mayor al 10% superficie corporal en pabellón"]
["CARDIOLOGIA, NEUMOLOGIA, CARDIOVASCULAR Y TORAX  "]
["PROCEDIMIENTOS DIAGNOSTICO Y TERAPEUTICO CARDIOLOGÍA",null,{"$f":"SUM(C1649:C1718)","v":0}]
[1701004,"Registro de haz de His, en adultos o niños"]
[1701055,"Ecocardiograma bidimensional Doppler  color transesofágico"]
[1701009,"Monitoreo continuo de presión arterial                                                                         "]
[1701013,"Cateterismo en recién nÁcido por arteria umbilical"]
[1701014,"Instalación de catéter swan-ganz o similar, en adultos o niños"]
[1701015,"Doppler  con ergometría (por sesión)"]
[1701016,"Doppler  simple de vasos periféricos (por sesión)"]
[1701017,"Pletismografía en reposo, esfuerzo c/u (por sesión)"]
[1701018,"Registro ecoarterial o ecovenoso periférico c/u (por sesión)"]
[1701030,"Punción evacuadora de pericardio, c/s toma de muestra c/s inyección de medicamento"]
[1701034,"Cardioversión"]
[1701036,"Desfibrilacion"]
[1701037,"Punción subclavia o yugular con colocación de catéter"]
[1701039,"Trombólisis arterial periférica"]
[1701040,"Trombólisis intracoronaria"]
[1701046,"Estudio electrofisiológico endocardiaco de las arritmias"]
[1701050,"Ablación con corriente continua o radiofrecuencia de nódulo"]
[1701051,"Ablación con corriente continua o con radiofrecuencia de vías accesorias y otros"]
[1701001,"E.C.G. de reposo (incluye mínimo 12 derivaciones y 4 complejos por derivación)"]
[1701003,"Electrocardiograma de esfuerzo"]
[1701006,"E.C.G. continuo (test Holter o similares, por ej. variabilidad de la frecuencia cardíaca y/o alta resolución del ST y/o depolarización tardía); 20 a 24 horas de registro                                                             "]
[1701007,"Ecocardiograma Doppler , con registro (incluye cód. 17.01.008)"]
[1701045,"Ecocardiograma bidimensional Doppler  color"]
[1701008,"Ecocardiograma bidimensional (incluye registro modo M, papel fotosensible y fotografía), en adultos o niños (proc. aut.)"]
[1701010,"Sondeo cardíaco derecho c/s termodilución, en adultos o niños"]
[1701011,"Sondeo cardíaco izquierdo y derecho, en adultos o niños"]
[1701012,"Sondeo cardíaco izquierdo, en adultos o niños"]
[1701019,"Cinecoronariografía derecha y/o izquierda (incluye sondeo cardíaco izquierdo y ventriculografía izquierda)"]
[1701020,"Ventriculografía derecha, en adultos o niños (incl. proc. rad., y sondeo cardíaco derecho)"]
[1701021,"Ventriculografía izquierda, en adultos o niños (incl. proc. rad., y sondeo cardíaco izquierdo)"]
[1701022,"Aortografía, en adultos o niños (Incluye proc. rad.)"]
[1701023,"Arteriografía de extremidades, en adultos o niños (incluye proc. rad.)"]
[1701131,"Angioplastía Intraluminal coronaria uno o múltiples vasos (incl. proc. rad; balón, rotablator, Stent o similar)"]
[1701132,"Angioplastía Intraluminal periférica (incluye proc. rad., balón, Stent o similar)"]
[1701043,"Angioplastía de coartación aórtica (incl. proc. rad.) (proc. completo)"]
[1701144,"Angioplastía de arteria pulmonar o vena cava en niños (incluye proc. rad., balón, Stent o similar)"]
[1701033,"Biopsia endomiocárdica (proc. completo)"]
[1701038,"Septostomía de Rashkind o con controlada con balón"]
[1701035,"Colocación de sonda marcapaso tránsitorio (proc. completo)"]
[1701141,"Valvuloplastía mitral o tricúspide (incl. proc. radiológico, incluye balón)"]
[1701142,"Valvuloplastía aórtica y/o pulmonar c/u (incl. proc. radiológico, incluye balón)"]
[1701056,"Ecocardiograma Fetal "]
[1701057,"Ecocardiograma de estrés (incluye medicamento)"]
[1701058,"Test de esfuerzo con consumo de oxígeno (adultos y niños)"]
[1701059,"Tilt test o prueba de inclinación"]
[1701060,"Revisión (reimplante) electrodo desfibrilador automático transvenoso"]
[1701061,"Arteriografía selectiva o superselectiva pulmonar en adultos o niños (incl. proc. rad.)"]
[1701062,"Arteriografía selectiva o superselectiva renal en adultos o niños (incl. proc. rad.)"]
[1701063,"Arteriografía selectiva o superselectiva tronco celiaco en adultos o niños (incl. proc. rad.)"]
[1701064,"Arteriografía selectiva o superselectiva arteria glútea en adultos o niños  (incl. proc. rad.)"]
[1701065,"Arteriografía selectiva o superselectiva hipogástrica en adultos o niños (incl. proc. rad.)"]
[1701066,"Arteriografía selectiva o superselectiva hepática en adultos o niños (incl. proc. rad.)"]
[1701067,"Arteriografía selectiva o superselectiva mesentérica en adultos o niños (incl. proc. rad.)"]
[1701068,"Arteriografía selectiva o superselectiva arteria lumbar en adultos o niños (incl. proc. rad.)"]
[1701069,"Arteriografía selectiva o superselectiva arteria vesical en adultos o niños (incl. proc. rad.)"]
[null,"Ablación septal con Alcohol en las Miocardiopatías Hipertróficas"]
[null,"Reposición por desplazamiento electrodo"]
[null,"Extracción endovascular de electrodos de dispositivos implantados (marcapasos, desfibriladores o resincronizadores)"]
[null,"Ultrasonido intracardiaco: ICE"]
[null,"Ultrasonido intravascular: IVUS"]
[null,"Extracción de cuerpos extraños intravascular"]
[null,"Guía de presión intracoronaria: PW."]
[null,"Implantación percutánea de válvula aórtica: TAVI"]
[null,"Estudio de Puentes Coronarios"]
[null,"Angioplastia con stent en ramas pulmonares"]
[null,"Tratamiento percutáneo de la coartación aortica"]
[null,"Micro Embolizaciones mal formación arterio venosa"]
[null,"Cierre percutáneo del foramen oval con dispositivo "]
[null,"Angioplastía y colocacion de Stent en Arteria Carotidea"]
[null,"Cierre percutáneo del foramen oval con dispositivo Amplatzer: FOP"]
["CIRUGIA CARDIOVASCULAR",null,{"$f":"SUM(C1720:C1799)","v":0}]
[1703001,"Embolectomía y/o trombectomía, unilateral, miembro superior o inferior (proc. aut.)"]
[1703002,"Fístula arteriovenosa congénita o traumática, repar. quir."]
[1703003,"Fístula arteriovenosa (de Brescia o similar)"]
[1703005,"Reparación quirúrgica de vasos arteriales y/o venosos intra-abdominales o intra-torácicos c/s injerto (biológicos o sintéticos)"]
[1703006,"Reparación quirúrgica de vasos arteriales y/o venosos periféricos c/s injerto (biológicos o sintéticos)"]
[1703007,"Reparación quirúrgica de vasos arteriales y/o venosos periféricos c/s injerto (biológicos o sintéticos) aórtico-abdominal"]
[1703008,"Reparación quirúrgica de vasos arteriales y/o venosos periféricos c/s injerto (biológicos o sintéticos) periféricos"]
[1703009,"Reparación quirúrgica de vasos arteriales y/o venosos periféricos c/s injerto (biológicos o sintéticos) tóraco-abdominal"]
[1703071,"Aneurisma torácico con compromiso de arco aórtico tratamiento endovascular"]
[1703010,"Puente aorto-bifemoral; puentes de troncos supra-aórticos"]
[1703011,"Puente aorto-unifemoral"]
[1703012,"Puente aorto-visceral (renal, mesentérico o similar); c/u"]
[1703013,"Puente aorto-ilíaco"]
[1703014,"Endarterectomía carotídea, subclavia, vertebral, femoral, o similar c/s injerto (proc. aut.)"]
[1703015,"Endarterectomía femoral común, superficial o profunda, poplítea u otras c/s injerto (proc. aut.)"]
[1703016,"Endarterectomía renal, c/s injerto (proc. aut.)"]
[1703017,"Puente fémoro-tibial o distales"]
[1703018,"Puente fémoro-poplíteo"]
[1703019,"Ligadura troncos arteriales, (proc. aut.)"]
[1703020,"Otras derivaciones: fémoro–femoral, axilo-humeral, axilo-femoral, carótidosubclavio, axilo-axilar o similares; c/u"]
[1703064,"Implante de prótesis para hemodiálisis"]
[1703065,"Transposición basílica o similar"]
[1703021,"Anastomosis portocava u otras portosistémicas"]
[1703022,"Anastomosis venosas intraabdominales"]
[1703023,"Denudación venosa (proc. aut.)"]
[1703024,"Derivaciones venosas de extremidades puentes venosos"]
[1703025,"Implante filtros venosos"]
[1703026,"Ligadura cayado safena interna, unilateral"]
[1703027,"Ligadura otros troncos venosos (poplíteo, femoral, ilíacas, humeral, axilar, otros); ligadura de venas comunicantes y/o perforantes, y/o resección de paquetes varicosos, cualquier técnica (una extremidad); c/u"]
[1703028,"Ligadura vena cava inferior"]
[1703029,"Resección cutáneo-aponeurótica unilateral (incluye fasciotomía interna o posterior)"]
[1703030,"Safenectomía interna y/o externa, unilateral, o endoablación por cualquier técnica (láser, radiofrecuencia o similar)."]
[1703031,"Trombectomía de venas profundas"]
[1703066,"Instalación de catéter venoso de larga duración tunelizado (incluye catéter)"]
[1703032,"Anastomosis linfovenosas"]
[1703033,"Linfedema, trat. quir. una extremidad"]
[1703034,"Drenaje quirúrgico adenitis"]
[1703035,"Biopsia quir. ganglionar (cualquier región periférica superficial o profunda) (proc. aut.)"]
[1703036,"Disección y extirpación ganglionar regional: axilo-supraclavicular"]
[1703037,"Disección y extirpación ganglionar regional: cérvico-torácica"]
[1703038,"Disección y extirpación ganglionar regional: ileoinguinal"]
[1703039,"Disección y extirpación ganglionar regional: inguinoescrotales"]
[1703040,"Disección y extirpación ganglionar regional: lumbo-aórticos"]
[1703041,"Disección y extirpación ganglionar regional (proc. aut.): mediastínicos"]
[1703068,"Resección ganglios mediastínicos por toracotomía"]
[1703069,"Resección ganglios mediastínicos por vía videotoracoscopica"]
[1703070,"Vaciamiento mediastínico ántero-superior"]
[1703042,"Disección y extirpación ganglionar regional: poplíteos"]
[1703043,"Vaciamiento (disección) radical cuello (v.r.c.) clásico ipsilateral"]
[1703044,"Disección y extirpación ganglionar regional: yugular simple"]
[1703045,"Simpatectomía cérvico-torácica"]
[1703046,"Simpatectomía lumbar"]
[1703067,"Simpatectomía cervico-torácica toracoscopía"]
[1703047,"Anastomosis vasculares sistémicopulmonares (Blalock-Pott-Glenn o similares)"]
[1703048,"Cambio de generador de marcapaso, sin cambio de electrodo (no incluye el valor de la prótesis)"]
[1703148,"Cambio de generador de marcapaso (incluye el valor de la prótesis)"]
[1703049,"Coartación aórtica infantil (preductal) trat. quir."]
[1703050,"Coartación aórtica, trat. quir."]
[1703051,"Conducto arterioso persistente, trat. quir."]
[1703052,"Fístula coronaria, trat. quir."]
[1703053,"Implantación de marcapaso c/electrod. intraven. o epicárdico (no incluye el valor de la prótesis)"]
[1703153,"Implantación de marcapaso c/electrod. intraven. o epicárdico (incluye el valor de la prótesis)"]
[1703054,"Operación sobre anillos valvulares o vasculares"]
[1703055,"Operaciones sobre arteria pulmonar, constricción por cinta"]
[1703056,"Pericardiectomía y/o extirp. de quistes y/o tumores"]
[1703057,"Pericardiorrafia o miopericardiorrafia en heridas penetrantes"]
[1703058,"Pericardiotomía"]
[1703072,"Implante de desfibrilador con resincronizador VVI (incluye dispositivo)"]
[1703073,"Implante de desfibrilador con resincronizador DDD (incluye dispositivo)"]
[1703061,"De complejidad mayor: incluye reemplazo valvular múltiple, tres o más puentes aortocoronarios y/o anastomosis con arteria mamaria, corrección de cardiopatías congénitas complejas (por ejemplo: Fallot; atresia tricúspidea; doble salida del Ventrículo derecho; Transposición grandes vasos; Ventrículo único o similares), aneurisma aórtico torácico, trasplante cardíaco y cualquier operación cardíaca en lactantes"]
[1703062,"De complejidad mediana: incluye comunicación interventricular, reemplazo univalvulár, uno o dos puentes aortocoronarios; aneurisma ventricular, corrección de Wolf-Parkinson White y otras arritmias"]
[1703063,"De complejidad Menor: incluye comunicación interauricular simple, estenosis pulmonar valvular, estenosis mitral o similar"]
[null,"Instalación de ECMO adulto (cirugía)"]
[null,"Instalación de ECMO Pediátrico (cirugía)"]
[null,"Implantación Resincronizador (No Incluye Electrodos)"]
[null,"Implante marcapaso DDD con resincronización cardiaca"]
[null,"Implante marcapaso VVI con Resincronizador cardiaco"]
[null,"Recambio Desfibrilador Cardiaco Bicameral"]
[null,"Reposición electrodo Auricular "]
[null,"Reposiciones parciales equipo marcapaso"]
[null,"Trasplante corazón (Contenido en la prestación 1703061)"]
["CIRUGÍA DE TÓRAX",null,{"$f":"SUM(C1802:C1899)","v":0}]
[1704001,"Cirugía del opérculo torácico (resección de primera costilla, cualquier abordaje); unilateral"]
[1704079,"Cirugía del opérculo torácico por vía videotoracoscopica"]
[1704002,"Cirugía tórax abierto traumático y/o fijación tórax volante, osteosíntesis costales múltiples y de esternón (no incluye el valor de la prótesis)"]
[1704003,"Fenestración o toracoplastía"]
[1704004,"Reparación pectum excavatum o carinatum, (proc. aut.)"]
[1704005,"Resección de costillas y/o pared costal y/o cartílago y/o esternón s/plastía (proc. aut.)"]
[1704006,"Resección de pared costal c/plastía (toracoplastía osteoplástica de York o similar)"]
[1704007,"Toracofrenolaparatomía exploradora c/s reparación vísceras torácicas y abdominales"]
[1704008,"Toracofrenotomía exploradora"]
[1704009,"Toracotomía exploradora, c/s biopsia, c/s debridación, c/s drenaje"]
[1704080,"Videotoracoscopía exploradora"]
[1704010,"Toracotomía mínima c/s resección costal, c/s biopsia, c/s drenaje"]
[1704011,"Mediastinotomía exploradora ant. o post. c/s biopsia proc. aut."]
[1704012,"Drenaje quir. de mediastino, vía cervical"]
[1704013,"Drenaje quir. de mediastino, vía torácica"]
[1704014,"Timectomía vía cervical"]
[1704015,"Timectomía vía torácica medioesternal"]
[1704016,"Conducto torácico, ligadura quirúrgica"]
[1704081,"Conducto torácico, ligadura por vía videotoracoscopica"]
[1704017,"Tumores o quistes de mediastino (anterior o posterior) trat. quir. c/s disección ganglionar"]
[1704065,"Mediastinoscopía y/o videomediastinoscopía c/s biopsia"]
[1704066,"Tumores o quistes de mediastino (anterior o posterior) tratamiento quirúrgico c/s disección ganglionar por videotoracoscopia"]
[1704018,"Cirugía del diafragma con cirugía de vísceras abdominales o torácicas"]
[1704064,"Frenoparálisis trat. quir."]
[1704082,"Frenoparálisis tratamiento quirúrgico laparoscópico"]
[1704083,"Frenoparálisis tratamiento quirúrgico por vía videotoracoscópica"]
[1704019,"Heridas traumáticas del diafragma, trat. quir."]
[1704020,"Hernioplastía diafragmática por vía torácica c/ prótesis (no incluye valor de la prótesis)"]
[1704084,"Hernioplastía diafragmática por vía torácica c/s prótesis por vía videotoracoscopica "]
[1704021,"Hernioplastía diafragmática por vía torácica, sin prótesis"]
[1704022,"Tumores, malformaciones o quistes del diafragma (no incluye valor de la prótesis) trat. quir."]
[1704067,"Cirugía del diafragma con cirugía de vísceras abdominales o torácicas por vía toracoscopia"]
[1704068,"Heridas traumáticas, trat. quir. por vía videotoracoscopia"]
[1704069,"Cirugía de tumores o malformaciones diafragmáticos por videotoracoscopía"]
[1704023,"Cuerpo extraño pleural, extrac. quir."]
[1704024,"Decorticación pleuropulmonar (pleurectomía parcial o total)"]
[1704025,"Pleurodesis por pleurotomía"]
[1704026,"Pleurodesis por toracotomía"]
[1704085,"Pleurodesis por vía videotoracoscopica"]
[1704027,"Pleurotomía única o doble"]
[1704028,"Tratamiento resectivo de tumores pleurales"]
[1704086,"Tumores pleurales, por vía videotoracoscopica"]
[1704087,"Cirugía del mesotelioma maligno"]
[1704088,"Fibrinolisis pleural por pleurotomía"]
[1704070,"Biopsia pleural por videotoracoscopia"]
[1704071,"Cuerpo extraño pleural, por videotoracoscopia"]
[1704072,"Decorticación pleuropulmonar (pleurectomía parcial o total) por videotoracoscopia"]
[1704029,"Broncotomía o traqueobroncotomía exploradora o terapéutica por toracotomía (proc. aut.)"]
[1704030,"Cirugía ruptura traqueobronquial o tratamiento quirúrgico fístula bronquial por esternotomía media"]
[1704031,"Plastía de tráquea y/o bronquios c/s resección, c/s prótesis (no incluye el valor de la prótesis)"]
[1704032,"Tratamiento quirúrgico fístula bronquial por toracotomía"]
[1704033,"Tumores traqueales, extirpación"]
[1704034,"Absceso pulmonar, drenaje por toracotomía"]
[1704035,"Biopsia pulmonar por toracotomía"]
[1704036,"Bulas, trat. quir."]
[1704037,"Cirugía de quiste hidatídico sin resección pulmonar"]
[1704038,"Cuerpo extraño intrapulmonar, extirp. quir."]
[1704039,"Heridas de pulmón, trat. quir. (proc. aut.)"]
[1704090,"Heridas de pulmón, trat. quir. por vía videotoracoscopica"]
[1704040,"Lobectomía o bilobectomía"]
[1704091,"Lobectomía o bilobectomía por vía videotoracoscopica"]
[1704041,"Metástasis bilateral pulmón, trat. quir. por esternotomía"]
[1704042,"Metástasis unilateral pulmón"]
[1704043,"Neumonectomía c/s resección de pared costal"]
[1704092,"Neumonectomía por vía videotoracoscopica"]
[1704045,"Quistectomía simple de pulmón"]
[1704046,"Resecciones segmentarias anatómicas de pulmón "]
[1704093,"Resecciones segmentarias anatómica por vía videotoracoscopica"]
[1704073,"Absceso pulmonar, drenaje por videotoracoscopia"]
[1704089,"Resección segmentaria atípica por vía videotoracoscopica"]
[1704074,"Cirugía de quiste hidatídico c/s resección pulmonar por vía videotoracoscopia"]
[1704075,"Metástasis unilateral, trat. quir. por videotoracoscopia"]
[1704047,"Extracción cuerpo extraño esofágico por vía cervical"]
[1704048,"Cuerpo extraño esofágico, extracción por esofagotomía, vía torácica"]
[1704094,"Extracción cuerpo extraño esofágico por vía videotoracoscopica"]
[1704049,"Esofagostomía cervical (proc. aut.)"]
[1704050,"Tumores benignos y/o quistes esofágicos, trat. quir., vía cervical"]
[1704051,"Tratamiento quirúrgico de tumores esofágicos benignos y/o quistes vía torácica"]
[1704095,"Resección de tumor esofágico benignos por vía videotoracoscopica"]
[1704052,"Divertículos esofágicos, trat. quir., vía cervical"]
[1704053,"Divertículos esofágicos, trat. quir., vía torácica"]
[1704096,"Resección de divertículos esofágicos por vía videotoracoscopica"]
[1704054,"Achalasia, trat. quir."]
[1704055,"Atresia esofágica, trat. quir."]
[1704056,"Esofagectomía con restitución del tránsito mediante estómago o intestino; parcial o total"]
[1704057,"Esofagectomía total con esofagostomía, gastrostomía y yeyunostomía"]
[1704058,"Esofagogastrectomía proximal"]
[1704059,"Prótesis o tubo endoesofágico, colocación de (proc. aut.)"]
[1704060,"Reconstitución de tránsito en segundo tiempo (estómago o intestino) de operación cód. 17-04-057"]
[1704061,"Sutura herida o perforación esófago cervical"]
[1704062,"Sutura herida o perforación esófago torácico"]
[1704097,"Sutura herida o perforación esófago torácico por vía videotoracoscopica"]
[1704063,"Várices esofágicas, ligadura directa"]
[1704076,"Atresia esofágica con fístula traqueoesofágica por toracoscopia"]
[1704077,"Atresia esofágica sin fístula traqueoesofágica por toracoscopia"]
[1704078,"Atresia esofágica sin fístula traqueoesofágica. Anastomosis"]
[1703060,"Operaciones cardíacas sin circulación extracorpórea"]
[null,"Trasplante  pulmón"]
["PROCEDIMIENTOS DIAGNOSTICOS Y TERAPEUTICOS DEL APARATO RESPIRATORIO",null,{"$f":"SUM(C1901:C1938)","v":0}]
[1707001,"Espirometría basal"]
[1707002,"Espirometría basal y con broncodilatador"]
[1707003,"Provocación con antígeno (incluye el antígeno)"]
[1707004,"Test de provocación con ejercicio                        "]
[1707005,"Test de provocación con metacolina (pc20) (incluye espirometría basal y tratamiento de efectos adversos de la metacolina)"]
[1707051,"Curva dosis respuesta a broncodilatadores."]
[1707057,"Determinación de umbral tusígeno"]
[1707007,"Análisis de gas espirado"]
[1707008,"Capacidad de difusión, estudio de"]
[1707009,"Capacidad física del trabajo"]
[1707010,"Curva de lavado de nitrógeno (N)"]
[1707011,"Curva de relación flujo-volumen basal"]
[1707012,"Distensibilidad pulmonar (compliance), estudio de"]
[1707013,"Medición de presión de oclusión"]
[1707014,"Medición de presión inspiratoria máxima (proc. Aut.)"]
[1707015,"Medición de presión trans-diafragmática"]
[1707016,"Registro flujométrico, por semana"]
[1707017,"Respuesta respiratoria al CO2"]
[1707018,"Tiempo de tolerancia a la fatiga respiratoria"]
[1707019,"Ventilación alveolar, estudio de (incluye ventilación minuto y alveolar, volumen del espacio muerto y cuociente resp.)"]
[1707020,"Volúmenes pulmonares por lavado de nitrógeno"]
[1707058,"Volúmenes pulmonares por pletismografía corporal. Estudio basal"]
[1707059,"Volúmenes pulmonares por pletismografía corporal. Estudio basal y post broncodilatador"]
[1707021,"Laringotraqueobroncoscopía con fibroscopio"]
[1707022,"Larigotraqueoscopía con tubo rígido"]
[1707024,"Pleuroscopía (toracoscopia) c/s biopsia"]
[1707025,"Procedimiento para determinar gasometría arterial en reposo y ejercicio "]
[1707026,"Procedimiento para determinar gasometría arterial respirando O2 puro"]
[1707054,"Saturación de O2 en reposo y/o ejercicio (con oxímetro)"]
[1707055,"Saturación de O2 en reposo y ejercicio y O2 100% (con oxímetro) "]
[1707027,"Broncoaspiración, c/s lavado y/o colocación de medicamentos por sonda traqueobronquial (proc. aut.)"]
[1707029,"Toracocentesis evacuadora, c/s toma de muestras c/s inyección de medicamentos"]
[1707060,"Colocación de stent endobronquial por broncoscopía"]
[1707061,"Fibrobroncoscopía con biopsia transbronquial"]
[1707062,"Selle endoscópico de fístula bronco-pleural"]
[1707056,"Endosonografía bronquial (EBUS)"]
[1707063,"Poligrafía cardiorrespiratoria del sueño ambulatoria"]
[null,"Instalación drenaje Pleural"]
["GASTROENTEROLOGIA"]
["PROCEDIMIENTOS GASTROENTEROLOGÍA",null,{"$f":"SUM(C1941:C2008)","v":0}]
[1801001,"Gastroduodenoscopía (incluye esofagoscopía)"]
[1801003,"Enteroscopía"]
[1801006,"Colonoscopía larga (incluye sigmoidoscopía y colonoscopía izquierda)"]
[1801037,"Ureasa, test de (para Helicobacter pylori) o similar"]
[1801002,"Esofagoscopía"]
[1801004,"Ano-recto-sigmoidoscopía en adultos"]
[1801005,"Ano-recto-sigmoidoscopía en niños"]
[1801007,"Sigmoidoscopía y colonoscopía izquierda con tubo flexible (incluye ano-recto-sigmoidoscopía)"]
[1801008,"Coledocoscopía intraoperatoria c/s extracción de cálculos"]
[1801009,"Peritoneoscopía transparietal (incluye el neumoperitoneo)"]
[1801010,"Test de Bernstein"]
[1801011,"Manometría esofágica convencional"]
[1801012,"Reflujo ácido, test de (Grossman o similar) o Reflujo alcalino, test de"]
[1801015,"Biopsia de intestino delgado, por cápsula (de Rubin, Crosby o sim.)"]
[1801016,"Punción biopsia transparietal de órganos abdominales c/u"]
[1801018,"Colangiopancreatografía retrógrada c/s papilotomía"]
[1801019,"Drenaje de la vía biliar transhepática y/o percutáneo"]
[1801021,"Neumoperitoneo por punción transparietal"]
[1801022,"Intubación sonda de Sengstaken"]
[1801023,"Instalación endoscópica de sonda nasogástrica"]
[1801024,"Instalación endoscópica de sonda enteral"]
[1801025,"Dilatación de estenosis benignas o malignas del tracto digestivo por balón"]
[1801026,"Dilatación de estenosis benignas o malignas del tracto digestivo por bujía"]
[1801027,"Instalación prótesis plástica (s) en vía biliar o pancreática"]
[1801028,"Cuerpo extraño, extracción endoscópica"]
[1801029,"Devolvulación de colon por colonoscopía"]
[1801030,"Dilatación ano-rectal, por sesión"]
[1801031,"Polipectomía o Mucosectomía endoscópica alta"]
[1801045,"Polipectomía o Mucosectomía endoscópica baja"]
[1801032,"Escleroterapia de hemorroides, cualquier número"]
[1801033,"Inyectoterapia hemostática, Hemostasia mecánica, Hemostasia térmica, Ligadura elástica"]
[1801034,"Extracción percutánea de cálculos biliares"]
[1801035,"Ligadura hemorroides"]
[1801036,"Extracción endoscópica de cálculos biliares o pancreáticos"]
[1801038,"Punción evacuadora de absceso intraabdominales (hepático u otros), c/s toma de muestra, c/s inyección de medicamentos"]
[1801041,"Punción de líquido ascítico, diagnóstica"]
[1801042,"Vaciamiento manual de fecaloma"]
[1801043,"Manometría ano-rectal convencional"]
[1801046,"Hemorroidopexia grapada"]
[1801047,"Ligadura hemorroidaria con Doppler"]
[1801048,"Punción evacuadora de líquido ascítico"]
[1801049,"Manometría anorrectal alta resolución"]
[1801050,"Endosonografía digestiva alta"]
[1801051,"Endosonografía digestiva baja"]
[1801052,"Punción guiada con endosonografía digestiva "]
[1801053,"Drenaje guiado con endosonografía digestiva"]
[1801054,"Endosonografía ano-rectal"]
[1801055,"Septotomía endoscópica (divertículo de Zenker y otros)"]
[1801056,"Dilatación de acalasia"]
[1801057,"Instalación de prótesis autoexpandibles en tracto digestivo"]
[1801058,"Instalación de prótesis en vía biliar"]
[1801059,"Test de hidrógeno en aire espirado "]
[1801060,"Test de carbono en aire espirado"]
[5099020,"Medición de pH gástrico"]
[5099101,"Endosonografía compleja"]
[5099102,"Endosonografía alta lineal"]
[5099103,"Endosonografía alta radial"]
[5099104,"Endosonografía con sonda radial"]
[5099105,"Instalación de sonda nasogástrica"]
[5099106,"Litotripsia biliar"]
[5099107,"Mucosectomia"]
[null,"Escleroterapia várices con cionocrilato"]
[null,"Hemostasia con endoclips"]
[null,"Cierre de fístula de esófago-colon-gástrica"]
[null,"Coagulación endoscópica con Argón plasma (digestivo alto y bajo)"]
[null,"Dilatación de Estenosis Colónica"]
[null,"Dilatación Pilórica y/o Estenosis Duodenal"]
[null,"Inyección toxina botulínica en pared abdominal "]
["CIRUGIA ABDOMINAL               ",null,{"$f":"SUM(C2010:C2124)","v":0}]
[1802001,"Hernia Diafragmática por vía abdominal o cualquiera otra hernia con uso de prótesis (no incluye el valor de la prótesis)"]
[1802101,"Hernia Diafragmática por vía abdominal o cualquiera otra hernia con uso de prótesis (incluye el valor de la prótesis)"]
[1802002,"Hernia Incisional o evisceración post-op. sin resección intestinal"]
[1802003,"Hernia Inguinal, crural, umbilical, de la línea blanca o similares, recidivada o no, simple o estrangulada s/resección intest. c/u"]
[1802004,"Laparotomía exploradora, c/s liberación de adherencias, c/s drenaje, c/s biopsias como proc. aut. o como resultado de una herida penetrante abdominal no complicada o de un hemoperitoneo postoperatorio o como tratamiento de una Peritonitis (laparostomía contenida -máximo cuatro, resuturas, etc.)"]
[1802005,"Onfalocele (hasta 5 cms.); trat. quir."]
[1802006,"Onfalocele (más de 5 cms.); trat. quir."]
[1802013,"Gastrosquisis"]
[1802007,"Peritonitis difusa aguda, trat. quir. (proc. aut.)"]
[1802008,"Tumor y/o quiste Peritoneal (parietal)"]
[1802009,"Tumor y/o quiste Retroperitoneal"]
[1802010,"Antrectomía y vagotomía troncular o selectiva (proc. aut.)"]
[1802011,"Desgastrectomía y neoanastomosis, c/s vaguectomía"]
[1802012,"Gastroenteroanastomosis, cualquier técnica. (proc. aut.)"]
[1802149,"By pass gástrico por cirugía abierta"]
[1802150,"By pass gástrico por laparoscopía"]
[1802014,"Gastrotomía y/o gastrostomía (proc. aut.)"]
[1802015,"Perforación gástrica aguda, trat. quir. (proc. aut.)"]
[1802016,"Piloroplastía (proc. aut.)"]
[1802017,"Gastrectomía subtotal con disección ganglionar"]
[1802018,"Gastrectomía subtotal sin disección ganglionar"]
[1802019,"Dumping y/o síndrome asa aferente, trat. quir."]
[1802021,"Gastrectomía sub-total proximal con esófago-gastro-anastomosis u otra derivación"]
[1802022,"Gastrectomía total"]
[1802023,"Gastrectomía total o sub-total ampliada (incluye esplenectomía y pancreatectomía corporocaudal y disección ganglionar)"]
[1802024,"Gastropexia y/u otra cirugía antirreflujo, c/s vagotomía"]
[1802025,"Vagotomía selectiva y superselectiva c/s dren. gástrico, c/s piloroplastía (proc. aut.)"]
[1802079,"Gastrectomía total con ostomías proximal y distal"]
[1802080,"Reconstitución de tránsito en 2° tiempo de operación código 18-02-079"]
[1802083,"Cirugía de la estenosis hipertrófica del píloro. Abierta"]
[1802084,"Cirugía de la estenosis hipertrófica del píloro. Laparoscopia"]
[1802085,"Laparotomía exploradora, instalación de VAC (por procedimiento)"]
[1802086,"Cirugía antirreflujo más gastrostomía"]
[1802087,"Cirugía antirreflujo más gastrostomía vía laparoscopía"]
[1802158,"Cirugía bariátrica By Pass Gástrico por laparoscopia "]
[1802159,"Cirugía bariátrica Manga Gástrica por laparoscopia"]
[1802026,"Drenaje de colecciones líquidas hepáticas"]
[1802027,"Colangioenteroanastomosis intrahepática"]
[1802028,"Colecistectomía c/s colangiografía operatoria"]
[1802081,"Colecistectomía por videolaparoscopía, proc. completo"]
[1802029,"Colecistectomía y coledocostomía (sonda T y colangiografía postoperatoria) c/s colangiografía operatoria"]
[1802030,"Colecistogastroanastomosis o colecistoenteroanastomosis"]
[1802031,"Colecistostomía (proc. aut.)"]
[1802032,"Colédoco o hepatoenteroanastomosis"]
[1802033,"Coledocostomía supraduodenal o hepaticostomía (proc. aut.)"]
[1802151,"Cirugía del quiste de colédoco"]
[1802152,"Cirugía del quiste de colédoco laparoscópico"]
[1802034,"Colocación de válvula peritoneoyugular derivativa de ascitis"]
[1802035,"Desconexión acigoportal con transección esofágica"]
[1802036,"Desconexión acigoportal sin transección esofágica"]
[1802037,"Drenaje vía biliar transhepático"]
[1802038,"Esfinteroplastía transduodenal, (proc. aut.)"]
[1802039,"Hepatectomía segmentaria (proc. aut.)"]
[1802040,"Herida traumática de hígado y/o vía biliar, trat. quir."]
[1802041,"Lobectomía hepática (proc. aut.)"]
[1802042,"Quiste hidatídico, único o múltiple, y/o cistoyeyunoanastomosis, trat. quir."]
[1802100,"Trasplante hepático"]
[1802088,"Cirugía de la atresia de vía biliar"]
[1802089,"Cirugía de la atresia de vía biliar por vía laparoscopia"]
[1802043,"Abscesos, quistes, pseudoquistes o similares de páncreas, trat. quir."]
[1802044,"Heridas, traumatismos de páncreas, trat. quir."]
[1802045,"Pancreatectomía parcial"]
[1802046,"Pancreatectomía total c/s esplenectomía"]
[1802047,"Pancreatoduodenectomía"]
[1802048,"Secuestrectomía en pancreatitis aguda"]
[1802148,"Yeyunopancreatostomía"]
[1802090,"Atresia o estenosis duodenal, páncreas anular, reparación quirúrgica. Abierta"]
[1802091,"Atresia o estenosis duodenal, páncreas anular, reparación quirúrgica laparoscopia"]
[1802092,"Esplenectomía por vía laparoscopia"]
[1802049,"Autoimplante de bazo (incluye esplenectomía)"]
[1802050,"Esplenectomía total o parcial (proc. aut.)"]
[1802051,"Operación de etapificación (incluye esplenectomía, biopsias hepáticas, de ganglios abdominales y de cresta ilíaca)"]
[1802052,"Sutura esplénica (proc. aut.)"]
[1802053,"Apendicectomía y/o dren. absceso apendicular (proc. aut.)"]
[1802054,"Cierre de colostomía (proc. aut.)"]
[1802055,"Colostomía (proc. aut.)"]
[1802056,"Colostomía, complicaciones tardías, trat. quir."]
[1802057,"Divertículo de Meckel, trat. quir."]
[1802058,"Entero-enteroanastomosis o enterocoloanastomosis (proc. aut.)"]
[1802059,"Enterotomía o enterostomía (yeyunostomía u otra) (proc. aut.)"]
[1802060,"Ileostomía terminal o en asa (proc. aut.)"]
[1802061,"Invaginación intestinal, trat. quir."]
[1802062,"Persistencia conducto onfalomesentérico, trat. quir."]
[1802063,"Quiste uraco, trat. quir."]
[1802065,"Oclusión intestinal, con resección"]
[1802066,"Oclusión intestinal, sin resección"]
[1802067,"Colectomía parcial o hemicolectomía"]
[1802068,"Colectomía total abdominal"]
[1802069,"Descenso de colon c/conservación del esfínter, incluye resección de colon"]
[1802070,"Hartmann, operación de (o similar)"]
[1802071,"Perforación y/o herida de intestino, única o múltiple, trat. quir. (proc. aut.)"]
[1802072,"Quiste y/o tumor del mesenterio y/o epiplones, único y/o múltiple, trat. quir."]
[1802073,"Reconstitución tránsito post operación de Hartmann o sim."]
[1802074,"Resección de intestino y enteroanastomosis (proc. aut.)"]
[1802082,"Resección intestinal con ostomías proximal y distal"]
[1802075,"Resección intestinal masiva por trombosis mesentérica u otra etiología"]
[1802076,"Duplicación intestinal, trat. quir."]
[1802077,"Mal rotación intestinal, trat. quir."]
[1802093,"Cirugía de la enterocolitis neonatal con resección intestinal"]
[1802094,"Cirugía de la enterocolitis neonatal con resección intestinal laparoscopia"]
[1802095,"Cirugía de la enterocolitis neonatal con resección múltiple"]
[1802096,"Cirugía de la enterocolitis neonatal con resección múltiple laparoscopia"]
[1802097,"Cirugía de la enterocolitis neonatal sin resección intestinal"]
[1802098,"Cirugía de la enterocolitis neonatal sin resección intestinal laparoscopia"]
[1802099,"Reconstitución de tránsito post enterocolitis neonatal con una entero-entero anastomosis"]
[1802106,"Reconstitución de tránsito post enterocolitis neonatal con múltiples entero-entero anastomosis"]
[1802102,"Atresia o estenosis yeyuno-ileal, reparación primaria abierta"]
[1802103,"Atresia o estenosis yeyuno-ileal, reparación primaria laparoscopia"]
[1802104,"Atresia o estenosis yeyuno-ileal, resección y ostomías abierta"]
[1802105,"Atresia o estenosis yeyuno-ileal, resección y ostomías laparoscopia"]
[5099006,"Cirugía bariátrica con banda gástrica ajustable (Banding)"]
[5099007,"Cirugía bariátrica con Balón Intragástrico"]
[null,"Laparoscopía exploradora (diagnóstica)"]
[null,"Gastrostomía endoscópica"]
[null,"Cierre de fístula de esófago-colon-gástrica cirugía"]
["CIRUGIA PROCTOLÓGICA           ",null,{"$f":"SUM(C2126:C2163)","v":0}]
[1803001,"Absceso ano rectal complejo, tratamiento quirúrgico"]
[1803002,"Absceso anorrectal simple, trat. quir."]
[1803003,"Absceso sacrocoxígeo, drenaje"]
[1803004,"Biopsia quirúrgica rectal (proc. aut.)"]
[1803006,"Cuerpo extraño rectal, extracción por vía abdominal"]
[1803007,"Cuerpo extraño rectal, extracción por vía anal"]
[1803008,"Desgarros y heridas anorrectales con compromiso del esfínter"]
[1803009,"Desgarros y heridas anorrectales sin compromiso del esfínter"]
[1803010,"Esfinterotomía (proc. aut.)"]
[1803011,"Estenosis anal, plastía"]
[1803012,"Estenosis rectal, plastía"]
[1803013,"Fecaloma, trat. quir."]
[1803014,"Fístula rectovesical, trat. quir."]
[1803015,"Fístula rectovaginal, rectouretral o uretrovaginal, trat. quir."]
[1803016,"Fístula anorrectal, trat. quir. de cualquier tipo"]
[1803017,"Fisura anal, repar. quir."]
[1803018,"Hemorroidectomía (incluye otras operaciones complementarias en canal anal)"]
[1803019,"Hemorroides, trombectomía (proc. aut.)"]
[1803020,"Imperforación anal, reconstitución tránsito por vía abdomino-perineal"]
[1803021,"Imperforación anal, reconstitución tránsito por vía perineal"]
[1803023,"Incontinencia anal, trat. quir. con cerclaje"]
[1803024,"Incontinencia anal, trat. quir. con plastía muscular"]
[1803025,"Pólipo rectal, trat. quir. por vía abdominal"]
[1803026,"Pólipo rectal, trat. quir. por vía anal"]
[1803027,"Prolapso rectal, trat. quir. por vía abdominal"]
[1803028,"Prolapso rectal, trat. quir. por vía anal"]
[1803029,"Panproctocolectomía (2 equipos)"]
[1803030,"Prurito anal, trat. quir. por denervación"]
[1803031,"Quiste sacrocoxígeo, trat. quir."]
[1803032,"Resección abdomino-perineal de ano y recto (2 equipos)"]
[1803033,"Resección abdomino-perineal de ano y recto ampliada (2 equipos) (incluye genitales femeninos)"]
[1803034,"Resección anterior de recto"]
[1803035,"Resección perineal de ano y recto"]
[1803038,"Condilomas anales, trat. quir."]
[1803039,"Cirugía de la cloaca, primer tiempo de derivación"]
[1803040,"Cirugía de la cloaca, reparación definitiva"]
[1803041,"Cirugía reparadora en Enfermedad de Hirschsprung vía abdomino-perineal"]
[1803042,"Cirugía reparadora en Enfermedad de Hirschsprung vía endoanal"]
[" UROLOGIA Y NEFROLOGIA  "]
["PROCEDIMIENTOS DE UROLOGÍA Y NEFROLOGÍA",null,{"$f":"SUM(C2166:C2191)","v":0}]
[1901001,"Exploración de uretra ántero-posterior con bujía y/o explorador olivar, y/o sonda, y/o beniqué, y/o medición de residuo vesical (la calibración del meato está incluida en el valor de la consulta)"]
[1901002,"Cistoscopía con o sin sondeo de uno o ambos uréteres, con o sin biopsia"]
[1901003,"Cistoscopía y/o uretrocistoscopía y/o uretroscopía (proc.aut.)"]
[1901004,"Ureteronefroscopía"]
[1901005,"Biopsia prostática transrectal o transperineal con apoyo ecográfico."]
[1901006,"Biopsia renal transparietal"]
[1901035,"Biopsia estereotáxica digital de próstata"]
[1901007,"Cistometría (proc.aut.)"]
[1901009,"Electromiografía perineal y del esfínter uretral en niños (proc.aut.)"]
[1901010,"Perfil uretral (proc.aut.)"]
[1901011,"Uroflujometría (proc.aut.)"]
[1901030,"Estudio urodinámico (incluye cistometría, EMG perineal y del esfínter uretral, perfil uretral y uroflujometría)"]
[1901012,"Cistografía por sonda (de relleno) o por punción hipogástrica"]
[1901013,"Inyección de medio de contraste en cuerpo cavernoso"]
[1901015,"Ureteropielografía ascendente (directa) por cateterísmo ureteral uni o bilateral"]
[1901016,"Uretrografía retrógrada o cistouretrografía (miccional)"]
[1901018,"Dilatación uretra c/s masaje, c/s instilación o inyección de medicamentos: anterior y/o posterior"]
[1901019,"Instilación vesical (incluye colocación de sonda) proc. aut."]
[1901036,"Instilación vesical (incluye colocación de sonda y Micobacterium Bovis para instilación intravesical proc. aut.)"]
[1901020,"Inyección de medicamentos en el pene"]
[1901021,"Vaciamiento vesical p/punción hipogástrica o cistostomía p/punción"]
[1901022,"Vaciamiento vesical por sonda uretral, (proc. aut.)"]
[5099110,"Procedimiento hemodinamia-ablación renal"]
[" 5099109 ","Instalación de sonda vesical "]
[null,"Extracción percutánea de cálculos renales "]
[null,"Plasmaféresis patología renal"]
["DIALISIS                                                    ",null,{"$f":"SUM(C2193:C2203)","v":0}]
[1901023,"Hemodiálisis con insumos incluidos"]
[1901024,"Hemodiálisis sin insumos"]
[1901025,"Peritoneodiálisis por sesión (incluye insumos)"]
[1901026,"Peritoneodiálisis continua en paciente crónico (adulto o niños) (tratamiento mensual)"]
[1901126,"Instalación de Catéter para Peritoneodiálisis"]
[1901027,"Hemodiálisis, tratamiento mensual (con insumos incluidos)"]
[1901028,"Hemodiálisis con bicarbonato con insumos (por sesión)"]
[1901029,"Hemodiálisis con bicarbonato con insumos (tratamiento mensual)"]
[1901031,"Instalación de catéter de peritoneodiálisis laparoscopia"]
[1901032,"Retiro de catéter de peritoneodiálisis"]
[1901033,"Revisión de catéter de peritoneodiálisis laparoscopia"]
["CIRUGIA UROLOGICA Y SUPRARRENAL         ",null,{"$f":"SUM(C2205:C2283)","v":0}]
[1902002,"Arterias renales, operaciones sobre (proc. aut.)"]
[1902003,"Auto o heterotrasplante riñón"]
[1902004,"Cirugía de banco, (proc. completo) (micro-extracorpórea), autotrasplante"]
[1902005,"Litiasis renal, trat. quir. percutáneo c/s ultrasonido (incluye todo el procedimiento)"]
[1902090,"Tratamiento integral litiasis urinaria por vía litotripsia extracorpórea"]
[1902006,"Litiasis renal o ureteral por cirugía abierta o laparoscópica, por pielotomía o nefrotomía mínima o anatrófica."]
[1902008,"Lumbotomía exploradora c/s dren., c/s biopsia (proc. aut.)"]
[1902009,"Nefrectomía parcial cualquier vía y técnica. Incluye disección ganglionar etapificadora o reductiva"]
[1902010,"Nefrectomía radical por cáncer renal, traumatismo renal, vía abierta, laparoscópica o robótica, incluye disección ganglionar etapificadora o reductiva"]
[1902011,"Nefrectomía por patología benigna o malformación o trasplante."]
[1902012,"Drenaje percutáneo o endoscópico de hidronefrosis (proc. autónomo)"]
[1902013,"Pielotomía exploradora y/o terapéutica (incluye la pielostomía y/o pieloplastía)"]
[1902015,"Suprarrenalectomía unilateral"]
[1902016,"Anastomosis de los uréteres"]
[1902017,"Fístula urétero-vaginal, trat. quir."]
[1902018,"Nefroureterectomía en patología tumoral o malformación, cualquier vía o técnica."]
[1902019,"Ureterectomía"]
[1902020,"Urétero-litotomía abierta"]
[1902021,"Urétero o nefro-litotomía endoscópica c/ureteroscopía rígida o flexible, con o sin fragmentación"]
[1902022,"Ureterectomía, ureteroplastía, ureterorrafia, ureterólisis, transureteroanastomosis, cualquier vía o técnica."]
[1902023,"Ureterorrafia y/o ureterólisis c/u"]
[1902024,"Ureterostomía bilateral: vesical, cutánea o intestinal"]
[1902025,"Ureterostomía unilateral: vesical, cutánea o intestinal"]
[1902093,"Ureterostomía unilateral: vesical, cutáneo o intestinal por vía de abordaje laparoscopia"]
[1902027,"Cistectomía parcial y/o trat. quir. de divertículo vesical"]
[1902028,"Cistectomía radical, cualquier vía o técnica, incluye linfadenectomía ampliada."]
[1902029,"Cistoplastía, proc. completo"]
[1902030,"Reparación vesical por trauma o daño de cualquier tipo."]
[1902091,"Reparación vesical por trauma o daño de cualquier tipo. Por vía de abordaje laparoscópica"]
[1902031,"Cistostomía, extracción de Litiasis o cuerpo extraño, instalación de catéter suprapúbico, por vía abierta o endoscópica, c/s laser"]
[1902032,"Extrofia vesical, proc. completo"]
[1902033,"Fístula vésico-cutánea, y/o vaginal, y/o intest., trat. quir."]
[1902034,"Cirugía abierta o endoscópica de lesiones cuello vesical y/o hemovejiga primaria o post cirugía próstata o vejiga"]
[1902035,"Ligadura de arterias hipogástricas (proc. aut.)"]
[1902036,"Operación de Bricker"]
[1902037,"Resección endoscópica de cáncer vesical"]
[1902038,"Reservorio continente intestinal externo o interno"]
[1902092,"Inyección ureteral o vesical de medicamentos o sustancias vía endoscópica (no incluye fármaco)"]
[1902040,"Extirpación divertículo o quiste para-uretral, cualquier vía"]
[1902041,"Flegmón urinoso, drenaje y cistostomía"]
[1902043,"Uretroplastía sin substitución - uretrorrafía"]
[1902044,"Uretroplastía de substitución, cada tiempo"]
[1902045,"Incontinencia urinaria de esfuerzo o d.i.e. (disfunción intrínseca del esfínter), cualquier vía única o combinada, con o sin instalación de mallas, elementos protésicos o esfínter artificial."]
[1902047,"Meatotomía quirúrgica c/s resección de pólipo o carúncula"]
[1902049,"Uretrectomía y /o plastía abierta de uretra posterior por trauma o estenosis o cualquier etiología"]
[1902050,"Fistulectomía uretral"]
[1902051,"Uretrostomía"]
[1902052,"Uretrotomía externa (proc. aut.)"]
[1902053,"Uretrotomía interna y/o uretrolitotomía (proc. aut.)"]
[1902054,"Tratamiento quirúrgico de absceso prostático y/o vesículas seminales, cualquier vía o técnica"]
[1902055,"Adenoma o cáncer prostático, resección endoscópica desobstructiva, cualquier técnica (uni, bipolar, láser u otros)"]
[1902056,"Adenoma prostático, trat. quir. cualquier vía o técnica abierta"]
[1902057,"Prostatectomía radical por cáncer prostático, vía abierta, laparoscópica o robótica, incluye linfadenectomía si corresponde"]
[1902059,"Biopsia quirúrgica de testículo y/o aspiración epididimaria."]
[1902060,"Descenso testicular con o sin hernia, cualquier tiempo, cualquier técnica"]
[1902061,"Descenso testículo inguinal c/s hernioplastía"]
[1902062,"Escroto, plastía de, proc. completo"]
[1902063,"Hidatidectomía unilat. c/s eversión de la vaginal (proc. aut.)"]
[1902064,"Hidrocele y/o hematocele, incluye quistes cordón y/o epidídimo y/o hidatidectomías y/o cirugía intravaginal del mismo lado"]
[1902065,"Orquidectomía unilateral"]
[1902066,"Orquidopexia unilateral"]
[1902067,"Prótesis testicular, (proc. aut.)"]
[1902068,"Orquidectomía ampliada por cáncer testicular"]
[1902069,"Disección ganglionar lumboaórtica por cáncer testicular, cualquier vía o técnica, uni o bilateral o modificada."]
[1902070,"Anastomosis deferentes o epidídimo-deferencial"]
[1902071,"Cirugía del epidídimo y cordón (proc.aut), incluye cirugía intravaginal y/o varicocele mismo lado"]
[1902072,"Plastía epidídimo-deferente (operación de Martín o sim.)"]
[1902073,"Quistes del cordón, y/o epidídimo, extirpación; epididimotomía diagnóstica y/o terapéutica (proc. aut.)"]
[1902074,"Exploración escroto agudo. Incluye hematocele por trauma, destorsión y fijación testículo, hidatidectomía y eversión bilateral si corresponde"]
[1902075,"Varicocele unilateral y/o denervación cordón espermático (incluye quistes, hidátides e hidrocele mismo lado)"]
[1902076,"Vasectomía bilateral, (proc. aut.) (la vasectomía como tiempo previo a una resección de próstata está incluida en la prostatectomía)"]
[1902078,"Amputación parcial del pene (proc. aut.)"]
[1902079,"Amputación total del pene, proc. completo"]
[1902080,"Biopsia de pene (proc. aut.)"]
[1902081,"Cirugía del priapismo cualquier vía o técnica"]
[1902082,"Circuncisión (incluye sección de frenillo, y/o de sinequias balanoprepuciales, y/o incisión dorsal c/s meatotomía)"]
[1902083,"Cirugía traumatismo peneano o curvaturas adquiridas de la albugínea"]
[1902084,"Meatotomía hombre y/o sección frenillo y/o incisión dorsal, (proc. aut.)"]
[1902085,"Implantación prótesis peneana cualquier tipo o vía (no incluye prótesis)"]
[" GINECOLOGIA Y OBSTETRICIA "]
["PROCEDIMIENTOS DIAGNOSTICOS Y TERAPEUTICOS ",null,{"$f":"SUM(C2286:C2313)","v":0}]
[2001002,"Colposcopía"]
["2001005","Histeroscopía diagnóstica (proc. aut.)"]
[2001006,"Amniocentesis"]
[2001007,"Culdocentesis (punción del Douglas)"]
[2001009,"Monitoreo basal con informe"]
[2001010,"Monitoreo fetal estresante, con control permanente del especialista y tratamiento de las posibles complicaciones"]
[2001021,"Cordocentesis"]
[2001012,"Galactografía (a.c. 04-02-005)"]
[2001013,"Histerosalpingografía (a.c. 04-02-011)"]
["2001014","Biopsia endometrio, vulva, vagina, cuello, c/u (proc. aut.)"]
[2001015,"Colocación o extracción de dispositivo intrauterino (no incluye el valor del dispositivo)"]
["2001016","Electrodiatermo o criocoagulación de lesiones del cuello"]
[2001020,"Test postcoital"]
[2001022,"Punción evacuadora de quistes mamarios, c/s toma de muestras, c/s inyección de medicamentos"]
[2001023,"Biopsia estereotáxica digital de mama"]
[2001024,"Biopsia Corial"]
[2001025,"Toma de muestra para biopsia con aguja Core o similar en tumores palpables"]
[5099004,"Biopsia Core (BC) guiada por ultrasonido (US)"]
[5099045,"Inserción Implante Anticonceptivo"]
[5099046,"Remoción Implante Anticonceptivo"]
[5099047,"Inserción Pellets subcutáneo "]
[2003047,"Prueba de neuromodulación sacra básica: Evaluación periférica de raíces sacras"]
[2003048,"Implante conjunto de neuroelectrodo sacro cuadripolar y generador de pulso implantable de neuromodulación sacra "]
[2003049,"Prueba avanzada de neuromodulación sacra: Implante o revisión de neuroelectrodo sacro cuadripolar"]
[2003050,"Implante de generador de pulso implantable de neuromodulación sacra "]
[2003051,"Explante de neuroelectrodo sacro cuadripolar espiculado o revisión de bolsillo glúteo"]
[2004009,"Fototerapia a recién nacidos"]
[null,"Electrofulguración condiloma"]
["CIRUGIA DE LA MAMA (UN LADO)",null,{"$f":"SUM(C2315:C2319)","v":0}]
[2002001,"Absceso y/o hematoma de mama, trat. quir."]
[2002002,"Mastectomía parcial (cuadrantectomía o similar) o total s/vaciamiento ganglionar"]
[2002003,"Mastectomía radical o tumorectomía c/vaciamiento ganglionar o mastectomía total c/vaciamiento ganglionar"]
[2002005,"Tumor benigno y/o quiste y/o mama supernumeraria y/o aberrante o politelia, o biopsia quirúrgica extemporánea, trat. quir. (proc. aut)"]
[2002006,"Biopsia linfonodo centinela"]
["CIRUGIA GINECOLOGICA",null,{"$f":"SUM(C2321:C2359)","v":0}]
[2003031,"Videolaparoscopía ginecológica exploradora (incluye toma de muestras para biopsias, punción de quistes y liberación de adherencias) (proc. aut.)"]
[2003042,"Linfadenectomía pélvica bilateral laparoscopia "]
[2003044,"Linfadenectomía pélvica bilateral abierta"]
[2003043,"Traquelectomía radical "]
[2003045,"Traquelectomía radical laparoscópica "]
[2003046,"Traquelectomía simple por vía vaginal"]
[2003001,"Ooforectomía parcial o total, uni o bilateral (proc. aut.)"]
[2003002,"Anexectomía y/o vac. de absceso tubo-ovárico, uni o bilateral."]
[2003003,"Embarazo tubario, trat. quir."]
[2003004,"Ligadura o sección uni o bilateral de las trompas (Madlener, Pomeroy, o similares) (proc. aut.)"]
[2003005,"Salpingectomía uni o bilateral"]
[2003006,"Esterilidad tubaria, operación plástica uni o bilateral con microcirugía"]
[2003007,"Esterilidad tubaria, operación plástica uni o bilateral sin microcirugía"]
[2003008,"Miomectomía"]
[2003041,"Extracción de DIU incrustado, por vía abdominal"]
[2003009,"Histerectomía subtotal por vía abdominal"]
[2003010,"Histerectomía total o ampliada por vía abdominal"]
[2003011,"Ligamento ancho: abscesos y/o hematomas y/o flegmones y/o quistomas y/o várices u otros, trat. quir. (proc. aut.)"]
[2003012,"Conización y/o amputación del cuello uterino, diagnóstica y/o terapéutica c/s biopsia"]
[2003013,"Exanteración pelviana anterior y/o posterior"]
[2003014,"Histerectomía por vía vaginal"]
[2003015,"Histerectomía radical con disección pelviana completa de territorios ganglionares, incluye ganglios lumboaórticos (operación de Wertheim o similares)"]
[2003016,"Histerectomía total c/intervención incontinencia urinaria, cualquier técnica"]
[2003017,"Histeropexia"]
[2003018,"Plastía uterina (operación de Strassmann o similares)"]
[2003019,"Polipectomía (uno o más) (proc. aut.)"]
[2003020,"Sinequia y/o estenosis cervical, trat. quir."]
[2003030,"Desgarro cervical trat. quir."]
[2003040,"Incompetencia cervical trat. quir."]
[2003021,"Colpoceliotomía"]
[2003022,"Incontinencia urinaria de esfuerzo, trat. quir. por vía vaginal (proc. aut.)"]
[2003023,"Prolapso anterior y/o posterior con repar., incontinencia urinaria por vía extravaginal o combinada"]
[2003024,"Prolapso anterior y/o posterior c/s trat. de incontinencia urinaria por vía vaginal, trat. quir."]
[2003025,"Quiste y/o desgarro y/o tabique vaginal, trat. quir."]
[2003026,"Bartolinitis, vaciamiento y drenaje (proc. aut.)"]
[2003027,"Bartolinocistoneostomía o extirp. de la glándula"]
[2003028,"Vulvectomía radical"]
[2003029,"Vulvectomía simple"]
[null,"Laparoscopía ginecológica exploradora (diagnóstica)"]
["CIRUGIA  OBSTETRICA Y PARTOS",null,{"$f":"SUM(C2361:C2374)","v":0}]
[2004001,"Aborto retenido, vaciamiento de (incluye la inducción en los casos que corresponda)"]
[2004002,"Raspado uterino diagnóstico o terapéutico por metrorragia o por restos de aborto"]
[2004007,"Aspiración manual endouterina (AMEU)"]
[2004008,"Tratamiento Farmacológico Ley IVE (incluye Consulta especialidad en Obstetricia y Ginecología y fármacos)"]
[2004006,"Cesárea c/s salpingoligadura o salpingectomía"]
[2004005,"Cesárea con histerectomía"]
[2004103,"Parto normal"]
[2004113,"Parto distócico vaginal"]
[2004003,"Parto presentación cefálica o podálica, c/s episiotomía, c/s sutura, c/s fórceps, c/s inducción, c/s versión interna, c/s revisión, c/s extracción manual de placenta, c/s monitorización. (Único o Múltiple)"]
["2004013","Cirugía quiste o tumor benigno del ovario abierta, neonatal"]
["2004014","Cirugía quiste o tumor benigno del ovario laparoscópico, neonatal"]
["2004015","Tratamiento quirúrgico abierto del quiste paraovárico o del ligamento ancho, neonatal"]
["2004016","Tratamiento quirúrgico laparoscópico del quiste paraovárico o del ligamento ancho, laparoscópico, neonatal"]
["2004017","Tratamiento quirúrgico de himen imperforado, paciente pediátrico"]
["TRAUMATOLOGÍA"]
[" PROCEDIMIENTOS DE TRAUMATOLOGÍA ",null,{"$f":"SUM(C2377:C2393)","v":0}]
[2101001,"Infiltracion local medicamentos (bursas, tendones, yuxtaarticulares y/o intraarticulares"]
[2101002,"Procedimiento para exploraciones radiológicas (incluye maniobra e inyección del medio de contraste)"]
[2101003,"Movilización articular bajo anestesia general."]
[2105001,"Calzón corto de yeso"]
[2105002,"Corbata tipo Schantz"]
[2105003,"Minerva de yeso"]
[2105004,"Rodillera, bota larga o corta de yeso"]
[2105005,"Velpeau"]
[2105006,"Yeso antebraquial c/s férula digital"]
[2105007,"Yeso braquicarpiano"]
[2105008,"Yeso pelvipedio bilateral"]
[2105009,"Yeso pelvipedio unilateral"]
[2105010,"Yeso toracobraquial"]
[2105011,"Corsets de Milwaukee o similares (incluye la toma de molde)"]
[2105012,"Corsets de Risser o similares"]
[2105013,"Corsets de yeso simple (tipo Watson Jones)"]
[null,"Retiro de yeso (Traumatología)"]
["CIRUGÍA TRAUMATOLÓGICA    ",null,{"$f":"SUM(C2395:C2601)","v":0}]
[2104001,"Artroscopía diagnóstica c/s biopsia, c/s sección de bridas, extracción de cuerpo extraño"]
[2104002,"Exostosis u osteocondroma, trat. quir."]
[2104003,"Quistes sinoviales de vainas flexoras, bursas"]
[2104004,"Tracción halocraneana o estribo-craneana (proc. aut.)"]
[2104005,"Tracción halocráneo-femoral"]
[2104006,"Tracción transesquelética o de partes blandas en adultos o en niños (proc. aut.)"]
[2104007,"Artrodesis de codo o muñeca, c/u"]
[2104008,"Artrodesis de hombro, cadera, rodilla, tobillo o sacroilíaca, c/u"]
[2104009,"Artrodesis de mano o pie c/u"]
[2104010,"Tratamiento completo de fracturas expuestas de brazo, antebrazo, muslo y pierna, c/u"]
[2104011,"Tratamiento completo de fracturas expuestas de mano o pie, c/u      "]
[2104012,"Osteítis, raspado, c/s secuestrectomía"]
[2104013,"Osteomielitis aguda hematógena, drenaje quirúrgico, c/s dispositivos de osteoclisis"]
[2104014,"Osteomielitis crónica huesos largos, legrado óseo, c/s osteosíntesis o aparato de yeso"]
[2104015,"Artrotomía hombro o cadera c/u"]
[2104016,"Artrotomía de codo, muñeca, tobillo o temporomandibular, c/u"]
[2104017,"Pseudoartrosis infectada huesos largos, trat. quir. cualquier técnica, c/s dispositivo de osteoclisis, c/s osteosíntesis o aparato de yeso"]
[2104018,"Autotrasplante óseo microquirúrgico"]
[2104019,"Injerto esponjoso metafisiario"]
[2104020,"Injertos esponjosos o cortico-esponjosos de cresta ilíaca"]
[2104021,"Trasplante óseo (auto u homotrasplante)"]
[2104022,"Lesiones quísticas con fractura patológica: legrado óseo, c/s relleno injerto esponjoso, c/s osteosíntesis y/o aparato de inmovilización postoperatoria"]
[2104023,"Lesiones quísticas intraósea: legrado óseo, c/s relleno de injertos"]
[2104024,"Metástasis ósea c/s fractura patológica, legrado tumoral, relleno cemento quirúrgico y osteosíntesis"]
[2104025,"Tumor óseo, resección en bloque, c/s osteosíntesis y/o aparato inmovilización postoperatorio"]
[2104026,"Tumores o quistes o lesiones pseudoquísticas o musculares y/o tendíneas, trat. quir."]
[2104027,"Tumores óseos: resección en bloque, epifisiaria c/artrodesis o diafisiaria"]
[2104028,"Tumores primarios o metastásicos vertebrales: corporectomía, reemplazo por cemento quir. o injerto óseo, c/s osteosíntesis"]
[2104029,"Sinovectomías quirúrgicas de codo o muñeca o metacarpofalángicas, c/u"]
[2104030,"Sinovectomías quirúrgicas de rodilla o cadera u hombro, c/u"]
[2104031,"Epineurorrafia microquirúrgica con magnificación cualquier tronco nervioso (con excepción nervios digitales)"]
[2104033,"Biopsia ósea por punción"]
[2104034,"Biopsia ósea quirúrgica"]
[2104035,"Biopsia sinovial o muscular por punción"]
[2104036,"Biopsia sinovial o muscular quirúrgica"]
[2104037,"Biopsia vertebral por punción"]
[2104232,"Punción discal diagnóstica o terapéutica"]
[2104233,"Biopsia vertebral abierta"]
[2104038,"Regularización de Muñón de Amputación"]
[2104039,"Osteocondrosis o epifisitis, trat. quir."]
[2104040,"Amputación interescápulo-torácica"]
[2104041,"Desarticulación escápulo-humeral"]
[2104042,"Endoprótesis total de hombro (cualquier técnica)"]
[2104044,"Fractura cuello humeral, trat. quir."]
[2104045,"Fractura de clavícula, osteosíntesis"]
[2104046,"Fractura escápula, osteosíntesis"]
[2104047,"Luxación acromio-clavicular o esterno-clavicular, reducción o plastía cápsuloligamentosa y osteosíntesis"]
[2104048,"Luxación recidivante de hombro, trat. quir."]
[2104049,"Luxación traumática de hombro, reducción cruenta"]
[2104050,"Luxofractura, reducción y osteosíntesis hombro"]
[2104051,"Ruptura manguito rotadores, trat. quir. c/s acromiectomía"]
[2104052,"Transposiciones musculares"]
[2104053,"Amputación brazo"]
[2104054,"Fractura supracondílea niño; tracción esquelética, c/s osteosíntesis y aparato de yeso"]
[2104055,"Osteosíntesis diafisiaria de húmero (cualquier técnica) "]
[2104056,"Osteosíntesis supra o intercondílea (cualquier técnica)"]
[2104057,"Osteotomía húmero (cualquier técnica)"]
[2104058,"Pseudoartrosis c/s osteosíntesis c/s yeso húmero"]
[2104059,"Artroplastía con fascia codo"]
[2104060,"Cúpula radial, resección"]
[2104061,"Cúpula radial, (resección con implante de prótesis) artroplastía "]
[2104062,"Endoprótesis total de codo, (cualquier técnica)"]
[2104063,"Epicondilitis, trat. quir. (cualquier técnica)"]
[2104064,"Luxación de codo, reducción cruenta "]
[2104065,"Luxofractura de codo, reducción cruenta c/s resección cúpula radial"]
[2104066,"Osteosíntesis epitróclea-epicóndilo (cualquier técnica)"]
[2104067,"Osteosíntesis olécranon u osteosíntesis de cúpula radial (proc. aut.) (cualquier técnica)"]
[2104068,"Traslocación nervio cubital (proc. aut.)"]
[2104069,"Operación de salvataje radio-procúbito"]
[2104070,"Amputación antebrazo"]
[2104071,"Extirpación metáfisis distal del cúbito y artrodesis radiocubital inferior"]
[2104072,"Luxofracturas (Monteggia-Galeazzi), reducc. y osteosíntesis"]
[2104073,"Osteosíntesis, fract. cerrada cúbito y/o radio (cualq. técn.)"]
[2104074,"Osteotomía uno o ambos huesos, c/s osteosíntesis c/s yeso o trat. quir. Enf. de Kienbock"]
[2104075,"Pseudoartrosis cúbito y/o radio c/s osteosíntesis c/s yeso"]
[2104076,"Sinostosis radio-cubital, trat. quir., c/s injerto"]
[2104077,"Trasplantes músculo-tendinosos antebrazo"]
[2104078,"Contractura isquem. de Volkmann: descenso muscular, neurolisis"]
[2104079,"Endoprótesis total de muñeca, (cualquier técnica)"]
[2104080,"Estiloides cubital, radial, resección de."]
[2104081,"Fractura o pseudoartrosis escafoides, trat. quir. cualq. técn."]
[2104083,"Luxación radiocarpiana, trat. quir."]
[2104084,"Luxación semilunar, escafoidea, reducción y osteosíntesis semicruenta o cruenta"]
[2104085,"Osteosíntesis radio, (cualquier técnica)"]
[2104086,"Tendovaginosis de De Quervain, trat. quir."]
[2104087,"Amputación dedos (tres o más)"]
[2104088,"Amputación dedos (uno o dos)"]
[2104089,"Amputación mano o del pulgar"]
[2104090,"Amputación pulpejos (plastía Kutler o similares)"]
[2104091,"Contractura Dupuytren, trat. quir., cada tiempo"]
[2104092,"Contusión-compresión grave mano, trat. quir. incluye incisiones liberadoras y/o fasciotomía y/o escarectomía y/o injertos piel inmediatos y síntesis percutánea"]
[2104093,"Dedos en gatillo, trat. quir., cualquier número"]
[2104094,"Flegmón mano, trat. quir."]
[2104095,"Luxofractura metacarpofalángica o interfalángica, trat. quir."]
[2104096,"Mano reumática en ráfaga: traslocaciones tendinosas, plastías capsulares, tenotomías, inmovilización postoperatoria"]
[2104097,"Mano reumática: implant. silastic, cualq. número (proc. aut.)"]
[2104098,"Mutilación grave mano, aseo. quir. completo c/s osteosíntesis, c/s injertos "]
[2104099,"Osteosíntesis metacarpianas o de falanges, cualquier técnica"]
[2104100,"Panadizo, trat. quir."]
[2104101,"Pulgarización dedo (índice o anular)"]
[2104102,"Reimplante mano o dedo(s)"]
[2104103,"Reparación flexores: primer tiempo espaciador silastic"]
[2104104,"Reparación nervio digital con injerto interfascicular: cualquier número"]
[2104105,"Rupturas cerradas cápsulo-ligament. o tendinosas, trat. quir. mano"]
[2104106,"Sutura nervio(s) digital(es); microcirugía"]
[2104107,"Tenorrafia extensores mano"]
[2104108,"Tenorrafia o injertos flexores mano"]
[2104109,"Tenosinovitis séptica, trat. quir. mano"]
[2104110,"Trasplante microquirúrgico para pulgar"]
[2104111,"Transposiciones tendinosas flexoras o extensoras mano"]
[2104203,"Tratamiento quir., dedos en gatillo, cualquier número téc. WALANT (anestesia local sin torniquete)"]
[2104112,"Diastematomielia, resección espolón c/s instrumentación"]
[2104113,"Escoliosis, trat. quir., cualquier vía de abordaje, e instrumentación de Harrington, Luque, Dwyer o similares "]
[2104213,"Escoliosis, trat. quir., cualquier vía de abordaje, con instrumentación (incluye elementos de osteosíntesis)"]
[2104116,"Luxaciones, luxofracturas vertebrales (cervical, dorsal, lumbar), reducción cruenta, cualquier vía de abordaje, cualquier número"]
[2104117,"Osteotomías vertebrales correctoras, c/s instrumentación, c/s injertos óseos, c/s artrodesis"]
[2104118,"Plastías costales, cualquier número"]
[2104119,"Reemplazo cuerpo vertebral con artrodesis c/s osteosíntesis c/s instrumentación"]
[2104121,"Resección del coxis"]
[2104234,"Resección parcial de sacro distal y coxis"]
[2104235,"Resección parcial de sacro proximal"]
[2104236,"Teratoma sacrococcígeo"]
[2104237,"Teratoma sacrococcígeo intra y extrapelviano"]
[2104122,"Osteosíntesis en fractura de arco anterior de pelvis y disyunciones pubianas"]
[2104123,"Fractura de pelvis, osteosíntesis quir."]
[2104124,"Osteotomía pelviana (Salter, Chiari o similares)"]
[2104125,"Triple osteotomía de pelvis"]
[2104126,"Amputación inter-ilio abdominal"]
[2104127,"Desarticulación cadera"]
[2104128,"Endoprótesis parcial de cadera c/s cementación (cualquier técnica) (no incluye prótesis)"]
[2104228,"Endoprótesis parcial de cadera c/s cementación (cualquier técnica) (incluye prótesis)"]
[2104129,"Endoprótesis total de cadera (no incluye prótesis)"]
[2104229,"Endoprótesis total de cadera (incluye prótesis)"]
[2104130,"Epifisiolisis lenta o aguda, trat. quir."]
[2104131,"Fractura de cuello de fémur, osteosíntesis, cualquier técnica "]
[2104231,"Fractura de cuello de fémur, osteosíntesis, cualquier técnica (incluye elementos de osteosíntesis)"]
[2104132,"Fractura de cuello de fémur, resección epífisis femoral"]
[2104133,"Luxación traumática de cadera, reducción cruenta"]
[2104134,"Luxofractura acetabular, trat. quir."]
[2104135,"Operación de salvataje cadera, columna o similares"]
[2104136,"Osteotomías femorales"]
[2104137,"Reducción cruenta en luxación congénita o traumática de cadera"]
[2104138,"Reducción cruenta y acetabuloplastía femoral c/s osteotomía femoral"]
[2104139,"Reducción cruenta y osteotomía femoral"]
[2104140,"Tenotomía aductores c/s botas, con yugo (proc. aut.)"]
[2104141,"Trocanteroplastías"]
[2104142,"Amputación muslo"]
[2104143,"Epifisiodesis (fémur y/o tibia)"]
[2104144,"Osteosíntesis diafisiaria o metafisiaria muslo (cualquier técnica)"]
[2104145,"Osteotomía correctora muslo"]
[2104146,"Osteotomía de alargamiento o acortamiento con osteosíntesis inmediata o distracción instrumental progresiva muslo"]
[2104147,"Osteotomía en rosario con enclavijamiento clavo telescópico"]
[2104148,"Pseudoartrosis, trat. quir. (cualquier técnica) muslo"]
[2104149,"Ruptura y/o hernia muscular, trat. quir. muslo"]
[2104150,"Artrotomía por cuerpos libres, osteocondritis rodilla (proc. aut)"]
[2104151,"Desarticulación rodilla"]
[2104152,"Disfunción patelo-femoral, realineamiento (cualquier técnica)"]
[2104153,"Endoprótesis total de rodilla, (cualquier técnica)"]
[2104154,"Fractura rótula: osteosíntesis o patelectomía parc. o total"]
[2104155,"Fracturas condíleas o de platillos tibiales, reducción, osteosíntesis (cualquier técnica)"]
[2104156,"Inestabilidad crónica de rodilla, reconstrucción cápsuloligamentosa (cualquier técnica)"]
[2104157,"Luxación o rotura ligamentos, trat. quir. cápsulo-ligamentoso"]
[2104158,"Meniscectomía quirúrgica, interna y/o externa"]
[2104159,"Meniscectomía u otras intervenciones por vía artroscópica (incluye artroscopía diagnóstica)"]
[2104160,"Quiste poplíteo, trat. quir."]
[2104161,"Reconstrucción aparato extensor de rodilla"]
[2104162,"Reparación quirúrgica ligamentos colaterales y/o cruzados de rodilla"]
[2104163,"Traslocaciones músculo-tendinosas en rodilla paralítica o espástica"]
[2104164,"Amputación pierna"]
[2104165,"Colgajo cruzado de pierna, trat. quir. completo"]
[2104166,"Fasciotomía por síndrome compartamental"]
[2104167,"Osteosíntesis tibio-peroné (cualquier técnica)"]
[2104168,"Osteotomía correctora de ejes (cualquier técnica) pierna"]
[2104169,"Osteotomía de alargamiento o acortamiento con osteosíntesis inmediata o distracción instrumental progresiva pierna"]
[2104170,"Osteotomía del peroné"]
[2104171,"Peroné protibia"]
[2104172,"Pseudoartrosis, c/s osteosíntesis (cualquier técnica) pierna"]
[2104173,"Desarticulación tobillo"]
[2104174,"Endoprótesis total tobillo (cualquier técnica)"]
[2104175,"Esguince grave de tobillo, trat. quir. cápsulo-ligamentoso "]
[2104176,"Fractura astrágalo y/o calcáneo, osteosíntesis (cualq. técn.)"]
[2104177,"Huesos supernumerarios, extirpación, uno o más, unilateral"]
[2104178,"Luxación tibio-astrág.- calcán. reducc. cruenta y osteosínt."]
[2104179,"Luxofractura tobillo, cualquier tipo, osteosíntesis y reparación cápsulo-ligamentosa"]
[2104180,"Osteoplastía tibio-calcánea"]
[2104181,"Ruptura tendón de Aquiles o tibial posterior, tenorrafia primaria y/o transposiciones tendinosas"]
[2104182,"Ruptura tibial anterior u otros, tenorrafia"]
[2104183,"Tenorrafia extensores o tenotomía de alargamiento de tendón de Aquiles"]
[2104184,"Traslocación tendinosa tobillo"]
[2104185,"Amputación transmetatarsiana"]
[2104186,"Astrágalo vertical, trat. quir."]
[2104187,"Espolón calcáneo, trat. quir."]
[2104188,"Exostosis 5° metatarsiano, (\"juanetillo\") trat. quir."]
[2104189,"Fasciotomía plantar (proc. aut.)"]
[2104190,"Hallux valgus o rígidus, trat. quir.  completo (cualquier téc.)"]
[2104191,"Luxaciones, luxofracturas, fracturas, reducción cruenta pie"]
[2104192,"Mal perforante plantar, trat. quir."]
[2104193,"Neuroma de Morton, trat. quir."]
[2104194,"Ortejos en garra, trat. quir., cualq. número (cualq. técnica)"]
[2104195,"Ortejos, amputación, uno o más, unilateral"]
[2104196,"Pie Bot u otras malformaciones congénitas, trat. quir. (cualquier técnica)"]
[2104197,"Pie cavo, trat. quir.  (cualquier técnica)"]
[2104198,"Pie plano, trat. quir. (cualquier técnica)"]
[2104199,"Pie reumatoideo, trat. quir. completo (cualquier técnica)"]
[2104200,"Sesamoídeos, extirpación de uno o más del mismo pie"]
[2104201,"Tenorrafia extensores pie"]
[2104202,"Trasplantes tendinosos pie (cualquier técnica)"]
[null,"Amputaciones pie diabético"]
[null,"Amputación de ortejo (s) por pie diabético "]
[null,"Amputación de pie completo por pie diabético "]
[null,"Sinoviortesis en paciente hemofílico "]
[null,"Otras cirugías periarticulares hemofílicos "]
["RETIRO DE ELEMENTOS DE OSTEOSINTESIS",null,{"$f":"SUM(C2608:C2610)","v":0}]
[2106001,"Retiro de endoprótesis u osteosíntesis internas articulares o de columna vertebral"]
[2106002,"Retiro de placas rectas o anguladas"]
[2106003,"Retiro de tornillos, clavos, agujas de osteosíntesis o similares"]
["PROCEDIMIENTOS ORTOPÉDICOS",null,{"$f":"SUM(C2612:C2621)","v":0}]
[2107001,"Luxaciones de articulaciones medianas (hombro, codo, rodilla, tobillo, muñeca, tarso y esternoclavicular)"]
[2107002,"Luxaciones de articulaciones  mayores (columna, cadera, pelvis)"]
[2107003,"Luxaciones de articulaciones menores (el resto)"]
[2107004,"Fracturas mayores (columna, pelvis, supracondílea, codo, epífisis femorales)"]
[2107005,"Fracturas medianas (diáfisis humeral, radial, cubital, diáfisis femoral, tibial, peroneal, clavicular, platillos tibiales)"]
[2107006,"Fracturas menores (el resto)"]
[2107007,"Tratamiento funcional con técnica de Sarmiento y similares de extremidad inferior"]
[2107008,"Tratamiento funcional con técnica de Sarmiento y similares de extremidad superior"]
[2107009,"Luxación congénita de cadera, trat. ortopédico completo (uni o bilateral)"]
[2107010,"Pie bot, unilateral, hasta 10 cambios de yeso"]
["PROTESIS Y ORTESIS",null,{"$f":"SUM(C2623:C2674)","v":0}]
[2301002,"Ortesis cervicales (collares blandos y duros)"]
[2301008,"Braguero (Hernia Umbilical o Inguinal)"]
[2301011,"Faja Ortopédica (Contención de Abdomen o Columna Dorsolumbar)"]
[2301020,"Ortesis Muslo-Pie o Isquiopédio"]
[2301021,"Arnés de Prótesis (Extremidad Superior)"]
[2301022,"Bastón canadiense o trípode, c/u"]
[2301024,"Rodillera"]
[2301029,"Cojín de abducción o Paulik"]
[2301030,"Correa de ortesis"]
[2301031,"Correa de Muley (Prótesis bajo rodilla)"]
[2301032,"Ortesis de columna (Milwaukee, Taylor o similares)"]
[2301033,"Ortesis lumbosacra (Corset de Knight)"]
[2301034,"Ortesis palmar activa (UCLA)"]
[2301035,"Ortesis radial de posición"]
[2301036,"Ortesis corta de posición (digitales) c/u"]
[2301037,"Ortesis de uso nocturno de miembro inferior"]
[2301038,"Ortesis Larga de Posición (Extremidad Superior)"]
[2301040,"Muletas (par)"]
[2301041,"Ortesis Larga bilateral con cinturón pélvico (Extremidades Inferiores)"]
[2301042,"Ortesis Larga unilateral (Extremidad Inferior)"]
[2301043,"Ortesis mano-muñeca pasiva"]
[2301044,"Ortesis para rodilla"]
[2301045,"Ortesis tobillo-pie"]
[2301067,"Talonera goma (par)"]
[5099074,"Ortesis parálisis cubital"]
[5099075,"Ortesis tendones flexores"]
[5099076,"Ortesis digital dinámica"]
[5099065,"Canaletas bipedestación"]
[5099066,"Correas desrotadoras "]
[5099067,"Correa dorsiflexión pie"]
[5099068,"Férula abducción hombro"]
[5099069,"Férula extensión codo"]
[5099070,"Férula extensión muñeca"]
[5099071,"Férula flexión muñeca"]
[5099072,"Palmeta extensión muñeca y dedos"]
[5099077,"Camiseta manga larga "]
[5099078,"Camiseta manga corta"]
[5099079,"Manga larga "]
[5099080,"Manga corta"]
[5099081,"Pantalón largo "]
[5099082,"Pantalón corto "]
[5099083,"Media larga"]
[5099084,"Media corta"]
[5099085,"Media tipo calcetín"]
[5099086,"Guante tipo mitón"]
[5099087,"Guante con dedos"]
[5099089,"Mentonera"]
[5099090,"Cintillo"]
[5099061,"Collar cervical semirígido"]
[5099062,"Collar cervical blando"]
[5099073,"Correas desrotadoras parálisis braquial obstétrica"]
[5099088,"Máscara"]
["PROCEDIMIENTOS ANESTÉSICOS",null,{"$f":"SUM(C2676:C2683)","v":0}]
[2201001,"Anestesia general o regional otorgada por médico diferente al primer cirujano (en intervenciones o procedimientos diagnósticos o terapéuticos)"]
[2201002,"Anestesia peridural continua, proc. aut."]
[2201102,"Anestesia peridural o epidural  continua para partos"]
[null,"Intubación nasotraqueal/orotraqueal"]
[null,"Anestesia general como apoyo a resonancia magnética"]
[null,"Anestesia general como apoyo a tomografía computada"]
[null,"Sedación como apoyo a examen y/o procedimiento"]
[null,"Anestesia regional o local infiltrativa administrada por cirujano"]
[]
[]
[]
[]
[]
[]
[]
[]
[]
[]
[]
[]
[]
[]
[]
[]
[]
[]
[]
[]
[]
[]
[]
[]
[]
[]
[]
[]
[]
[]
[]
[]
[]
[]
[]
[]
[]
[]
[]
[]
[{"$f":"C12+C88+C168+C213+C227+C307+C365+C384+C431+C440+C450+C499+C542+C599+C621+C650+C674+C715+C759+C817+C858+C928+C972+C987+C998+C1020+C1158+C1291+C1470+C1472+C1533+C1606+C1622+C1648+C1719+C1801+C1900+C1940+C2009++C2125+C2165+C2192+C2204+C2285+C2394+C2607+C2611+C2622+C2314+C2320+C2360+C2376+C2675+C823","v":0}]

{"sheet":"REMASEP_OD","index":5,"n_rows":130,"n_cols":91,"rows_kept":130,"cut":false,"hidden":false,"merged":[[106,0,108,0],[106,1,107,3],[106,4,106,37],[106,38,108,38],[106,39,108,39],[107,4,107,5],[107,6,107,7],[107,8,107,9],[107,10,107,11],[107,12,107,13],[107,14,107,15],[107,16,107,17],[107,18,107,19],[107,20,107,21],[107,32,107,33],[107,34,107,35],[49,38,51,38],[49,39,51,39],[50,34,50,35],[50,36,50,37],[50,4,50,5],[50,6,50,7],[50,8,50,9],[50,10,50,11],[50,12,50,13],[50,14,50,15],[50,16,50,17],[50,18,50,19],[50,20,50,21],[50,22,50,23],[50,24,50,25],[50,26,50,27],[13,30,13,31],[13,32,13,33],[49,0,51,0],[49,1,50,3],[49,4,49,37],[50,28,50,29],[50,30,50,31],[50,32,50,33],[13,20,13,21],[13,22,13,23],[13,24,13,25],[13,26,13,27],[13,28,13,29],[12,39,14,39],[13,34,13,35],[13,36,13,37],[6,0,9,12],[12,0,14,0],[12,1,13,3],[12,4,12,37],[12,38,14,38],[13,4,13,5],[13,6,13,7],[13,8,13,9],[13,10,13,11],[13,12,13,13],[13,14,13,15],[13,16,13,17],[13,18,13,19],[107,36,107,37],[107,22,107,23],[107,24,107,25],[107,26,107,27],[107,28,107,29],[107,30,107,31]]}
[{"$f":"CONCATENATE(\"SEREMI: \",NOMBRE!B2,\" \",NOMBRE!C2,,NOMBRE!D2,NOMBRE!E2,NOMBRE!F2,NOMBRE!G2,NOMBRE!H2,\"\")","v":"SEREMI:  "}]
[{"$f":"CONCATENATE(\"Establecimiento: \", NOMBRE!B3,\" \", NOMBRE!C3, NOMBRE!D3,NOMBRE!E3,NOMBRE!F3,NOMBRE!G3,NOMBRE!H3,\"\")","v":"Establecimiento:  "}]
[{"$f":"CONCATENATE(\"Comuna: \",NOMBRE!B4,\" \",NOMBRE!C4,NOMBRE!D4,NOMBRE!E4,NOMBRE!F4,NOMBRE!G4)","v":"Comuna:  "}]
[{"$f":"CONCATENATE(\"Mes: \",NOMBRE!B5, \" \",  \"(\",NOMBRE!C5,NOMBRE!D5,\")\")","v":"Mes:  ()"}]
[{"$f":"CONCATENATE(\"Año: \",NOMBRE!B6)","v":"Año: 2024"}]
[]
["REMASEP ODONTOLÓGICO\nRESUMEN ESTADÍSTICO MENSUAL  DE ALGUNAS ACTIVIDADES REALIZADAS EN \nESTABLECIMIENTOS NO PERTENECIENTES AL SISTEMA NACIONAL DE SERVICIOS DE SALUD"]
[]
[]
[]
[]
["SECCIÓN A: CONSULTAS Y CONTROLES ODONTOLÓGICOS REALIZADOS"]
["ACTIVIDADES","TOTAL",null,null,"SEGÚN GRUPOS DE EDAD O DE RIESGO",null,null,null,null,null,null,null,null,null,null,null,null,null,null,null,null,null,null,null,null,null,null,null,null,null,null,null,null,null,null,null,null,null,"EMBARAZADAS","MIGRANTES"]
[null,null,null,null,"Menos de 1 año - 1 año",null,"2 años",null,"3 años",null,"4 años",null,"5 años",null,"6 años",null,"7 años",null,"8-9 años",null,"10-14 años",null,"15-19 años",null,"20-24 años ",null,"25-34 años",null,"35-44 años",null,"45-59 años",null,"60-64 años",null,"65-74 años",null,"75 y más años"]
[null,"Ambos sexo","Hombres","Mujeres","Hombres","Mujeres","Hombres","Mujeres","Hombres","Mujeres","Hombres","Mujeres","Hombres","Mujeres","Hombres","Mujeres","Hombres","Mujeres","Hombres","Mujeres","Hombres","Mujeres","Hombres","Mujeres","Hombres","Mujeres","Hombres","Mujeres","Hombres","Mujeres","Hombres","Mujeres","Hombres","Mujeres","Hombres","Mujeres","Hombres","Mujeres"]
["   A.1. CONSULTAS Y ALTAS",{"$f":"SUM(C16:D16)","v":0},{"$f":"SUM(E16+G16+I16+K16+M16+O16+Q16+S16+U16+W16+Y16+AA16+AC16+AE16+AG16+AI16+AK16)","v":0},{"$f":"SUM(F16+H16+J16+L16+N16+P16+R16+T16+V16+X16+Z16+AB16+AD16+AF16+AH16+AJ16+AL16)","v":0},{"$f":"SUM(E17:E18)","v":0},{"$f":"SUM(F17:F18)","v":0},0,0,0,0,0,0,0,0,0,0,0,0,0,0,0,0,0,0,0,0,0,0,0,0,0,0,0,0,0,0,0,0,{"$f":"SUM(AM17:AM18)","v":0},0]
["   Primeras Consultas (Año) de Odontología Especialidades",{"$f":"SUM(C17:D17)","v":0},{"$f":"SUM(E17+G17+I17+K17+M17+O17+Q17+S17+U17+W17+Y17+AA17+AC17+AE17+AG17+AI17+AK17)","v":0},0,null,null,null,null,null,null,null,null,null,null,null,null,null,null,null,null,null,null,null,null,null,null,null,null,null,null,null,null,null,null,null,null,null,null,null,null,{"$f":" $CA17 & CB17 & CC17&CD17","v":""},null,null,null,null,null,null,null,null,null,null,null,null,null,null,null,null,null,null,null,null,null,null,null,null,null,null,null,null,null,null,null,null,null,null,null,null,null,{"$f":"IF(B17<>0, IF(AM17=\"\",\"* No olvide digitar el campo EMBARAZADAS (Digite CERO si no tiene). \",\"\"),\"\")","v":""},{"$f":"IF(B17<AM17,\"* El campo EMBARAZADAS no debe ser mayor al total. \",\"\")","v":""},{"$f":"IF(B17<>0, IF(AN17=\"\",\"* No olvide digitar el campo Migrantes (Digite CERO si no tiene). \",\"\"),\"\")","v":""},{"$f":"IF(B17<AN17,\"* El campo Migrantes no debe ser mayor al total. \",\"\")","v":""},null,null,null,null,null,{"$f":"IF(B17<>0, IF(AM17=\"\",1,0),0)","v":0},{"$f":"IF(B17<AM17,1,0)","v":0},{"$f":"IF(B17<>0, IF(AN17=\"\",1,0),0)","v":0},{"$f":"IF(B17<AN17,1,0)","v":0}]
["   Altas Odontológicas de Especialidades",{"$f":"SUM(C18:D18)","v":0},0,0,null,null,null,null,null,null,null,null,null,null,null,null,null,null,null,null,null,null,null,null,null,null,null,null,null,null,null,null,null,null,null,null,null,null,null,null,{"$f":" $CA18 & CB18 & CC18&CD18","v":""},null,null,null,null,null,null,null,null,null,null,null,null,null,null,null,null,null,null,null,null,null,null,null,null,null,null,null,null,null,null,null,null,null,null,null,null,null,{"$f":"IF(B18<>0, IF(AM18=\"\",\"* No olvide digitar el campo EMBARAZADAS (Digite CERO si no tiene). \",\"\"),\"\")","v":""},{"$f":"IF(B18<AM18,\"* El campo EMBARAZADAS no debe ser mayor al total. \",\"\")","v":""},{"$f":"IF(B18<>0, IF(AN18=\"\",\"* No olvide digitar el campo Migrantes (Digite CERO si no tiene). \",\"\"),\"\")","v":""},{"$f":"IF(B18<AN18,\"* El campo Migrantes no debe ser mayor al total. \",\"\")","v":""},null,null,null,null,null,{"$f":"IF(B18<>0, IF(AM18=\"\",1,0),0)","v":0},{"$f":"IF(B18<AM18,1,0)","v":0},{"$f":"IF(B18<>0, IF(AN18=\"\",1,0),0)","v":0},{"$f":"IF(B18<AN18,1,0)","v":0}]
["   A.2. URGENCIAS",0,0,0,{"$f":"SUM(E20:E27)","v":0},0,0,0,0,0,0,0,0,0,0,0,0,0,0,0,0,0,0,0,0,0,0,0,0,0,0,0,0,0,0,0,0,0,0,0]
["Consulta Urgencia adulto",0,0,0,null,null,null,null,null,null,null,null,null,null,null,null,null,null,null,null,null,null,null,null,null,null,null,null,null,null,null,null,null,null,null,null,null,null,null,null,{"$f":" $CA20 & CB20 & CC20&CD20","v":""},null,null,null,null,null,null,null,null,null,null,null,null,null,null,null,null,null,null,null,null,null,null,null,null,null,null,null,null,null,null,null,null,null,null,null,null,null,{"$f":"IF(B20<>0, IF(AM20=\"\",\"* No olvide digitar el campo EMBARAZADAS (Digite CERO si no tiene). \",\"\"),\"\")","v":""},{"$f":"IF(B20<AM20,\"* El campo EMBARAZADAS no debe ser mayor al total. \",\"\")","v":""},{"$f":"IF(B20<>0, IF(AN20=\"\",\"* No olvide digitar el campo Migrantes (Digite CERO si no tiene). \",\"\"),\"\")","v":""},{"$f":"IF(B20<AN20,\"* El campo Migrantes no debe ser mayor al total. \",\"\")","v":""},null,null,null,null,null,{"$f":"IF(B20<>0, IF(AM20=\"\",1,0),0)","v":0},{"$f":"IF(B20<AM20,1,0)","v":0},{"$f":"IF(B20<>0, IF(AN20=\"\",1,0),0)","v":0},{"$f":"IF(B20<AN20,1,0)","v":0}]
["Consulta de urgencia infantil",0,0,0,null,null,null,null,null,null,null,null,null,null,null,null,null,null,null,null,null,null,null,null,null,null,null,null,null,null,null,null,null,null,null,null,null,null,null,null,"",null,null,null,null,null,null,null,null,null,null,null,null,null,null,null,null,null,null,null,null,null,null,null,null,null,null,null,null,null,null,null,null,null,null,null,null,null,"","","","",null,null,null,null,null,0,0,0,0]
["Urgencia por absceso submucoso, subperióstico u otro/ o flegmón orocervical de origen odontogénico",0,0,0,null,null,null,null,null,null,null,null,null,null,null,null,null,null,null,null,null,null,null,null,null,null,null,null,null,null,null,null,null,null,null,null,null,null,null,null,"",null,null,null,null,null,null,null,null,null,null,null,null,null,null,null,null,null,null,null,null,null,null,null,null,null,null,null,null,null,null,null,null,null,null,null,null,null,"","","","",null,null,null,null,null,0,0,0,0]
["Urgencia con Obturación definitiva",0,0,0,null,null,null,null,null,null,null,null,null,null,null,null,null,null,null,null,null,null,null,null,null,null,null,null,null,null,null,null,null,null,null,null,null,null,null,null,"",null,null,null,null,null,null,null,null,null,null,null,null,null,null,null,null,null,null,null,null,null,null,null,null,null,null,null,null,null,null,null,null,null,null,null,null,null,"","","","",null,null,null,null,null,0,0,0,0]
["Tratamiento de fractura dentaria, manejo de urgencia",0,0,0,null,null,null,null,null,null,null,null,null,null,null,null,null,null,null,null,null,null,null,null,null,null,null,null,null,null,null,null,null,null,null,null,null,null,null,null,"",null,null,null,null,null,null,null,null,null,null,null,null,null,null,null,null,null,null,null,null,null,null,null,null,null,null,null,null,null,null,null,null,null,null,null,null,null,"","","","",null,null,null,null,null,0,0,0,0]
["Trepanación por urgencia",0,0,0,null,null,null,null,null,null,null,null,null,null,null,null,null,null,null,null,null,null,null,null,null,null,null,null,null,null,null,null,null,null,null,null,null,null,null,null,"",null,null,null,null,null,null,null,null,null,null,null,null,null,null,null,null,null,null,null,null,null,null,null,null,null,null,null,null,null,null,null,null,null,null,null,null,null,"","","","",null,null,null,null,null,0,0,0,0]
["Retiro de pieza dentaria de urgencia y posterior reposición",0,0,0,null,null,null,null,null,null,null,null,null,null,null,null,null,null,null,null,null,null,null,null,null,null,null,null,null,null,null,null,null,null,null,null,null,null,null,null,"",null,null,null,null,null,null,null,null,null,null,null,null,null,null,null,null,null,null,null,null,null,null,null,null,null,null,null,null,null,null,null,null,null,null,null,null,null,"","","","",null,null,null,null,null,0,0,0,0]
["Tratamiento de urgencia GUNA, por sesión",0,0,0,null,null,null,null,null,null,null,null,null,null,null,null,null,null,null,null,null,null,null,null,null,null,null,null,null,null,null,null,null,null,null,null,null,null,null,null,"",null,null,null,null,null,null,null,null,null,null,null,null,null,null,null,null,null,null,null,null,null,null,null,null,null,null,null,null,null,null,null,null,null,null,null,null,null,"","","","",null,null,null,null,null,0,0,0,0]
["   A.3. ACCIONES GENERALES DE PREVENCIÓN E HIGIENE",0,0,0,{"$f":"SUM(E29:E36)","v":0},{"$f":"SUM(F29:F36)","v":0},0,0,0,0,0,0,0,0,0,0,0,0,0,0,0,0,0,0,0,0,0,0,0,0,0,0,0,0,0,0,0,0,0,0]
["Aplicación de sellante en pieza permanente, Fotocurado",0,0,0,null,null,null,null,null,null,null,null,null,null,null,null,null,null,null,null,null,null,null,null,null,null,null,null,null,null,null,null,null,null,null,null,null,null,null,null,{"$f":" $CA29 & CB29 & CC29&CD29","v":""},null,null,null,null,null,null,null,null,null,null,null,null,null,null,null,null,null,null,null,null,null,null,null,null,null,null,null,null,null,null,null,null,null,null,null,null,null,{"$f":"IF(B29<>0, IF(AM29=\"\",\"* No olvide digitar el campo EMBARAZADAS (Digite CERO si no tiene). \",\"\"),\"\")","v":""},{"$f":"IF(B29<AM29,\"* El campo EMBARAZADAS no debe ser mayor al total. \",\"\")","v":""},{"$f":"IF(B29<>0, IF(AN29=\"\",\"* No olvide digitar el campo Migrantes (Digite CERO si no tiene). \",\"\"),\"\")","v":""},{"$f":"IF(B29<AN29,\"* El campo Migrantes no debe ser mayor al total. \",\"\")","v":""},null,null,null,null,null,{"$f":"IF(B29<>0, IF(AM29=\"\",1,0),0)","v":0},{"$f":"IF(B29<AM29,1,0)","v":0},{"$f":"IF(B29<>0, IF(AN29=\"\",1,0),0)","v":0},{"$f":"IF(B29<AN29,1,0)","v":0}]
["Instrucción y control de higiene oral en Niños y Adultos",0,0,0,null,null,null,null,null,null,null,null,null,null,null,null,null,null,null,null,null,null,null,null,null,null,null,null,null,null,null,null,null,null,null,null,null,null,null,null,{"$f":" $CA30 & CB30 & CC30&CD30","v":""},null,null,null,null,null,null,null,null,null,null,null,null,null,null,null,null,null,null,null,null,null,null,null,null,null,null,null,null,null,null,null,null,null,null,null,null,null,"","","","",null,null,null,null,null,0,0,0,0]
["Aplicación Flúor Gel niño y adulto",0,0,0,null,null,null,null,null,null,null,null,null,null,null,null,null,null,null,null,null,null,null,null,null,null,null,null,null,null,null,null,null,null,null,null,null,null,null,null,"",null,null,null,null,null,null,null,null,null,null,null,null,null,null,null,null,null,null,null,null,null,null,null,null,null,null,null,null,null,null,null,null,null,null,null,null,null,"","","","",null,null,null,null,null,0,0,0,0]
["Higiene y Profilaxis en Niños y Adultos",0,0,0,null,null,null,null,null,null,null,null,null,null,null,null,null,null,null,null,null,null,null,null,null,null,null,null,null,null,null,null,null,null,null,null,null,null,null,null,"",null,null,null,null,null,null,null,null,null,null,null,null,null,null,null,null,null,null,null,null,null,null,null,null,null,null,null,null,null,null,null,null,null,null,null,null,null,"","","","",null,null,null,null,null,0,0,0,0]
["Fluoración Tópica de Barníz",0,0,0,null,null,null,null,null,null,null,null,null,null,null,null,null,null,null,null,null,null,null,null,null,null,null,null,null,null,null,null,null,null,null,null,null,null,null,null,"",null,null,null,null,null,null,null,null,null,null,null,null,null,null,null,null,null,null,null,null,null,null,null,null,null,null,null,null,null,null,null,null,null,null,null,null,null,"","","","",null,null,null,null,null,0,0,0,0]
["Aplicación Flúor Barniz SILANO",0,0,0,null,null,null,null,null,null,null,null,null,null,null,null,null,null,null,null,null,null,null,null,null,null,null,null,null,null,null,null,null,null,null,null,null,null,null,null,"",null,null,null,null,null,null,null,null,null,null,null,null,null,null,null,null,null,null,null,null,null,null,null,null,null,null,null,null,null,null,null,null,null,null,null,null,null,"","","","",null,null,null,null,null,0,0,0,0]
["Educación individual con instrucción de técnica de cepillado",0,0,0,null,null,null,null,null,null,null,null,null,null,null,null,null,null,null,null,null,null,null,null,null,null,null,null,null,null,null,null,null,null,null,null,null,null,null,null,"",null,null,null,null,null,null,null,null,null,null,null,null,null,null,null,null,null,null,null,null,null,null,null,null,null,null,null,null,null,null,null,null,null,null,null,null,null,"","","","",null,null,null,null,null,0,0,0,0]
["Consejería breve en tabaco",0,0,0,null,null,null,null,null,null,null,null,null,null,null,null,null,null,null,null,null,null,null,null,null,null,null,null,null,null,null,null,null,null,null,null,null,null,null,null,"",null,null,null,null,null,null,null,null,null,null,null,null,null,null,null,null,null,null,null,null,null,null,null,null,null,null,null,null,null,null,null,null,null,null,null,null,null,"","","","",null,null,null,null,null,0,0,0,0]
["   A.4. ACTIVIDADES DE ODONTOLOGÍA GENERAL.",0,0,0,{"$f":"SUM(E38:E47)","v":0},0,0,0,0,0,0,0,0,0,0,0,0,0,0,0,0,0,0,0,0,0,0,0,0,0,0,0,0,0,0,0,0,0,0,0]
["Actividad interceptiva de anomalías dento maxilares (OPI)",0,0,0,null,null,null,null,null,null,null,null,null,null,null,null,null,null,null,null,null,null,null,null,null,null,null,null,null,null,null,null,null,null,null,null,null,null,null,null,{"$f":" $CA38 & CB38 & CC38&CD38","v":""},null,null,null,null,null,null,null,null,null,null,null,null,null,null,null,null,null,null,null,null,null,null,null,null,null,null,null,null,null,null,null,null,null,null,null,null,null,{"$f":"IF(B38<>0, IF(AM38=\"\",\"* No olvide digitar el campo EMBARAZADAS (Digite CERO si no tiene). \",\"\"),\"\")","v":""},{"$f":"IF(B38<AM38,\"* El campo EMBARAZADAS no debe ser mayor al total. \",\"\")","v":""},{"$f":"IF(B38<>0, IF(AN38=\"\",\"* No olvide digitar el campo Migrantes (Digite CERO si no tiene). \",\"\"),\"\")","v":""},{"$f":"IF(B38<AN38,\"* El campo Migrantes no debe ser mayor al total. \",\"\")","v":""},null,null,null,null,null,{"$f":"IF(B38<>0, IF(AM38=\"\",1,0),0)","v":0},{"$f":"IF(B38<AM38,1,0)","v":0},{"$f":"IF(B38<>0, IF(AN38=\"\",1,0),0)","v":0},{"$f":"IF(B38<AN38,1,0)","v":0}]
["Destartraje supragingival y pulido coronario",0,0,0,null,null,null,null,null,null,null,null,null,null,null,null,null,null,null,null,null,null,null,null,null,null,null,null,null,null,null,null,null,null,null,null,null,null,null,null,"",null,null,null,null,null,null,null,null,null,null,null,null,null,null,null,null,null,null,null,null,null,null,null,null,null,null,null,null,null,null,null,null,null,null,null,null,null,"","","","",null,null,null,null,null,0,0,0,0]
["Exodoncia (todos los tipos)",0,0,0,null,null,null,null,null,null,null,null,null,null,null,null,null,null,null,null,null,null,null,null,null,null,null,null,null,null,null,null,null,null,null,null,null,null,null,null,"",null,null,null,null,null,null,null,null,null,null,null,null,null,null,null,null,null,null,null,null,null,null,null,null,null,null,null,null,null,null,null,null,null,null,null,null,null,"","","","",null,null,null,null,null,0,0,0,0]
["Procedimiento pulpar (Odontopediatría)",0,0,0,null,null,null,null,null,null,null,null,null,null,null,null,null,null,null,null,null,null,null,null,null,null,null,null,null,null,null,null,null,null,null,null,null,null,null,null,"",null,null,null,null,null,null,null,null,null,null,null,null,null,null,null,null,null,null,null,null,null,null,null,null,null,null,null,null,null,null,null,null,null,null,null,null,null,"","","","",null,null,null,null,null,0,0,0,0]
["Acceso cavitario",0,0,0,null,null,null,null,null,null,null,null,null,null,null,null,null,null,null,null,null,null,null,null,null,null,null,null,null,null,null,null,null,null,null,null,null,null,null,null,"",null,null,null,null,null,null,null,null,null,null,null,null,null,null,null,null,null,null,null,null,null,null,null,null,null,null,null,null,null,null,null,null,null,null,null,null,null,"","","","",null,null,null,null,null,0,0,0,0]
["Restauración estética (incluye todos los tipos III y IV)",0,0,0,null,null,null,null,null,null,null,null,null,null,null,null,null,null,null,null,null,null,null,null,null,null,null,null,null,null,null,null,null,null,null,null,null,null,null,null,"",null,null,null,null,null,null,null,null,null,null,null,null,null,null,null,null,null,null,null,null,null,null,null,null,null,null,null,null,null,null,null,null,null,null,null,null,null,"","","","",null,null,null,null,null,0,0,0,0]
["Restauración de amalgamas",0,0,0,null,null,null,null,null,null,null,null,null,null,null,null,null,null,null,null,null,null,null,null,null,null,null,null,null,null,null,null,null,null,null,null,null,null,null,null,"",null,null,null,null,null,null,null,null,null,null,null,null,null,null,null,null,null,null,null,null,null,null,null,null,null,null,null,null,null,null,null,null,null,null,null,null,null,"","","","",null,null,null,null,null,0,0,0,0]
["Obturación de vidrio ionómero ",0,0,0,null,null,null,null,null,null,null,null,null,null,null,null,null,null,null,null,null,null,null,null,null,null,null,null,null,null,null,null,null,null,null,null,null,null,null,null,"",null,null,null,null,null,null,null,null,null,null,null,null,null,null,null,null,null,null,null,null,null,null,null,null,null,null,null,null,null,null,null,null,null,null,null,null,null,"","","","",null,null,null,null,null,0,0,0,0]
["Tratamiento restaurador atraumático (art)",{"$f":"SUM(C46:D46)","v":0},{"$f":"SUM(E46+G46+I46+K46+M46+O46+Q46+S46+U46+W46+Y46+AA46+AC46+AE46+AG46+AI46+AK46)","v":0},{"$f":"SUM(F46+H46+J46+L46+N46+P46+R46+T46+V46+X46+Z46+AB46+AD46+AF46+AH46+AJ46+AL46)","v":0},null,null,null,null,null,null,null,null,null,null,null,null,null,null,null,null,null,null,null,null,null,null,null,null,null,null,null,null,null,null,null,null,null,null,null,null,"",null,null,null,null,null,null,null,null,null,null,null,null,null,null,null,null,null,null,null,null,null,null,null,null,null,null,null,null,null,null,null,null,null,null,null,null,null,"","","","",null,null,null,null,null,0,0,0,0]
["Procedimientos médico-quirúrgicos",0,0,0,null,null,null,null,null,null,null,null,null,null,null,null,null,null,null,null,null,null,null,null,null,null,null,null,null,null,null,null,null,null,null,null,null,null,null,null,"",null,null,null,null,null,null,null,null,null,null,null,null,null,null,null,null,null,null,null,null,null,null,null,null,null,null,null,null,null,null,null,null,null,null,null,null,null,"","","","",null,null,null,null,null,0,0,0,0]
[]
["SECCIÓN B: ACTIVIDADES DE ATENCIÓN EN ESPECIALIDADES ODONTOLÓGICAS. "]
["ACTIVIDAD","TOTAL",null,null,"SEGÚN GRUPOS DE EDAD O DE RIESGO",null,null,null,null,null,null,null,null,null,null,null,null,null,null,null,null,null,null,null,null,null,null,null,null,null,null,null,null,null,null,null,null,null,"EMBARAZADAS","MIGRANTES"]
[null,null,null,null,"Menos de 1 año - 1 año",null,"2 años",null,"3 años",null,"4 años",null,"5 años",null,"6 años",null,"7 años",null,"8-9 años",null,"10-14 años",null,"15-19 años",null,"20-24 años ",null,"25-34 años",null,"35-44 años",null,"45-59 años",null,"60-64 años",null,"65-74 años",null,"75 y más años"]
[null,"Ambos Sexos","Hombres","Mujeres","Hombres","Mujeres","Hombres","Mujeres","Hombres","Mujeres","Hombres","Mujeres","Hombres","Mujeres","Hombres","Mujeres","Hombres","Mujeres","Hombres","Mujeres","Hombres","Mujeres","Hombres","Mujeres","Hombres","Mujeres","Hombres","Mujeres","Hombres","Mujeres","Hombres","Mujeres","Hombres","Mujeres","Hombres","Mujeres","Hombres","Mujeres"]
["Examen y diagnóstico de especialidad (incluye a colgajo, semi incluido e incluido)",{"$f":"SUM(C53:D53)","v":0},{"$f":"SUM(E53+G53+I53+K53+M53+O53+Q53+S53+U53+W53+Y53+AA53+AC53+AE53+AG53+AI53+AK53)","v":0},{"$f":"SUM(F53+H53+J53+L53+N53+P53+R53+T53+V53+X53+Z53+AB53+AD53+AF53+AH53+AJ53+AL53)","v":0},null,null,null,null,null,null,null,null,null,null,null,null,null,null,null,null,null,null,null,null,null,null,null,null,null,null,null,null,null,null,null,null,null,null,null,null,{"$f":" $CA53 & CB53 & CC53&CD53","v":""},null,null,null,null,null,null,null,null,null,null,null,null,null,null,null,null,null,null,null,null,null,null,null,null,null,null,null,null,null,null,null,null,null,null,null,null,null,{"$f":"IF(B53<>0, IF(AM53=\"\",\"* No olvide digitar el campo EMBARAZADAS (Digite CERO si no tiene). \",\"\"),\"\")","v":""},{"$f":"IF(B53<AM53,\"* El campo EMBARAZADAS no debe ser mayor al total. \",\"\")","v":""},{"$f":"IF(B53<>0, IF(AN53=\"\",\"* No olvide digitar el campo Migrantes (Digite CERO si no tiene). \",\"\"),\"\")","v":""},{"$f":"IF(B53<AN53,\"* El campo Migrantes no debe ser mayor al total. \",\"\")","v":""},null,null,null,null,null,{"$f":"IF(B53<>0, IF(AM53=\"\",1,0),0)","v":0},{"$f":"IF(B53<AM53,1,0)","v":0},{"$f":"IF(B53<>0, IF(AN53=\"\",1,0),0)","v":0},{"$f":"IF(B53<AN53,1,0)","v":0}]
["Educación en salud bucal",{"$f":"SUM(C54:D54)","v":0},{"$f":"SUM(E54+G54+I54+K54+M54+O54+Q54+S54+U54+W54+Y54+AA54+AC54+AE54+AG54+AI54+AK54)","v":0},{"$f":"SUM(F54+H54+J54+L54+N54+P54+R54+T54+V54+X54+Z54+AB54+AD54+AF54+AH54+AJ54+AL54)","v":0},null,null,null,null,null,null,null,null,null,null,null,null,null,null,null,null,null,null,null,null,null,null,null,null,null,null,null,null,null,null,null,null,null,null,null,null,{"$f":" $CA54 & CB54 & CC54&CD54","v":""},null,null,null,null,null,null,null,null,null,null,null,null,null,null,null,null,null,null,null,null,null,null,null,null,null,null,null,null,null,null,null,null,null,null,null,null,null,"","","","",null,null,null,null,null,0,0,0,0]
["Cirugía tercer molar",0,0,0,null,null,null,null,null,null,null,null,null,null,null,null,null,null,null,null,null,null,null,null,null,null,null,null,null,null,null,null,null,null,null,null,null,null,null,null,"",null,null,null,null,null,null,null,null,null,null,null,null,null,null,null,null,null,null,null,null,null,null,null,null,null,null,null,null,null,null,null,null,null,null,null,null,null,"","","","",null,null,null,null,null,0,0,0,0]
["Cirugía menor ambulatoria",0,0,0,null,null,null,null,null,null,null,null,null,null,null,null,null,null,null,null,null,null,null,null,null,null,null,null,null,null,null,null,null,null,null,null,null,null,null,null,"",null,null,null,null,null,null,null,null,null,null,null,null,null,null,null,null,null,null,null,null,null,null,null,null,null,null,null,null,null,null,null,null,null,null,null,null,null,"","","","",null,null,null,null,null,0,0,0,0]
["Cirugía mayor ambulatoria",0,0,0,null,null,null,null,null,null,null,null,null,null,null,null,null,null,null,null,null,null,null,null,null,null,null,null,null,null,null,null,null,null,null,null,null,null,null,null,"",null,null,null,null,null,null,null,null,null,null,null,null,null,null,null,null,null,null,null,null,null,null,null,null,null,null,null,null,null,null,null,null,null,null,null,null,null,"","","","",null,null,null,null,null,0,0,0,0]
["Tratamiento traumatismo dentoalveolar",0,0,0,null,null,null,null,null,null,null,null,null,null,null,null,null,null,null,null,null,null,null,null,null,null,null,null,null,null,null,null,null,null,null,null,null,null,null,null,"",null,null,null,null,null,null,null,null,null,null,null,null,null,null,null,null,null,null,null,null,null,null,null,null,null,null,null,null,null,null,null,null,null,null,null,null,null,"","","","",null,null,null,null,null,0,0,0,0]
["Obturación directa",0,0,0,null,null,null,null,null,null,null,null,null,null,null,null,null,null,null,null,null,null,null,null,null,null,null,null,null,null,null,null,null,null,null,null,null,null,null,null,"",null,null,null,null,null,null,null,null,null,null,null,null,null,null,null,null,null,null,null,null,null,null,null,null,null,null,null,null,null,null,null,null,null,null,null,null,null,"","","","",null,null,null,null,null,0,0,0,0]
["Obturación indirecta (inlays u onlays)",0,0,0,null,null,null,null,null,null,null,null,null,null,null,null,null,null,null,null,null,null,null,null,null,null,null,null,null,null,null,null,null,null,null,null,null,null,null,null,"",null,null,null,null,null,null,null,null,null,null,null,null,null,null,null,null,null,null,null,null,null,null,null,null,null,null,null,null,null,null,null,null,null,null,null,null,null,"","","","",null,null,null,null,null,0,0,0,0]
["Instalación aparato removible ortodóncico",0,0,0,null,null,null,null,null,null,null,null,null,null,null,null,null,null,null,null,null,null,null,null,null,null,null,null,null,null,null,null,null,null,null,null,null,null,null,null,"",null,null,null,null,null,null,null,null,null,null,null,null,null,null,null,null,null,null,null,null,null,null,null,null,null,null,null,null,null,null,null,null,null,null,null,null,null,"","","","",null,null,null,null,null,0,0,0,0]
["Instalación aparato fijo ortodóncico",0,0,0,null,null,null,null,null,null,null,null,null,null,null,null,null,null,null,null,null,null,null,null,null,null,null,null,null,null,null,null,null,null,null,null,null,null,null,null,"",null,null,null,null,null,null,null,null,null,null,null,null,null,null,null,null,null,null,null,null,null,null,null,null,null,null,null,null,null,null,null,null,null,null,null,null,null,"","","","",null,null,null,null,null,0,0,0,0]
["Instalación aparato de contención ortodóncico",0,0,0,null,null,null,null,null,null,null,null,null,null,null,null,null,null,null,null,null,null,null,null,null,null,null,null,null,null,null,null,null,null,null,null,null,null,null,null,"",null,null,null,null,null,null,null,null,null,null,null,null,null,null,null,null,null,null,null,null,null,null,null,null,null,null,null,null,null,null,null,null,null,null,null,null,null,"","","","",null,null,null,null,null,0,0,0,0]
["Retiro aparatología de ortodoncia",0,0,0,null,null,null,null,null,null,null,null,null,null,null,null,null,null,null,null,null,null,null,null,null,null,null,null,null,null,null,null,null,null,null,null,null,null,null,null,"",null,null,null,null,null,null,null,null,null,null,null,null,null,null,null,null,null,null,null,null,null,null,null,null,null,null,null,null,null,null,null,null,null,null,null,null,null,"","","","",null,null,null,null,null,0,0,0,0]
["Ortopedia pre-quirúrgica",0,0,0,null,null,null,null,null,null,null,null,null,null,null,null,null,null,null,null,null,null,null,null,null,null,null,null,null,null,null,null,null,null,null,null,null,null,null,null,"",null,null,null,null,null,null,null,null,null,null,null,null,null,null,null,null,null,null,null,null,null,null,null,null,null,null,null,null,null,null,null,null,null,null,null,null,null,"","","","",null,null,null,null,null,0,0,0,0]
["Ortodoncia preventiva e interceptiva (opi) (incluye Vital y no vital)",0,0,0,null,null,null,null,null,null,null,null,null,null,null,null,null,null,null,null,null,null,null,null,null,null,null,null,null,null,null,null,null,null,null,null,null,null,null,null,"",null,null,null,null,null,null,null,null,null,null,null,null,null,null,null,null,null,null,null,null,null,null,null,null,null,null,null,null,null,null,null,null,null,null,null,null,null,"","","","",null,null,null,null,null,0,0,0,0]
["Tratamiento endodoncia unirradicular (incluye Vital y no vital)",0,0,0,null,null,null,null,null,null,null,null,null,null,null,null,null,null,null,null,null,null,null,null,null,null,null,null,null,null,null,null,null,null,null,null,null,null,null,null,"",null,null,null,null,null,null,null,null,null,null,null,null,null,null,null,null,null,null,null,null,null,null,null,null,null,null,null,null,null,null,null,null,null,null,null,null,null,"","","","",null,null,null,null,null,0,0,0,0]
["Tratamiento endodoncia birradicular (incluye Vital y no vital)",0,0,0,null,null,null,null,null,null,null,null,null,null,null,null,null,null,null,null,null,null,null,null,null,null,null,null,null,null,null,null,null,null,null,null,null,null,null,null,"",null,null,null,null,null,null,null,null,null,null,null,null,null,null,null,null,null,null,null,null,null,null,null,null,null,null,null,null,null,null,null,null,null,null,null,null,null,"","","","",null,null,null,null,null,0,0,0,0]
["Tratamiento endodoncia multirradicular (incluye Vital y no vital)",0,0,0,null,null,null,null,null,null,null,null,null,null,null,null,null,null,null,null,null,null,null,null,null,null,null,null,null,null,null,null,null,null,null,null,null,null,null,null,"",null,null,null,null,null,null,null,null,null,null,null,null,null,null,null,null,null,null,null,null,null,null,null,null,null,null,null,null,null,null,null,null,null,null,null,null,null,"","","","",null,null,null,null,null,0,0,0,0]
["Inducción al cierre apical",0,0,0,null,null,null,null,null,null,null,null,null,null,null,null,null,null,null,null,null,null,null,null,null,null,null,null,null,null,null,null,null,null,null,null,null,null,null,null,"",null,null,null,null,null,null,null,null,null,null,null,null,null,null,null,null,null,null,null,null,null,null,null,null,null,null,null,null,null,null,null,null,null,null,null,null,null,"","","","",null,null,null,null,null,0,0,0,0]
["Retratamiento de endodoncia",0,0,0,null,null,null,null,null,null,null,null,null,null,null,null,null,null,null,null,null,null,null,null,null,null,null,null,null,null,null,null,null,null,null,null,null,null,null,null,"",null,null,null,null,null,null,null,null,null,null,null,null,null,null,null,null,null,null,null,null,null,null,null,null,null,null,null,null,null,null,null,null,null,null,null,null,null,"","","","",null,null,null,null,null,0,0,0,0]
["Cirugía apical",0,0,0,null,null,null,null,null,null,null,null,null,null,null,null,null,null,null,null,null,null,null,null,null,null,null,null,null,null,null,null,null,null,null,null,null,null,null,null,"",null,null,null,null,null,null,null,null,null,null,null,null,null,null,null,null,null,null,null,null,null,null,null,null,null,null,null,null,null,null,null,null,null,null,null,null,null,"","","","",null,null,null,null,null,0,0,0,0]
["Adaptación a la atención odontológica ",0,0,0,null,null,null,null,null,null,null,null,null,null,null,null,null,null,null,null,null,null,null,null,null,null,null,null,null,null,null,null,null,null,null,null,null,null,null,null,"",null,null,null,null,null,null,null,null,null,null,null,null,null,null,null,null,null,null,null,null,null,null,null,null,null,null,null,null,null,null,null,null,null,null,null,null,null,"","","","",null,null,null,null,null,0,0,0,0]
["Procedimiento restaurador en odontopediatría (todos los tipos: Resina, Temporales y amalgamas)",0,0,0,null,null,null,null,null,null,null,null,null,null,null,null,null,null,null,null,null,null,null,null,null,null,null,null,null,null,null,null,null,null,null,null,null,null,null,null,"",null,null,null,null,null,null,null,null,null,null,null,null,null,null,null,null,null,null,null,null,null,null,null,null,null,null,null,null,null,null,null,null,null,null,null,null,null,"","","","",null,null,null,null,null,0,0,0,0]
["Procedimiento pulpar en odontopediatría (Pulpotomia y pulpectomia)",0,0,0,null,null,null,null,null,null,null,null,null,null,null,null,null,null,null,null,null,null,null,null,null,null,null,null,null,null,null,null,null,null,null,null,null,null,null,null,"",null,null,null,null,null,null,null,null,null,null,null,null,null,null,null,null,null,null,null,null,null,null,null,null,null,null,null,null,null,null,null,null,null,null,null,null,null,"","","","",null,null,null,null,null,0,0,0,0]
["Cirugía ambulatoria (odontopediatría)",0,0,0,null,null,null,null,null,null,null,null,null,null,null,null,null,null,null,null,null,null,null,null,null,null,null,null,null,null,null,null,null,null,null,null,null,null,null,null,"",null,null,null,null,null,null,null,null,null,null,null,null,null,null,null,null,null,null,null,null,null,null,null,null,null,null,null,null,null,null,null,null,null,null,null,null,null,"","","","",null,null,null,null,null,0,0,0,0]
["Destartraje Sub Gingival ",0,0,0,null,null,null,null,null,null,null,null,null,null,null,null,null,null,null,null,null,null,null,null,null,null,null,null,null,null,null,null,null,null,null,null,null,null,null,null,"",null,null,null,null,null,null,null,null,null,null,null,null,null,null,null,null,null,null,null,null,null,null,null,null,null,null,null,null,null,null,null,null,null,null,null,null,null,"","","","",null,null,null,null,null,0,0,0,0]
["Pulido Radicular",0,0,0,null,null,null,null,null,null,null,null,null,null,null,null,null,null,null,null,null,null,null,null,null,null,null,null,null,null,null,null,null,null,null,null,null,null,null,null,"",null,null,null,null,null,null,null,null,null,null,null,null,null,null,null,null,null,null,null,null,null,null,null,null,null,null,null,null,null,null,null,null,null,null,null,null,null,"","","","",null,null,null,null,null,0,0,0,0]
["Procedimiento quirúrgico (periodoncia)",0,0,0,null,null,null,null,null,null,null,null,null,null,null,null,null,null,null,null,null,null,null,null,null,null,null,null,null,null,null,null,null,null,null,null,null,null,null,null,"",null,null,null,null,null,null,null,null,null,null,null,null,null,null,null,null,null,null,null,null,null,null,null,null,null,null,null,null,null,null,null,null,null,null,null,null,null,"","","","",null,null,null,null,null,0,0,0,0]
["Procedimiento quirúrgico peri-implantar (periodoncia)",0,0,0,null,null,null,null,null,null,null,null,null,null,null,null,null,null,null,null,null,null,null,null,null,null,null,null,null,null,null,null,null,null,null,null,null,null,null,null,"",null,null,null,null,null,null,null,null,null,null,null,null,null,null,null,null,null,null,null,null,null,null,null,null,null,null,null,null,null,null,null,null,null,null,null,null,null,"","","","",null,null,null,null,null,0,0,0,0]
["Ferulización",0,0,0,null,null,null,null,null,null,null,null,null,null,null,null,null,null,null,null,null,null,null,null,null,null,null,null,null,null,null,null,null,null,null,null,null,null,null,null,"",null,null,null,null,null,null,null,null,null,null,null,null,null,null,null,null,null,null,null,null,null,null,null,null,null,null,null,null,null,null,null,null,null,null,null,null,null,"","","","",null,null,null,null,null,0,0,0,0]
["Rehabilitación mediante prótesis removible acrílica parcial o total",0,0,0,null,null,null,null,null,null,null,null,null,null,null,null,null,null,null,null,null,null,null,null,null,null,null,null,null,null,null,null,null,null,null,null,null,null,null,null,"",null,null,null,null,null,null,null,null,null,null,null,null,null,null,null,null,null,null,null,null,null,null,null,null,null,null,null,null,null,null,null,null,null,null,null,null,null,"","","","",null,null,null,null,null,0,0,0,0]
["Rehabilitación mediante prótesis removible metálica parcial",0,0,0,null,null,null,null,null,null,null,null,null,null,null,null,null,null,null,null,null,null,null,null,null,null,null,null,null,null,null,null,null,null,null,null,null,null,null,null,"",null,null,null,null,null,null,null,null,null,null,null,null,null,null,null,null,null,null,null,null,null,null,null,null,null,null,null,null,null,null,null,null,null,null,null,null,null,"","","","",null,null,null,null,null,0,0,0,0]
["Rehabilitación mediante prótesis fija unitaria o plural",0,0,0,null,null,null,null,null,null,null,null,null,null,null,null,null,null,null,null,null,null,null,null,null,null,null,null,null,null,null,null,null,null,null,null,null,null,null,null,"",null,null,null,null,null,null,null,null,null,null,null,null,null,null,null,null,null,null,null,null,null,null,null,null,null,null,null,null,null,null,null,null,null,null,null,null,null,"","","","",null,null,null,null,null,0,0,0,0]
["Rehabilitación mediante prótesis fija implantoasistida (Unitaria y plural)",0,0,0,null,null,null,null,null,null,null,null,null,null,null,null,null,null,null,null,null,null,null,null,null,null,null,null,null,null,null,null,null,null,null,null,null,null,null,null,"",null,null,null,null,null,null,null,null,null,null,null,null,null,null,null,null,null,null,null,null,null,null,null,null,null,null,null,null,null,null,null,null,null,null,null,null,null,{"$f":"IF(B85<>0, IF(AM85=\"\",\"* No olvide digitar el campo EMBARAZADAS (Digite CERO si no tiene). \",\"\"),\"\")","v":""},{"$f":"IF(B85<AM85,\"* El campo EMBARAZADAS no debe ser mayor al total. \",\"\")","v":""},{"$f":"IF(B85<>0, IF(AN85=\"\",\"* No olvide digitar el campo Migrantes (Digite CERO si no tiene). \",\"\"),\"\")","v":""},{"$f":"IF(B85<AN85,\"* El campo Migrantes no debe ser mayor al total. \",\"\")","v":""},null,null,null,null,null,{"$f":"IF(B85<>0, IF(AM85=\"\",1,0),0)","v":0},{"$f":"IF(B85<AM85,1,0)","v":0},{"$f":"IF(B85<>0, IF(AN85=\"\",1,0),0)","v":0},{"$f":"IF(B85<AN85,1,0)","v":0}]
["Rehabilitación mediante prótesis muco-implantoasistida",0,0,0,null,null,null,null,null,null,null,null,null,null,null,null,null,null,null,null,null,null,null,null,null,null,null,null,null,null,null,null,null,null,null,null,null,null,null,null,"",null,null,null,null,null,null,null,null,null,null,null,null,null,null,null,null,null,null,null,null,null,null,null,null,null,null,null,null,null,null,null,null,null,null,null,null,null,"","","","",null,null,null,null,null,0,0,0,0]
["Reparación de prótesis (compleja y simple)",0,0,0,null,null,null,null,null,null,null,null,null,null,null,null,null,null,null,null,null,null,null,null,null,null,null,null,null,null,null,null,null,null,null,null,null,null,null,null,"",null,null,null,null,null,null,null,null,null,null,null,null,null,null,null,null,null,null,null,null,null,null,null,null,null,null,null,null,null,null,null,null,null,null,null,null,null,"","","","",null,null,null,null,null,0,0,0,0]
["Implantología quirúrgica (número de implantes osteointegrados instalados)",0,0,0,null,null,null,null,null,null,null,null,null,null,null,null,null,null,null,null,null,null,null,null,null,null,null,null,null,null,null,null,null,null,null,null,null,null,null,null,"",null,null,null,null,null,null,null,null,null,null,null,null,null,null,null,null,null,null,null,null,null,null,null,null,null,null,null,null,null,null,null,null,null,null,null,null,null,"","","","",null,null,null,null,null,0,0,0,0]
["Toma de biopsia",0,0,0,null,null,null,null,null,null,null,null,null,null,null,null,null,null,null,null,null,null,null,null,null,null,null,null,null,null,null,null,null,null,null,null,null,null,null,null,"",null,null,null,null,null,null,null,null,null,null,null,null,null,null,null,null,null,null,null,null,null,null,null,null,null,null,null,null,null,null,null,null,null,null,null,null,null,"","","","",null,null,null,null,null,0,0,0,0]
["Estudio histopatológico",0,0,0,null,null,null,null,null,null,null,null,null,null,null,null,null,null,null,null,null,null,null,null,null,null,null,null,null,null,null,null,null,null,null,null,null,null,null,null,"",null,null,null,null,null,null,null,null,null,null,null,null,null,null,null,null,null,null,null,null,null,null,null,null,null,null,null,null,null,null,null,null,null,null,null,null,null,"","","","",null,null,null,null,null,0,0,0,0]
["Sialometría",0,0,0,null,null,null,null,null,null,null,null,null,null,null,null,null,null,null,null,null,null,null,null,null,null,null,null,null,null,null,null,null,null,null,null,null,null,null,null,"",null,null,null,null,null,null,null,null,null,null,null,null,null,null,null,null,null,null,null,null,null,null,null,null,null,null,null,null,null,null,null,null,null,null,null,null,null,"","","","",null,null,null,null,null,0,0,0,0]
["Terapia farmacológica de lesiones del territorio oral y maxilofacial",0,0,0,null,null,null,null,null,null,null,null,null,null,null,null,null,null,null,null,null,null,null,null,null,null,null,null,null,null,null,null,null,null,null,null,null,null,null,null,"",null,null,null,null,null,null,null,null,null,null,null,null,null,null,null,null,null,null,null,null,null,null,null,null,null,null,null,null,null,null,null,null,null,null,null,null,null,"","","","",null,null,null,null,null,0,0,0,0]
["Terapia no farmacológica de lesiones del territorio oral y maxilofacial",0,0,0,null,null,null,null,null,null,null,null,null,null,null,null,null,null,null,null,null,null,null,null,null,null,null,null,null,null,null,null,null,null,null,null,null,null,null,null,"",null,null,null,null,null,null,null,null,null,null,null,null,null,null,null,null,null,null,null,null,null,null,null,null,null,null,null,null,null,null,null,null,null,null,null,null,null,"","","","",null,null,null,null,null,0,0,0,0]
["Estudio clínico lesiones del territorio oral maxilofacial",0,0,0,null,null,null,null,null,null,null,null,null,null,null,null,null,null,null,null,null,null,null,null,null,null,null,null,null,null,null,null,null,null,null,null,null,null,null,null,"",null,null,null,null,null,null,null,null,null,null,null,null,null,null,null,null,null,null,null,null,null,null,null,null,null,null,null,null,null,null,null,null,null,null,null,null,null,"","","","",null,null,null,null,null,0,0,0,0]
["Terapia física en trastornos temporomandibulares (TTM) y dolor orofacial (DOF)",0,0,0,null,null,null,null,null,null,null,null,null,null,null,null,null,null,null,null,null,null,null,null,null,null,null,null,null,null,null,null,null,null,null,null,null,null,null,null,"",null,null,null,null,null,null,null,null,null,null,null,null,null,null,null,null,null,null,null,null,null,null,null,null,null,null,null,null,null,null,null,null,null,null,null,null,null,"","","","",null,null,null,null,null,0,0,0,0]
["Infiltración en articulación temporo mandibular (ATM)",0,0,0,null,null,null,null,null,null,null,null,null,null,null,null,null,null,null,null,null,null,null,null,null,null,null,null,null,null,null,null,null,null,null,null,null,null,null,null,"",null,null,null,null,null,null,null,null,null,null,null,null,null,null,null,null,null,null,null,null,null,null,null,null,null,null,null,null,null,null,null,null,null,null,null,null,null,"","","","",null,null,null,null,null,0,0,0,0]
["Bloqueo anestésico y/o medicamentoso en TTM y DOF",0,0,0,null,null,null,null,null,null,null,null,null,null,null,null,null,null,null,null,null,null,null,null,null,null,null,null,null,null,null,null,null,null,null,null,null,null,null,null,"",null,null,null,null,null,null,null,null,null,null,null,null,null,null,null,null,null,null,null,null,null,null,null,null,null,null,null,null,null,null,null,null,null,null,null,null,null,"","","","",null,null,null,null,null,0,0,0,0]
["Artrocentesis en atm",0,0,0,null,null,null,null,null,null,null,null,null,null,null,null,null,null,null,null,null,null,null,null,null,null,null,null,null,null,null,null,null,null,null,null,null,null,null,null,"",null,null,null,null,null,null,null,null,null,null,null,null,null,null,null,null,null,null,null,null,null,null,null,null,null,null,null,null,null,null,null,null,null,null,null,null,null,"","","","",null,null,null,null,null,0,0,0,0]
["Terapia bioconductual",{"$f":"SUM(C99:D99)","v":0},0,0,null,null,null,null,null,null,null,null,null,null,null,null,null,null,null,null,null,null,null,null,null,null,null,null,null,null,null,null,null,null,null,null,null,null,null,null,"",null,null,null,null,null,null,null,null,null,null,null,null,null,null,null,null,null,null,null,null,null,null,null,null,null,null,null,null,null,null,null,null,null,null,null,null,null,"","","","",null,null,null,null,null,0,0,0,0]
["Desgaste selectivo",0,0,0,null,null,null,null,null,null,null,null,null,null,null,null,null,null,null,null,null,null,null,null,null,null,null,null,null,null,null,null,null,null,null,null,null,null,null,null,"",null,null,null,null,null,null,null,null,null,null,null,null,null,null,null,null,null,null,null,null,null,null,null,null,null,null,null,null,null,null,null,null,null,null,null,null,null,"","","","",null,null,null,null,null,0,0,0,0]
["Instalación de dispositivo ortopédico",0,0,0,null,null,null,null,null,null,null,null,null,null,null,null,null,null,null,null,null,null,null,null,null,null,null,null,null,null,null,null,null,null,null,null,null,null,null,null,"",null,null,null,null,null,null,null,null,null,null,null,null,null,null,null,null,null,null,null,null,null,null,null,null,null,null,null,null,null,null,null,null,null,null,null,null,null,"","","","",null,null,null,null,null,0,0,0,0]
["Actividades somatoprótesis",{"$f":"SUM(C102:D102)","v":0},0,0,null,null,null,null,null,null,null,null,null,null,null,null,null,null,null,null,null,null,null,null,null,null,null,null,null,null,null,null,null,null,null,null,null,null,null,null,"",null,null,null,null,null,null,null,null,null,null,null,null,null,null,null,null,null,null,null,null,null,null,null,null,null,null,null,null,null,null,null,null,null,null,null,null,null,"","","","",null,null,null,null,null,0,0,0,0]
["Rehabilitación de prótesis maxilofacial",0,0,0,null,null,null,null,null,null,null,null,null,null,null,null,null,null,null,null,null,null,null,null,null,null,null,null,null,null,null,null,null,null,null,null,null,null,null,null,"",null,null,null,null,null,null,null,null,null,null,null,null,null,null,null,null,null,null,null,null,null,null,null,null,null,null,null,null,null,null,null,null,null,null,null,null,null,"","","","",null,null,null,null,null,0,0,0,0]
["TOTAL",0,0,0,{"$f":"SUM(E53:E103)","v":0},0,0,0,0,0,0,0,0,0,0,0,0,0,0,0,0,0,0,0,0,0,0,0,0,0,0,0,0,0,0,0,0,0,0,0]
[]
["SECCIÓN C:  ACTIVIDADES DE IMAGENOLOGÍA ORAL Y MAXILOFACIAL."]
["ACTIVIDADES DE APOYO","TOTAL",null,null,"SEGÚN GRUPOS DE EDAD O DE RIESGO",null,null,null,null,null,null,null,null,null,null,null,null,null,null,null,null,null,null,null,null,null,null,null,null,null,null,null,null,null,null,null,null,null,"EMBARAZADAS","MIGRANTES"]
[null,null,null,null,"Menos de 1 año - 1 año",null,"2 años",null,"3 años",null,"4 años",null,"5 años",null,"6 años",null,"7 años",null,"8-9 años",null,"10-14 años",null,"15-19 años",null,"20-24 años ",null,"25-34 años",null,"35-44 años",null,"45-59 años",null,"60-64 años",null,"65-74 años",null,"75 y más años"]
[null,"Total ","Hombres","Mujeres","Hombres","Mujeres","Hombres","Mujeres","Hombres","Mujeres","Hombres","Mujeres","Hombres","Mujeres","Hombres","Mujeres","Hombres","Mujeres","Hombres","Mujeres","Hombres","Mujeres","Hombres","Mujeres","Hombres","Mujeres","Hombres","Mujeres","Hombres","Mujeres","Hombres","Mujeres","Hombres","Mujeres","Hombres","Mujeres","Hombres","Mujeres"]
["Radiografía intraoral mediante técnicas retroalveolares (por placa)",{"$f":"SUM(C110:D110)","v":0},{"$f":"SUM(E110+G110+I110+K110+M110+O110+Q110+S110+U110+W110+Y110+AA110+AC110+AE110+AG110+AI110+AK110)","v":0},{"$f":"SUM(F110+H110+J110+L110+N110+P110+R110+T110+V110+X110+Z110+AB110+AD110+AF110+AH110+AJ110+AL110)","v":0},null,null,null,null,null,null,null,null,null,null,null,null,null,null,null,null,null,null,null,null,null,null,null,null,null,null,null,null,null,null,null,null,null,null,null,null,{"$f":" $CA110 & CB110 & CC110&CD110","v":""},null,null,null,null,null,null,null,null,null,null,null,null,null,null,null,null,null,null,null,null,null,null,null,null,null,null,null,null,null,null,null,null,null,null,null,null,null,{"$f":"IF(B110<>0, IF(AM110=\"\",\"* No olvide digitar el campo EMBARAZADAS (Digite CERO si no tiene). \",\"\"),\"\")","v":""},{"$f":"IF(B110<AM110,\"* El campo EMBARAZADAS no debe ser mayor al total. \",\"\")","v":""},{"$f":"IF(B110<>0, IF(AN110=\"\",\"* No olvide digitar el campo Migrantes (Digite CERO si no tiene). \",\"\"),\"\")","v":""},{"$f":"IF(B110<AN110,\"* El campo Migrantes no debe ser mayor al total. \",\"\")","v":""},null,null,null,null,null,{"$f":"IF(B110<>0, IF(AM110=\"\",1,0),0)","v":0},{"$f":"IF(B110<AM110,1,0)","v":0},{"$f":"IF(B110<>0, IF(AN110=\"\",1,0),0)","v":0},{"$f":"IF(B110<AN110,1,0)","v":0}]
["Radiografía intraoral mediante técnicas bite Wing y oclusales (por procedimiento)",{"$f":"SUM(C111:D111)","v":0},{"$f":"SUM(E111+G111+I111+K111+M111+O111+Q111+S111+U111+W111+Y111+AA111+AC111+AE111+AG111+AI111+AK111)","v":0},{"$f":"SUM(F111+H111+J111+L111+N111+P111+R111+T111+V111+X111+Z111+AB111+AD111+AF111+AH111+AJ111+AL111)","v":0},null,null,null,null,null,null,null,null,null,null,null,null,null,null,null,null,null,null,null,null,null,null,null,null,null,null,null,null,null,null,null,null,null,null,null,null,"",null,null,null,null,null,null,null,null,null,null,null,null,null,null,null,null,null,null,null,null,null,null,null,null,null,null,null,null,null,null,null,null,null,null,null,null,null,"","","","",null,null,null,null,null,0,0,0,0]
["Radiografía extraoral (por placa), Radiografía panorámica (por placa)",0,0,0,null,null,null,null,null,null,null,null,null,null,null,null,null,null,null,null,null,null,null,null,null,null,null,null,null,null,null,null,null,null,null,null,null,null,null,null,"",null,null,null,null,null,null,null,null,null,null,null,null,null,null,null,null,null,null,null,null,null,null,null,null,null,null,null,null,null,null,null,null,null,null,null,null,null,"","","","",null,null,null,null,null,0,0,0,0]
["Radiografía oclusal (por placa)",0,0,0,null,null,null,null,null,null,null,null,null,null,null,null,null,null,null,null,null,null,null,null,null,null,null,null,null,null,null,null,null,null,null,null,null,null,null,null,"",null,null,null,null,null,null,null,null,null,null,null,null,null,null,null,null,null,null,null,null,null,null,null,null,null,null,null,null,null,null,null,null,null,null,null,null,null,"","","","",null,null,null,null,null,0,0,0,0]
["Telerradiografía (por placa)",0,0,0,null,null,null,null,null,null,null,null,null,null,null,null,null,null,null,null,null,null,null,null,null,null,null,null,null,null,null,null,null,null,null,null,null,null,null,null,"",null,null,null,null,null,null,null,null,null,null,null,null,null,null,null,null,null,null,null,null,null,null,null,null,null,null,null,null,null,null,null,null,null,null,null,null,null,"","","","",null,null,null,null,null,0,0,0,0]
["Radiografía panorámica (por placa)",0,0,0,null,null,null,null,null,null,null,null,null,null,null,null,null,null,null,null,null,null,null,null,null,null,null,null,null,null,null,null,null,null,null,null,null,null,null,null,"",null,null,null,null,null,null,null,null,null,null,null,null,null,null,null,null,null,null,null,null,null,null,null,null,null,null,null,null,null,null,null,null,null,null,null,null,null,"","","","",null,null,null,null,null,0,0,0,0]
["Tomografía computacional máxilo facial cone beam (por adquisición)",0,0,0,null,null,null,null,null,null,null,null,null,null,null,null,null,null,null,null,null,null,null,null,null,null,null,null,null,null,null,null,null,null,null,null,null,null,null,null,"",null,null,null,null,null,null,null,null,null,null,null,null,null,null,null,null,null,null,null,null,null,null,null,null,null,null,null,null,null,null,null,null,null,null,null,null,null,"","","","",null,null,null,null,null,0,0,0,0]
["Sialografías (por procedimiento)",0,0,0,null,null,null,null,null,null,null,null,null,null,null,null,null,null,null,null,null,null,null,null,null,null,null,null,null,null,null,null,null,null,null,null,null,null,null,null,"",null,null,null,null,null,null,null,null,null,null,null,null,null,null,null,null,null,null,null,null,null,null,null,null,null,null,null,null,null,null,null,null,null,null,null,null,null,"","","","",null,null,null,null,null,0,0,0,0]
["Procedimiento imagenológico complejo (por procedimiento)",0,0,0,null,null,null,null,null,null,null,null,null,null,null,null,null,null,null,null,null,null,null,null,null,null,null,null,null,null,null,null,null,null,null,null,null,null,null,null,"",null,null,null,null,null,null,null,null,null,null,null,null,null,null,null,null,null,null,null,null,null,null,null,null,null,null,null,null,null,null,null,null,null,null,null,null,null,"","","","",null,null,null,null,null,0,0,0,0]
["TOTAL",0,0,0,{"$f":"SUM(E110:E118)","v":0},{"$f":"SUM(F110:F118)","v":0},0,0,0,0,0,0,0,0,0,0,0,0,0,0,0,0,0,0,0,0,0,0,0,0,0,0,0,0,0,0,0,0,{"$f":"SUM(AM110:AM118)","v":0},{"$f":"SUM(AN110:AN118)","v":0}]
[]
[]
[]
[]
[]
[]
[]
[]
[]
[]
[{"$f":"SUM(E16:AL16,E19:AL19,E28:AL28,E37:AL37,E53:AL103,E110:AL118)","v":0},{"$f":"SUM(CJ17:CM118)","v":0}]

{"sheet":"EyP_ETS","index":6,"n_rows":330,"n_cols":129,"rows_kept":330,"cut":false,"hidden":false,"merged":[[145,0,145,15],[164,0,164,5],[8,49,10,49],[9,44,10,44],[5,0,5,15],[6,0,6,1],[8,0,10,0],[8,1,9,2],[8,3,8,42],[9,3,9,4],[9,5,9,6],[9,7,9,8],[9,9,9,10],[9,11,9,12],[9,13,9,14],[9,15,9,16],[9,17,9,18],[9,19,9,20],[9,21,9,22],[9,23,9,24],[8,43,8,44],[8,45,10,45],[8,46,9,47],[8,48,10,48],[9,35,9,36],[9,37,9,38],[9,39,9,40],[9,41,9,42],[9,43,10,43],[9,25,9,26],[9,27,9,28],[9,29,9,30],[9,31,9,32],[9,33,9,34],[31,0,33,0],[31,1,32,2],[31,3,31,42],[31,43,31,44],[32,31,32,32],[32,33,32,34],[32,35,32,36],[32,37,32,38],[32,39,32,40],[32,41,32,42],[32,43,33,43],[32,44,33,44],[31,47,33,47],[31,48,33,48],[32,3,32,4],[32,5,32,6],[32,7,32,8],[32,9,32,10],[32,11,32,12],[32,13,32,14],[32,15,32,16],[32,17,32,18],[32,19,32,20],[32,21,32,22],[32,23,32,24],[32,25,32,26],[32,27,32,28],[32,29,32,30],[31,45,31,46],[32,45,33,45],[32,46,33,46],[54,0,56,0],[54,1,55,2],[54,3,54,42],[54,43,54,44],[55,31,55,32],[55,33,55,34],[55,35,55,36],[55,37,55,38],[55,39,55,40],[55,41,55,42],[55,43,56,43],[55,44,56,44],[54,47,56,47],[54,48,56,48],[55,3,55,4],[55,5,55,6],[55,7,55,8],[55,9,55,10],[55,11,55,12],[55,13,55,14],[55,15,55,16],[55,17,55,18],[55,19,55,20],[55,21,55,22],[55,23,55,24],[55,25,55,26],[55,27,55,28],[55,29,55,30],[54,45,55,46],[77,0,79,0],[77,1,78,2],[77,3,77,42],[77,43,77,44],[78,31,78,32],[78,33,78,34],[78,35,78,36],[78,37,78,38],[78,39,78,40],[78,41,78,42],[78,43,79,43],[78,44,79,44],[77,47,79,47],[77,48,79,48],[78,3,78,4],[78,5,78,6],[78,7,78,8],[78,9,78,10],[78,11,78,12],[78,13,78,14],[78,15,78,16],[78,17,78,18],[78,19,78,20],[78,21,78,22],[78,23,78,24],[78,25,78,26],[78,27,78,28],[78,29,78,30],[77,45,77,46],[78,45,79,45],[78,46,79,46],[100,0,102,0],[100,1,101,2],[100,3,100,42],[100,43,100,44],[101,31,101,32],[101,33,101,34],[101,35,101,36],[101,37,101,38],[101,39,101,40],[101,41,101,42],[101,43,102,43],[101,44,102,44],[123,45,123,46],[124,45,125,45],[124,46,125,46],[100,47,102,47],[100,48,102,48],[101,3,101,4],[101,5,101,6],[101,7,101,8],[101,9,101,10],[101,11,101,12],[101,13,101,14],[101,15,101,16],[101,17,101,18],[101,19,101,20],[101,21,101,22],[101,23,101,24],[101,25,101,26],[101,27,101,28],[101,29,101,30],[101,45,102,45],[101,46,102,46],[100,45,100,46],[123,1,124,2],[123,3,123,42],[123,43,123,44],[124,31,124,32],[124,33,124,34],[124,35,124,36],[124,37,124,38],[124,39,124,40],[124,41,124,42],[124,43,125,43],[124,44,125,44],[146,0,146,16],[147,0,148,1],[147,2,147,4],[147,5,147,7],[147,8,147,10],[147,11,147,13],[147,14,147,15],[123,47,125,47],[123,48,125,48],[124,3,124,4],[124,5,124,6],[124,7,124,8],[124,9,124,10],[124,11,124,12],[124,13,124,14],[124,15,124,16],[124,17,124,18],[124,19,124,20],[124,21,124,22],[124,23,124,24],[124,25,124,26],[124,27,124,28],[124,29,124,30],[123,0,125,0],[149,0,149,1],[150,0,152,0],[153,0,153,1],[155,0,155,15],[156,0,157,1],[156,2,156,4],[156,5,156,7],[156,8,156,10],[156,11,156,13],[156,14,156,15],[158,0,158,1],[159,0,161,0],[162,0,162,1],[165,0,165,16],[166,0,168,1],[166,2,167,3],[166,4,166,35],[167,28,167,29],[167,30,167,31],[167,32,167,33],[167,34,167,35],[167,36,167,37],[167,38,167,39],[167,40,167,41],[167,42,167,43],[169,0,169,1],[166,36,166,39],[166,40,166,43],[166,44,167,45],[166,46,167,47],[167,4,167,5],[167,6,167,7],[167,8,167,9],[167,10,167,11],[167,12,167,13],[167,14,167,15],[167,16,167,17],[167,18,167,19],[167,20,167,21],[167,22,167,23],[167,24,167,25],[167,26,167,27],[175,0,175,1],[176,0,176,1],[177,0,177,1],[178,0,180,0],[181,0,181,1],[170,0,170,1],[171,0,171,1],[172,0,172,1],[173,0,173,1],[174,0,174,1],[188,0,188,1],[189,0,189,1],[190,0,190,1],[191,0,191,1],[193,0,193,16],[182,0,182,1],[183,0,183,1],[184,0,184,1],[185,0,185,1],[187,0,187,1],[194,0,196,1],[194,2,195,3],[194,4,194,35],[194,36,194,39],[194,40,194,43],[195,32,195,33],[195,34,195,35],[195,36,195,37],[195,38,195,39],[195,40,195,41],[195,42,195,43],[195,4,195,5],[195,6,195,7],[195,8,195,9],[195,10,195,11],[195,12,195,13],[195,14,195,15],[195,16,195,17],[195,18,195,19],[195,20,195,21],[202,0,202,1],[203,0,203,1],[204,0,204,1],[205,0,205,1],[206,0,208,0],[197,0,197,1],[198,0,198,1],[199,0,199,1],[200,0,200,1],[201,0,201,1],[215,0,215,1],[216,0,216,1],[217,0,217,1],[218,0,218,1],[219,0,219,1],[209,0,209,1],[210,0,210,1],[211,0,211,1],[212,0,212,1],[213,0,213,1],[222,0,224,0],[222,1,223,2],[222,3,222,36],[222,37,222,38],[222,39,222,40],[223,31,223,32],[223,33,223,34],[223,35,223,36],[223,37,224,37],[223,38,224,38],[223,39,224,39],[223,40,224,40],[223,3,223,4],[223,5,223,6],[223,7,223,8],[223,9,223,10],[223,11,223,12],[223,13,223,14],[223,15,223,16],[223,17,223,18],[223,19,223,20],[234,0,236,0],[234,1,235,2],[234,3,234,36],[234,37,234,38],[235,31,235,32],[235,33,235,34],[235,35,235,36],[235,37,236,37],[235,38,236,38],[235,3,235,4],[235,5,235,6],[235,7,235,8],[235,9,235,10],[235,11,235,12],[235,13,235,14],[235,15,235,16],[235,17,235,18],[235,19,235,20],[235,29,235,30],[235,25,235,26],[235,27,235,28],[246,0,248,1],[246,2,247,3],[246,4,246,35],[246,36,246,39],[247,12,247,13],[247,14,247,15],[247,16,247,17],[247,18,247,19],[246,40,246,43],[247,30,247,31],[247,32,247,33],[247,34,247,35],[247,36,247,37],[247,38,247,39],[247,40,247,41],[247,42,247,43],[249,0,267,0],[268,0,271,0],[274,0,275,0],[274,1,275,1],[274,2,274,11],[293,8,293,9],[293,10,293,11],[293,12,293,13],[293,14,293,15],[293,1,294,1],[293,2,294,2],[293,3,294,3],[293,4,293,5],[293,6,293,7],[274,12,275,12],[274,13,275,13],[283,0,284,0],[283,1,284,1],[283,2,283,17],[293,16,293,17],[293,28,293,29],[293,30,293,31],[303,0,305,0],[303,1,304,3],[303,4,303,27],[303,28,305,28],[303,29,305,29],[304,4,304,5],[304,6,304,7],[304,8,304,9],[304,10,304,11],[304,12,304,13],[304,14,304,15],[304,16,304,17],[304,18,304,19],[304,20,304,21],[304,22,304,23],[304,24,304,25],[304,26,304,27],[292,0,294,0],[292,4,292,35],[283,18,284,18],[283,19,284,19],[246,44,247,45],[246,46,247,47],[247,20,247,21],[247,22,247,23],[247,24,247,25],[247,26,247,27],[247,28,247,29],[194,44,195,45],[194,46,195,47],[195,22,195,23],[195,24,195,25],[195,26,195,27],[222,42,224,42],[222,43,224,43],[223,21,223,22],[223,23,223,24],[195,28,195,29],[195,30,195,31],[234,39,234,40],[235,39,236,39],[235,40,236,40],[235,21,235,22],[235,23,235,24],[222,41,224,41],[234,41,236,41],[223,25,223,26],[223,27,223,28],[223,29,223,30],[310,0,312,0],[310,1,311,3],[310,4,310,35],[311,12,311,13],[311,14,311,15],[311,16,311,17],[311,18,311,19],[311,20,311,21],[311,22,311,23],[311,24,311,25],[311,26,311,27],[311,28,311,29],[311,8,311,9],[311,10,311,11],[310,36,312,36],[166,48,167,49],[194,48,195,49],[292,1,292,3],[246,48,247,49],[247,4,247,5],[247,6,247,7],[247,8,247,9],[247,10,247,11],[293,32,293,33],[293,34,293,35],[293,18,293,19],[293,20,293,21],[293,22,293,23],[293,24,293,25],[293,26,293,27],[310,37,312,37],[311,4,311,5],[311,6,311,7],[234,42,236,42],[234,43,236,43],[311,30,311,31],[311,32,311,33],[311,34,311,35]]}
[{"$f":"CONCATENATE(\"SEREMI: \",NOMBRE!B2,\" \",NOMBRE!C2,,NOMBRE!D2,NOMBRE!E2,NOMBRE!F2,NOMBRE!G2,NOMBRE!H2,\"\")","v":"SEREMI:  "}]
[{"$f":"CONCATENATE(\"Establecimiento: \", NOMBRE!B3,\" \", NOMBRE!C3, NOMBRE!D3,NOMBRE!E3,NOMBRE!F3,NOMBRE!G3,NOMBRE!H3,\"\")","v":"Establecimiento:  "}]
[{"$f":"CONCATENATE(\"Comuna: \",NOMBRE!B4,\" \",NOMBRE!C4,NOMBRE!D4,NOMBRE!E4,NOMBRE!F4,NOMBRE!G4)","v":"Comuna:  "}]
[{"$f":"CONCATENATE(\"Mes: \",NOMBRE!B5, \" \",  \"(\",NOMBRE!C5,NOMBRE!D5,\")\")","v":"Mes:  ()"}]
[{"$f":"CONCATENATE(\"Año: \",NOMBRE!B6)","v":"Año: 2024"}]
["REMASEP: EXÁMENES Y PESQUISA DE ENFERMEDADES TRASMISIBLES "]
["SECCION A: EXÁMENES DE SÍFILIS"]
["SECCIÓN A.1: EXAMEN VDRL POR GRUPO DE USUARIOS (Uso exclusivo de establecimientos con Laboratorio que procesan)"]
["GRUPO DE PESQUISA","TOTAL",null,"POR EDAD (en meses - años)",null,null,null,null,null,null,null,null,null,null,null,null,null,null,null,null,null,null,null,null,null,null,null,null,null,null,null,null,null,null,null,null,null,null,null,null,null,null,null,"POR SEXO\n(Procesados)",null,"Beneficiarios FONASA","TRANS",null,"Pueblos Originarios","Migrantes"]
[null,null,null,"Menor de 6 meses",null,"6 a 11 meses",null,"12-24 meses",null,"3 a 4 años",null,"5 a 9 años",null,"10 - 14 años",null,"15 - 19 años",null,"20 - 24 años",null,"25 a 29 años",null,"30 a 34 años",null,"35 a 39 años",null,"40 a 44 años",null,"45 a 49 años",null,"50 a 54 años",null,"55 a 59 años",null,"60 a 64 años",null,"65 a 69 años",null,"70 a 74 años",null,"75 a 79 años",null,"80 y más años",null,"Hombres","Mujeres"]
[null,"Procesados","Reactivos","Procesados","Reactivos","Procesados","Reactivos","Procesados","Reactivos","Procesados","Reactivos","Procesados","Reactivos","Procesados","Reactivos","Procesados","Reactivos","Procesados","Reactivos","Procesados","Reactivos","Procesados","Reactivos","Procesados","Reactivos","Procesados","Reactivos","Procesados","Reactivos","Procesados","Reactivos","Procesados","Reactivos","Procesados","Reactivos","Procesados","Reactivos","Procesados","Reactivos","Procesados","Reactivos","Procesados","Reactivos",null,null,null,"Masculino","Femenino"]
["GESTANTES PRIMER TRIMESTRE EMBARAZO",{"$f":"+N12+P12+R12+T12+V12+X12+Z12+AB12+AD12+AF12+AH12+AJ12+AL12+AN12+AP12","v":0},{"$f":"+O12+Q12+S12+U12+W12+Y12+AA12+AC12+AE12+AG12+AI12+AK12+AM12+AO12+AQ12","v":0},null,null,null,null,null,null,null,null,null,null,null,null,null,null,null,null,null,null,null,null,null,null,null,null,null,null,null,null,null,null,null,null,null,null,null,null,null,null,null,null,null,null,null,null,null,null,null,{"$f":"$CA12&$CB12 &$CC12 &$CD12 &$CE12 &$CF12 &$CG12 &$CH12 &$CI12 &$CJ12 &$CK12 &$CL12 &$CM12 &$CN12 &$CO12 &$CP12 &$CQ12 &$CR12 &$CS12 &$CT12 &$CU12 &$CV12 &$CW12 &$CX12 &$CY12 &$CZ12","v":""},null,null,null,null,null,null,null,null,null,null,null,null,null,null,null,null,null,null,null,null,null,null,null,null,null,null,null,{"$f":"IF(B12<>(AR12+ AS12),\"* La suma de las columnas POR SEXO (Procesados) DEBE SER IGUAL al Total Procesados. \",\"\")","v":""},{"$f":"IF(AND($B12<>0,AT12=\"\"),\"* No olvide ingresar la columna \"&AT$9&\"\"&\" (Digite CERO si no tiene).  \",IF(AT12>$B12,\" *La columna \"&AT$9&\"\"&\" no puede superar el Total Procesados. \",\"\"))","v":""},{"$f":"IF(AND($B12<>0,AU12=\"\",AV12=\"\"),\"* No olvide ingresar la columna \"&AU$9&\"\"&\" (Digite CERO si no tiene).\",IF((B12<AU12+AV12),\"* La suma de las columna Trans NO DEBE ser superior al Total de Procesados. \",\"\"))","v":""},{"$f":"IF(AND($B12<>0,AW12=\"\"),\"* No olvide ingresar la columna \"&AW$9&\"\"&\" (Digite CERO si no tiene).\",IF(B12<AW12,\"* La columna Pueblos Originarios NO DEBE ser superior al Total Procesados. \",\"\"))","v":""},{"$f":"IF(AND($B12<>0,AX12=\"\"),\"* No olvide ingresar la columna \"&AX$9&\"\"&\" (Digite CERO si no tiene).\",IF(B12<AX12,\"* La columna Migrantes NO DEBE ser superior al Total Procesados. \",\"\"))","v":""},null,null,null,null,null,{"$f":"IF(N12<O12,\"* El Total de Procesados debe ser mayor o igual al Total de Reactivos en el grupo de edad  \"&N$10&\"\"&\" \",\"\")","v":""},{"$f":"IF(P12<Q12,\"* El Total de Procesados debe ser mayor o igual al Total de Reactivos en el grupo de edad  \"&P$10&\"\"&\" \",\"\")","v":""},{"$f":"IF(R12<S12,\"* El Total de Procesados debe ser mayor o igual al Total de Reactivos en el grupo de edad  \"&R$10&\"\"&\" \",\"\")","v":""},{"$f":"IF(T12<U12,\"* El Total de Procesados debe ser mayor o igual al Total de Reactivos en el grupo de edad  \"&T$10&\"\"&\" \",\"\")","v":""},{"$f":"IF(V12<W12,\"* El Total de Procesados debe ser mayor o igual al Total de Reactivos en el grupo de edad  \"&V$10&\"\"&\" \",\"\")","v":""},{"$f":"IF(X12<Y12,\"* El Total de Procesados debe ser mayor o igual al Total de Reactivos en el grupo de edad  \"&X$10&\"\"&\" \",\"\")","v":""},{"$f":"IF(Z12<AA12,\"* El Total de Procesados debe ser mayor o igual al Total de Reactivos en el grupo de edad  \"&Z$10&\"\"&\" \",\"\")","v":""},{"$f":"IF(AB12<AC12,\"* El Total de Procesados debe ser mayor o igual al Total de Reactivos en el grupo de edad  \"&AB$10&\"\"&\" \",\"\")","v":""},{"$f":"IF(AD12<AE12,\"* El Total de Procesados debe ser mayor o igual al Total de Reactivos en el grupo de edad  \"&AD$10&\"\"&\" \",\"\")","v":""},{"$f":"IF(AF12<AG12,\"* El Total de Procesados debe ser mayor o igual al Total de Reactivos en el grupo de edad  \"&AF$10&\"\"&\" \",\"\")","v":""},{"$f":"IF(AH12<AI12,\"* El Total de Procesados debe ser mayor o igual al Total de Reactivos en el grupo de edad  \"&AH$10&\"\"&\" \",\"\")","v":""},{"$f":"IF(AJ12<AK12,\"* El Total de Procesados debe ser mayor o igual al Total de Reactivos en el grupo de edad  \"&AJ$10&\"\"&\" \",\"\")","v":""},{"$f":"IF(AL12<AM12,\"* El Total de Procesados debe ser mayor o igual al Total de Reactivos en el grupo de edad  \"&AL$10&\"\"&\" \",\"\")","v":""},{"$f":"IF(AN12<AO12,\"* El Total de Procesados debe ser mayor o igual al Total de Reactivos en el grupo de edad  \"&AN$10&\"\"&\" \",\"\")","v":""},{"$f":"IF(AP12<AQ12,\"* El Total de Procesados debe ser mayor o igual al Total de Reactivos en el grupo de edad  \"&AP$10&\"\"&\" \",\"\")","v":""},null,{"$f":"IF(B12<>(AR12+ AS12),1,0)","v":0},{"$f":"IF(AND($B12<>0,AT12=\"\"),1, IF(AT12>$B12,1,0))","v":0},{"$f":"IF(AND($B12<>0,AU12=\"\",AV12=\"\"),1,IF((B12<AU12+AV12),1,0))","v":0},{"$f":"IF(AND($B12<>0,AW12=\"\"),1,IF(B12<AW12,1,0))","v":0},{"$f":"IF(AND($B12<>0,AX12=\"\"),1,IF(AX12>B12,1,0))","v":0},null,null,null,null,null,{"$f":"IF(N12<O12,1,0)","v":0},{"$f":"IF(P12<Q12,1,0)","v":0},{"$f":"IF(R12<S12,1,0)","v":0},{"$f":"IF(T12<U12,1,0)","v":0},{"$f":"IF(V12<W12,1,0)","v":0},{"$f":"IF(X12<Y12,1,0)","v":0},{"$f":"IF(Z12<AA12,1,0)","v":0},{"$f":"IF(AB12<AC12,1,0)","v":0},{"$f":"IF(AD12<AE12,1,0)","v":0},{"$f":"IF(AF12<AG12,1,0)","v":0},{"$f":"IF(AH12<AI12,1,0)","v":0},{"$f":"IF(AJ12<AK12,1,0)","v":0},{"$f":"IF(AL12<AM12,1,0)","v":0},{"$f":"IF(AN12<AO12,1,0)","v":0},{"$f":"IF(AP12<AQ12,1,0)","v":0}]
["GESTANTES SEGUNDO TRIMESTRE EMBARAZO",0,{"$f":"+O13+Q13+S13+U13+W13+Y13+AA13+AC13+AE13+AG13+AI13+AK13+AM13+AO13+AQ13","v":0},null,null,null,null,null,null,null,null,null,null,null,null,null,null,null,null,null,null,null,null,null,null,null,null,null,null,null,null,null,null,null,null,null,null,null,null,null,null,null,null,null,null,null,null,null,null,null,"",null,null,null,null,null,null,null,null,null,null,null,null,null,null,null,null,null,null,null,null,null,null,null,null,null,null,null,{"$f":"IF(B13<>(AR13+ AS13),\"* La suma de las columnas POR SEXO (Procesados) DEBE SER IGUAL al Total Procesados. \",\"\")","v":""},{"$f":"IF(AND($B13<>0,AT13=\"\"),\"* No olvide ingresar la columna \"&AT$9&\"\"&\" (Digite CERO si no tiene).  \",IF(AT13>$B13,\" *La columna \"&AT$9&\"\"&\" no puede superar el Total Procesados. \",\"\"))","v":""},{"$f":"IF(AND($B13<>0,AU13=\"\",AV13=\"\"),\"* No olvide ingresar la columna \"&AU$9&\"\"&\" (Digite CERO si no tiene).\",IF((B13<AU13+AV13),\"* La suma de las columna Trans NO DEBE ser superior al Total de Procesados. \",\"\"))","v":""},{"$f":"IF(AND($B13<>0,AW13=\"\"),\"* No olvide ingresar la columna \"&AW$9&\"\"&\" (Digite CERO si no tiene).\",IF(B13<AW13,\"* La columna Pueblos Originarios NO DEBE ser superior al Total Procesados. \",\"\"))","v":""},{"$f":"IF(AND($B13<>0,AX13=\"\"),\"* No olvide ingresar la columna \"&AX$9&\"\"&\" (Digite CERO si no tiene).\",IF(B13<AX13,\"* La columna Migrantes NO DEBE ser superior al Total Procesados. \",\"\"))","v":""},null,null,null,null,null,{"$f":"IF(N13<O13,\"* El Total de Procesados debe ser mayor o igual al Total de Reactivos en el grupo de edad  \"&N$10&\"\"&\" \",\"\")","v":""},{"$f":"IF(P13<Q13,\"* El Total de Procesados debe ser mayor o igual al Total de Reactivos en el grupo de edad  \"&P$10&\"\"&\" \",\"\")","v":""},{"$f":"IF(R13<S13,\"* El Total de Procesados debe ser mayor o igual al Total de Reactivos en el grupo de edad  \"&R$10&\"\"&\" \",\"\")","v":""},{"$f":"IF(T13<U13,\"* El Total de Procesados debe ser mayor o igual al Total de Reactivos en el grupo de edad  \"&T$10&\"\"&\" \",\"\")","v":""},{"$f":"IF(V13<W13,\"* El Total de Procesados debe ser mayor o igual al Total de Reactivos en el grupo de edad  \"&V$10&\"\"&\" \",\"\")","v":""},{"$f":"IF(X13<Y13,\"* El Total de Procesados debe ser mayor o igual al Total de Reactivos en el grupo de edad  \"&X$10&\"\"&\" \",\"\")","v":""},{"$f":"IF(Z13<AA13,\"* El Total de Procesados debe ser mayor o igual al Total de Reactivos en el grupo de edad  \"&Z$10&\"\"&\" \",\"\")","v":""},{"$f":"IF(AB13<AC13,\"* El Total de Procesados debe ser mayor o igual al Total de Reactivos en el grupo de edad  \"&AB$10&\"\"&\" \",\"\")","v":""},{"$f":"IF(AD13<AE13,\"* El Total de Procesados debe ser mayor o igual al Total de Reactivos en el grupo de edad  \"&AD$10&\"\"&\" \",\"\")","v":""},{"$f":"IF(AF13<AG13,\"* El Total de Procesados debe ser mayor o igual al Total de Reactivos en el grupo de edad  \"&AF$10&\"\"&\" \",\"\")","v":""},{"$f":"IF(AH13<AI13,\"* El Total de Procesados debe ser mayor o igual al Total de Reactivos en el grupo de edad  \"&AH$10&\"\"&\" \",\"\")","v":""},{"$f":"IF(AJ13<AK13,\"* El Total de Procesados debe ser mayor o igual al Total de Reactivos en el grupo de edad  \"&AJ$10&\"\"&\" \",\"\")","v":""},{"$f":"IF(AL13<AM13,\"* El Total de Procesados debe ser mayor o igual al Total de Reactivos en el grupo de edad  \"&AL$10&\"\"&\" \",\"\")","v":""},{"$f":"IF(AN13<AO13,\"* El Total de Procesados debe ser mayor o igual al Total de Reactivos en el grupo de edad  \"&AN$10&\"\"&\" \",\"\")","v":""},{"$f":"IF(AP13<AQ13,\"* El Total de Procesados debe ser mayor o igual al Total de Reactivos en el grupo de edad  \"&AP$10&\"\"&\" \",\"\")","v":""},null,{"$f":"IF(B13<>(AR13+ AS13),1,0)","v":0},{"$f":"IF(AND($B13<>0,AT13=\"\"),1, IF(AT13>$B13,1,0))","v":0},{"$f":"IF(AND($B13<>0,AU13=\"\",AV13=\"\"),1,IF((B13<AU13+AV13),1,0))","v":0},{"$f":"IF(AND($B13<>0,AW13=\"\"),1,IF(B13<AW13,1,0))","v":0},{"$f":"IF(AND($B13<>0,AX13=\"\"),1,IF(AX13>B13,1,0))","v":0},null,null,null,null,null,{"$f":"IF(N13<O13,1,0)","v":0},{"$f":"IF(P13<Q13,1,0)","v":0},{"$f":"IF(R13<S13,1,0)","v":0},{"$f":"IF(T13<U13,1,0)","v":0},{"$f":"IF(V13<W13,1,0)","v":0},{"$f":"IF(X13<Y13,1,0)","v":0},{"$f":"IF(Z13<AA13,1,0)","v":0},{"$f":"IF(AB13<AC13,1,0)","v":0},{"$f":"IF(AD13<AE13,1,0)","v":0},{"$f":"IF(AF13<AG13,1,0)","v":0},{"$f":"IF(AH13<AI13,1,0)","v":0},{"$f":"IF(AJ13<AK13,1,0)","v":0},{"$f":"IF(AL13<AM13,1,0)","v":0},{"$f":"IF(AN13<AO13,1,0)","v":0},{"$f":"IF(AP13<AQ13,1,0)","v":0}]
["GESTANTES TERCER TRIMESTRE EMBARAZO",0,0,null,null,null,null,null,null,null,null,null,null,null,null,null,null,null,null,null,null,null,null,null,null,null,null,null,null,null,null,null,null,null,null,null,null,null,null,null,null,null,null,null,null,null,null,null,null,null,"",null,null,null,null,null,null,null,null,null,null,null,null,null,null,null,null,null,null,null,null,null,null,null,null,null,null,null,"","","","","",null,null,null,null,null,"","","","","","","","","","","","","","","",null,0,0,0,0,0,null,null,null,null,null,0,0,0,0,0,0,0,0,0,0,0,0,0,0,0]
["GESTANTES TRIMESTRE EMBARAZO IGNORADO",0,0,null,null,null,null,null,null,null,null,null,null,null,null,null,null,null,null,null,null,null,null,null,null,null,null,null,null,null,null,null,null,null,null,null,null,null,null,null,null,null,null,null,null,null,null,null,null,null,"",null,null,null,null,null,null,null,null,null,null,null,null,null,null,null,null,null,null,null,null,null,null,null,null,null,null,null,"","","","","",null,null,null,null,null,"","","","","","","","","","","","","","","",null,0,0,0,0,0,null,null,null,null,null,0,0,0,0,0,0,0,0,0,0,0,0,0,0,0]
["GESTANTES EN SEGUIMIENTO POR DIAGNÓSTICO SÍFILIS",0,0,null,null,null,null,null,null,null,null,null,null,null,null,null,null,null,null,null,null,null,null,null,null,null,null,null,null,null,null,null,null,null,null,null,null,null,null,null,null,null,null,null,null,null,null,null,null,null,"",null,null,null,null,null,null,null,null,null,null,null,null,null,null,null,null,null,null,null,null,null,null,null,null,null,null,null,"","","","","",null,null,null,null,null,"","","","","","","","","","","","","","","",null,0,0,0,0,0,null,null,null,null,null,0,0,0,0,0,0,0,0,0,0,0,0,0,0,0]
["PAREJA DE GESTANTE CON SEROLOGÍA REACTIVA",0,0,null,null,null,null,null,null,null,null,null,null,null,null,null,null,null,null,null,null,null,null,null,null,null,null,null,null,null,null,null,null,null,null,null,null,null,null,null,null,null,null,null,null,null,null,null,null,null,"",null,null,null,null,null,null,null,null,null,null,null,null,null,null,null,null,null,null,null,null,null,null,null,null,null,null,null,"","","","","",null,null,null,null,null,"","","","","","","","","","","","","","","",null,0,0,0,0,0,null,null,null,null,null,0,0,0,0,0,0,0,0,0,0,0,0,0,0,0]
["MUJERES QUE INGRESAN A MATERNIDAD POR PARTO",0,0,null,null,null,null,null,null,null,null,null,null,null,null,null,null,null,null,null,null,null,null,null,null,null,null,null,null,null,null,null,null,null,null,null,null,null,null,null,null,null,null,null,null,null,null,null,null,null,"",null,null,null,null,null,null,null,null,null,null,null,null,null,null,null,null,null,null,null,null,null,null,null,null,null,null,null,"","","","","",null,null,null,null,null,"","","","","","","","","","","","","","","",null,0,0,0,0,0,null,null,null,null,null,0,0,0,0,0,0,0,0,0,0,0,0,0,0,0]
["MUJERES QUE INGRESAN POR ABORTO",0,0,null,null,null,null,null,null,null,null,null,null,null,null,null,null,null,null,null,null,null,null,null,null,null,null,null,null,null,null,null,null,null,null,null,null,null,null,null,null,null,null,null,null,null,null,null,null,null,"",null,null,null,null,null,null,null,null,null,null,null,null,null,null,null,null,null,null,null,null,null,null,null,null,null,null,null,"","","","","",null,null,null,null,null,"","","","","","","","","","","","","","","",null,0,0,0,0,0,null,null,null,null,null,0,0,0,0,0,0,0,0,0,0,0,0,0,0,0]
["MUJERES EN CONTROL GINECOLÓGICO",{"$f":"+D20+F20+H20+J20+L20+N20+P20+R20+T20+V20+X20+Z20+AB20+AD20+AF20+AH20+AJ20+AL20+AN20+AP20","v":0},{"$f":"+E20+G20+I20+K20+M20+O20+Q20+S20+U20+W20+Y20+AA20+AC20+AE20+AG20+AI20+AK20+AM20+AO20+AQ20","v":0},null,null,null,null,null,null,null,null,null,null,null,null,null,null,null,null,null,null,null,null,null,null,null,null,null,null,null,null,null,null,null,null,null,null,null,null,null,null,null,null,null,null,null,null,null,null,null,"",null,null,null,null,null,null,null,null,null,null,null,null,null,null,null,null,null,null,null,null,null,null,null,null,null,null,null,"","","","","",{"$f":"IF(D20<E20,\"* El Total de Procesados debe ser mayor o igual al Total de Reactivos en el grupo de edad  \"&D$10&\"\"&\" \",\"\")","v":""},{"$f":"IF(F20<G20,\"* El Total de Procesados debe ser mayor o igual al Total de Reactivos en el grupo de edad  \"&F$10&\"\"&\" \",\"\")","v":""},{"$f":"IF(H20<I20,\"* El Total de Procesados debe ser mayor o igual al Total de Reactivos en el grupo de edad  \"&H$10&\"\"&\" \",\"\")","v":""},{"$f":"IF(J20<K20,\"* El Total de Procesados debe ser mayor o igual al Total de Reactivos en el grupo de edad  \"&J$10&\"\"&\" \",\"\")","v":""},{"$f":"IF(L20<M20,\"* El Total de Procesados debe ser mayor o igual al Total de Reactivos en el grupo de edad  \"&L$10&\"\"&\" \",\"\")","v":""},"","","","","","","","","","","","","","",{"$f":"IF(AP20<AQ20,\"* El Total de Procesados debe ser mayor o igual al Total de Reactivos en el grupo de edad  \"&AP$10&\"\"&\" \",\"\")","v":""},null,0,0,0,0,0,{"$f":"IF(D20<E20,1,0)","v":0},{"$f":"IF(F20<G20,1,0)","v":0},{"$f":"IF(H20<I20,1,0)","v":0},{"$f":"IF(J20<K20,1,0)","v":0},{"$f":"IF(L20<M20,1,0)","v":0},0,0,0,0,0,0,0,0,0,0,0,0,0,0,0]
["RECIÉN NACIDO Y LACTANTE PARA DETECCIÓN DE SÍFILIS CONGÉNITA",{"$f":"+D21+F21+H21","v":0},{"$f":"+E21+G21+I21","v":0},null,null,null,null,null,null,null,null,null,null,null,null,null,null,null,null,null,null,null,null,null,null,null,null,null,null,null,null,null,null,null,null,null,null,null,null,null,null,null,null,null,null,null,null,null,null,null,"",null,null,null,null,null,null,null,null,null,null,null,null,null,null,null,null,null,null,null,null,null,null,null,null,null,null,null,{"$f":"IF(B21<>(AR21+ AS21),\"* La suma de las columnas POR SEXO (Procesados) DEBE SER IGUAL al Total Procesados. \",\"\")","v":""},{"$f":"IF(AND($B21<>0,AT21=\"\"),\"* No olvide ingresar la columna \"&AT$9&\"\"&\" (Digite CERO si no tiene).  \",IF(AT21>$B21,\" *La columna \"&AT$9&\"\"&\" no puede superar el Total Procesados. \",\"\"))","v":""},"","","",{"$f":"IF(D21<E21,\"* El Total de Procesados debe ser mayor o igual al Total de Reactivos en el grupo de edad  \"&D$10&\"\"&\" \",\"\")","v":""},"","",null,null,null,null,null,null,null,null,null,null,null,null,null,null,null,null,null,null,0,0,0,0,0,0,0,0]
["PERSONAS EN CONTROL POR COMERCIO SEXUAL",{"$f":"+P22+R22+T22+V22+X22+Z22+AB22+AD22+AF22+AH22+AJ22+AL22+AN22+AP22","v":0},{"$f":"+Q22+S22+U22+W22+Y22+AA22+AC22+AE22+AG22+AI22+AK22+AM22+AO22+AQ22","v":0},null,null,null,null,null,null,null,null,null,null,null,null,null,null,null,null,null,null,null,null,null,null,null,null,null,null,null,null,null,null,null,null,null,null,null,null,null,null,null,null,null,null,null,null,null,null,null,"",null,null,null,null,null,null,null,null,null,null,null,null,null,null,null,null,null,null,null,null,null,null,null,null,null,null,null,"","","","","","","","","","","","","","","","","","","","","","","","","",null,0,0,0,0,0,0,0,0,0,0,0,0,0,0,0,0,0,0,0,0,0,0,0,0,0]
["PERSONAS EN CONTROL FECUNDIDAD",{"$f":"+N23+P23+R23+T23+V23+X23+Z23+AB23+AD23+AF23+AH23+AJ23+AL23+AN23+AP23","v":0},{"$f":"+O23+Q23+S23+U23+W23+Y23+AA23+AC23+AE23+AG23+AI23+AK23+AM23+AO23+AQ23","v":0},null,null,null,null,null,null,null,null,null,null,null,null,null,null,null,null,null,null,null,null,null,null,null,null,null,null,null,null,null,null,null,null,null,null,null,null,null,null,null,null,null,null,null,null,null,null,null,"",null,null,null,null,null,null,null,null,null,null,null,null,null,null,null,null,null,null,null,null,null,null,null,null,null,null,null,"","","","","","","","","","","","","","","","","","","","","","","","","",null,0,0,0,0,0,0,0,0,0,0,0,0,0,0,0,0,0,0,0,0,0,0,0,0,0]
["CONSULTANTES POR ITS",{"$f":"+D24+F24+H24+J24+L24+N24+P24+R24+T24+V24+X24+Z24+AB24+AD24+AF24+AH24+AJ24+AL24+AN24+AP24","v":0},{"$f":"+E24+G24+I24+K24+M24+O24+Q24+S24+U24+W24+Y24+AA24+AC24+AE24+AG24+AI24+AK24+AM24+AO24+AQ24","v":0},null,null,null,null,null,null,null,null,null,null,null,null,null,null,null,null,null,null,null,null,null,null,null,null,null,null,null,null,null,null,null,null,null,null,null,null,null,null,null,null,null,null,null,null,null,null,null,"",null,null,null,null,null,null,null,null,null,null,null,null,null,null,null,null,null,null,null,null,null,null,null,null,null,null,null,"","","","","","","","","","","","","","","","","","","","","","","","","",null,0,0,0,0,0,0,0,0,0,0,0,0,0,0,0,0,0,0,0,0,0,0,0,0,0]
["PERSONAS EMP/EMPAM ",{"$f":"+P25+R25+T25+V25+X25+Z25+AB25+AD25+AF25+AH25+AJ25+AL25+AN25+AP25","v":0},{"$f":"+Q25+S25+U25+W25+Y25+AA25+AC25+AE25+AG25+AI25+AK25+AM25+AO25+AQ25","v":0},null,null,null,null,null,null,null,null,null,null,null,null,null,null,null,null,null,null,null,null,null,null,null,null,null,null,null,null,null,null,null,null,null,null,null,null,null,null,null,null,null,null,null,null,null,null,null,"",null,null,null,null,null,null,null,null,null,null,null,null,null,null,null,null,null,null,null,null,null,null,null,null,null,null,null,"","","","","","","","","","","","","","","","","","","","","","","","","",null,0,0,0,0,0,0,0,0,0,0,0,0,0,0,0,0,0,0,0,0,0,0,0,0,0]
["DONANTES DE SANGRE",{"$f":"+P26+R26+T26+V26+X26+Z26+AB26+AD26+AF26+AH26","v":0},{"$f":"+Q26+S26+U26+W26+Y26+AA26+AC26+AE26+AG26+AI26","v":0},null,null,null,null,null,null,null,null,null,null,null,null,null,null,null,null,null,null,null,null,null,null,null,null,null,null,null,null,null,null,null,null,null,null,null,null,null,null,null,null,null,null,null,null,null,null,null,"",null,null,null,null,null,null,null,null,null,null,null,null,null,null,null,null,null,null,null,null,null,null,null,null,null,null,null,"","","","","","","","","","","","","","","","","","","","","","","","","",null,0,0,0,0,0,0,0,0,0,0,0,0,0,0,0,0,0,0,0,0,0,0,0,0,0]
["DONANTES DE ÓRGANOS Y/O TEJIDOS",{"$f":"+D27+F27+H27+J27+L27+N27+P27+R27+T27+V27+X27+Z27+AB27+AD27+AF27+AH27+AJ27+AL27+AN27+AP27","v":0},0,null,null,null,null,null,null,null,null,null,null,null,null,null,null,null,null,null,null,null,null,null,null,null,null,null,null,null,null,null,null,null,null,null,null,null,null,null,null,null,null,null,null,null,null,null,null,null,"",null,null,null,null,null,null,null,null,null,null,null,null,null,null,null,null,null,null,null,null,null,null,null,null,null,null,null,"","","","","","","","","","","","","","","","","","","","","","","","","",null,0,0,0,0,0,0,0,0,0,0,0,0,0,0,0,0,0,0,0,0,0,0,0,0,0]
["PACIENTES EN DIÁLISIS",0,0,null,null,null,null,null,null,null,null,null,null,null,null,null,null,null,null,null,null,null,null,null,null,null,null,null,null,null,null,null,null,null,null,null,null,null,null,null,null,null,null,null,null,null,null,null,null,null,"",null,null,null,null,null,null,null,null,null,null,null,null,null,null,null,null,null,null,null,null,null,null,null,null,null,null,null,"","","","","","","","","","","","","","","","","","","","","","","","","",null,0,0,0,0,0,0,0,0,0,0,0,0,0,0,0,0,0,0,0,0,0,0,0,0,0]
["VÍCTIMA DE VIOLENCIA SEXUAL",0,0,null,null,null,null,null,null,null,null,null,null,null,null,null,null,null,null,null,null,null,null,null,null,null,null,null,null,null,null,null,null,null,null,null,null,null,null,null,null,null,null,null,null,null,null,null,null,null,"",null,null,null,null,null,null,null,null,null,null,null,null,null,null,null,null,null,null,null,null,null,null,null,null,null,null,null,"","","","","","","","","","","","","","","","","","","","","","","","","",null,0,0,0,0,0,0,0,0,0,0,0,0,0,0,0,0,0,0,0,0,0,0,0,0,0]
[]
["SECCIÓN A.2: EXAMEN VDRL POR GRUPO DE USUARIOS (Exámenes procesados por venta de servicios a sector público)"]
["GRUPO DE PESQUISA","TOTAL",null,"POR EDAD (en meses - años)",null,null,null,null,null,null,null,null,null,null,null,null,null,null,null,null,null,null,null,null,null,null,null,null,null,null,null,null,null,null,null,null,null,null,null,null,null,null,null,"POR SEXO\n(Procesados)",null,"TRANS",null,"Pueblos Originarios","Migrantes"]
[null,null,null,"Menor de 6 meses",null,"6 a 11 meses",null,"12-24 meses",null,"3 a 4 años",null,"5 a 9 años",null,"10 - 14 años",null,"15 - 19 años",null,"20 - 24 años",null,"25 a 29 años",null,"30 a 34 años",null,"35 a 39 años",null,"40 a 44 años",null,"45 a 49 años",null,"50 a 54 años",null,"55 a 59 años",null,"60 a 64 años",null,"65 a 69 años",null,"70 a 74 años",null,"75 a 79 años",null,"80 y más años",null,"Hombres","Mujeres","Masculino","Femenino"]
[null,"Procesados","Reactivos","Procesados","Reactivos","Procesados","Reactivos","Procesados","Reactivos","Procesados","Reactivos","Procesados","Reactivos","Procesados","Reactivos","Procesados","Reactivos","Procesados","Reactivos","Procesados","Reactivos","Procesados","Reactivos","Procesados","Reactivos","Procesados","Reactivos","Procesados","Reactivos","Procesados","Reactivos","Procesados","Reactivos","Procesados","Reactivos","Procesados","Reactivos","Procesados","Reactivos","Procesados","Reactivos","Procesados","Reactivos"]
["GESTANTES PRIMER TRIMESTRE EMBARAZO",{"$f":"+N35+P35+R35+T35+V35+X35+Z35+AB35+AD35+AF35+AH35+AJ35+AL35+AN35+AP35","v":0},0,null,null,null,null,null,null,null,null,null,null,null,null,null,null,null,null,null,null,null,null,null,null,null,null,null,null,null,null,null,null,null,null,null,null,null,null,null,null,null,null,null,null,null,null,null,null,{"$f":"$CA35&$CB35&$CC35&$CD35&$CE35&$CF35&$CG35&$CH35&$CI35&$CJ35&$CK35&$CL35&$CM35&$CN35&$CO35&$CP35&$CQ35&$CR35&$CS35&$CT35&$CU35&$CV35&$CW35&$CX35","v":""},null,null,null,null,null,null,null,null,null,null,null,null,null,null,null,null,null,null,null,null,null,null,null,null,null,null,null,null,{"$f":"IF(B35<>(AR35+ AS35),\"* La suma de las columnas POR SEXO (Procesados) DEBE SER IGUAL al Total Procesados. \",\"\")","v":""},{"$f":"IF(AND($B35<>0,AT35=\"\",AU35=\"\"),\"* No olvide ingresar la columna \"&AT$32&\"\"&\" (Digite CERO si no tiene).\",IF((B35<AT35+AU35),\"* La suma de las columna TRANS NO DEBE ser superior al Total de Procesados. \",\"\"))","v":""},{"$f":"IF(AND($B35<>0,AV35=\"\"),\"* No olvide ingresar la columna \"&AV$32&\"\"&\" (Digite CERO si no tiene).\",IF(B35<AV35,\"* La columna Pueblos Originarios NO DEBE ser superior al Total Procesados. \",\"\"))","v":""},{"$f":"IF(AND($B35<>0,AW35=\"\"),\"* No olvide ingresar la columna \"&AW$32&\"\"&\" (Digite CERO si no tiene).\",IF(B35<AW35,\"* La columna Migrantes NO DEBE ser superior al Total Procesados. \",\"\"))","v":""},null,null,null,null,null,{"$f":"IF(N35<O35,\"* El Total de Procesados debe ser mayor o igual al Total de Reactivos en el grupo de edad  \"&N$33&\"\"&\" \",\"\")","v":""},{"$f":"IF(P35<Q35,\"* El Total de Procesados debe ser mayor o igual al Total de Reactivos en el grupo de edad  \"&P$33&\"\"&\" \",\"\")","v":""},{"$f":"IF(R35<S35,\"* El Total de Procesados debe ser mayor o igual al Total de Reactivos en el grupo de edad  \"&R$33&\"\"&\" \",\"\")","v":""},{"$f":"IF(T35<U35,\"* El Total de Procesados debe ser mayor o igual al Total de Reactivos en el grupo de edad  \"&T$33&\"\"&\" \",\"\")","v":""},{"$f":"IF(V35<W35,\"* El Total de Procesados debe ser mayor o igual al Total de Reactivos en el grupo de edad  \"&V$33&\"\"&\" \",\"\")","v":""},{"$f":"IF(X35<Y35,\"* El Total de Procesados debe ser mayor o igual al Total de Reactivos en el grupo de edad  \"&X$33&\"\"&\" \",\"\")","v":""},{"$f":"IF(Z35<AA35,\"* El Total de Procesados debe ser mayor o igual al Total de Reactivos en el grupo de edad  \"&Z$33&\"\"&\" \",\"\")","v":""},{"$f":"IF(AB35<AC35,\"* El Total de Procesados debe ser mayor o igual al Total de Reactivos en el grupo de edad  \"&AB$33&\"\"&\" \",\"\")","v":""},{"$f":"IF(AD35<AE35,\"* El Total de Procesados debe ser mayor o igual al Total de Reactivos en el grupo de edad  \"&AD$33&\"\"&\" \",\"\")","v":""},{"$f":"IF(AF35<AG35,\"* El Total de Procesados debe ser mayor o igual al Total de Reactivos en el grupo de edad  \"&AF$33&\"\"&\" \",\"\")","v":""},{"$f":"IF(AH35<AI35,\"* El Total de Procesados debe ser mayor o igual al Total de Reactivos en el grupo de edad  \"&AH$33&\"\"&\" \",\"\")","v":""},{"$f":"IF(AJ35<AK35,\"* El Total de Procesados debe ser mayor o igual al Total de Reactivos en el grupo de edad  \"&AJ$33&\"\"&\" \",\"\")","v":""},{"$f":"IF(AL35<AM35,\"* El Total de Procesados debe ser mayor o igual al Total de Reactivos en el grupo de edad  \"&AL$33&\"\"&\" \",\"\")","v":""},{"$f":"IF(AN35<AO35,\"* El Total de Procesados debe ser mayor o igual al Total de Reactivos en el grupo de edad  \"&AN$33&\"\"&\" \",\"\")","v":""},{"$f":"IF(AP35<AQ35,\"* El Total de Procesados debe ser mayor o igual al Total de Reactivos en el grupo de edad  \"&AP$33&\"\"&\" \",\"\")","v":""},null,null,{"$f":"IF(B35<>(AR35+ AS35),1,0)","v":0},{"$f":"IF(AND($B35<>0,AT35=\"\",AU35=\"\"),1,IF((B35<AT35+AU35),1,0))","v":0},{"$f":"IF(AND($B35<>0,AV35=\"\"),1,IF(B35<AV35,1,0))","v":0},{"$f":"IF(AND($B35<>0,AW35=\"\"),1,IF(B35<AW35,1,0))","v":0},null,null,null,null,null,{"$f":"IF(N35<O35,1,0)","v":0},{"$f":"IF(P35<Q35,1,0)","v":0},{"$f":"IF(R35<S35,1,0)","v":0},{"$f":"IF(T35<U35,1,0)","v":0},{"$f":"IF(V35<W35,1,0)","v":0},{"$f":"IF(X35<Y35,1,0)","v":0},{"$f":"IF(Z35<AA35,1,0)","v":0},{"$f":"IF(AB35<AC35,1,0)","v":0},{"$f":"IF(AD35<AE35,1,0)","v":0},{"$f":"IF(AF35<AG35,1,0)","v":0},{"$f":"IF(AH35<AI35,1,0)","v":0},{"$f":"IF(AJ35<AK35,1,0)","v":0},{"$f":"IF(AL35<AM35,1,0)","v":0},{"$f":"IF(AN35<AO35,1,0)","v":0},{"$f":"IF(AP35<AQ35,1,0)","v":0}]
["GESTANTES SEGUNDO TRIMESTRE EMBARAZO",0,0,null,null,null,null,null,null,null,null,null,null,null,null,null,null,null,null,null,null,null,null,null,null,null,null,null,null,null,null,null,null,null,null,null,null,null,null,null,null,null,null,null,null,null,null,null,null,{"$f":"$CA36&$CB36&$CC36&$CD36&$CE36&$CF36&$CG36&$CH36&$CI36&$CJ36&$CK36&$CL36&$CM36&$CN36&$CO36&$CP36&$CQ36&$CR36&$CS36&$CT36&$CU36&$CV36&$CW36&$CX36","v":""},null,null,null,null,null,null,null,null,null,null,null,null,null,null,null,null,null,null,null,null,null,null,null,null,null,null,null,null,{"$f":"IF(B36<>(AR36+ AS36),\"* La suma de las columnas POR SEXO (Procesados) DEBE SER IGUAL al Total Procesados. \",\"\")","v":""},{"$f":"IF(AND($B36<>0,AT36=\"\",AU36=\"\"),\"* No olvide ingresar la columna \"&AT$32&\"\"&\" (Digite CERO si no tiene).\",IF((B36<AT36+AU36),\"* La suma de las columna TRANS NO DEBE ser superior al Total de Procesados. \",\"\"))","v":""},{"$f":"IF(AND($B36<>0,AV36=\"\"),\"* No olvide ingresar la columna \"&AV$32&\"\"&\" (Digite CERO si no tiene).\",IF(B36<AV36,\"* La columna Pueblos Originarios NO DEBE ser superior al Total Procesados. \",\"\"))","v":""},{"$f":"IF(AND($B36<>0,AW36=\"\"),\"* No olvide ingresar la columna \"&AW$32&\"\"&\" (Digite CERO si no tiene).\",IF(B36<AW36,\"* La columna Migrantes NO DEBE ser superior al Total Procesados. \",\"\"))","v":""},null,null,null,null,null,{"$f":"IF(N36<O36,\"* El Total de Procesados debe ser mayor o igual al Total de Reactivos en el grupo de edad  \"&N$33&\"\"&\" \",\"\")","v":""},{"$f":"IF(P36<Q36,\"* El Total de Procesados debe ser mayor o igual al Total de Reactivos en el grupo de edad  \"&P$33&\"\"&\" \",\"\")","v":""},{"$f":"IF(R36<S36,\"* El Total de Procesados debe ser mayor o igual al Total de Reactivos en el grupo de edad  \"&R$33&\"\"&\" \",\"\")","v":""},{"$f":"IF(T36<U36,\"* El Total de Procesados debe ser mayor o igual al Total de Reactivos en el grupo de edad  \"&T$33&\"\"&\" \",\"\")","v":""},{"$f":"IF(V36<W36,\"* El Total de Procesados debe ser mayor o igual al Total de Reactivos en el grupo de edad  \"&V$33&\"\"&\" \",\"\")","v":""},{"$f":"IF(X36<Y36,\"* El Total de Procesados debe ser mayor o igual al Total de Reactivos en el grupo de edad  \"&X$33&\"\"&\" \",\"\")","v":""},{"$f":"IF(Z36<AA36,\"* El Total de Procesados debe ser mayor o igual al Total de Reactivos en el grupo de edad  \"&Z$33&\"\"&\" \",\"\")","v":""},{"$f":"IF(AB36<AC36,\"* El Total de Procesados debe ser mayor o igual al Total de Reactivos en el grupo de edad  \"&AB$33&\"\"&\" \",\"\")","v":""},{"$f":"IF(AD36<AE36,\"* El Total de Procesados debe ser mayor o igual al Total de Reactivos en el grupo de edad  \"&AD$33&\"\"&\" \",\"\")","v":""},{"$f":"IF(AF36<AG36,\"* El Total de Procesados debe ser mayor o igual al Total de Reactivos en el grupo de edad  \"&AF$33&\"\"&\" \",\"\")","v":""},{"$f":"IF(AH36<AI36,\"* El Total de Procesados debe ser mayor o igual al Total de Reactivos en el grupo de edad  \"&AH$33&\"\"&\" \",\"\")","v":""},{"$f":"IF(AJ36<AK36,\"* El Total de Procesados debe ser mayor o igual al Total de Reactivos en el grupo de edad  \"&AJ$33&\"\"&\" \",\"\")","v":""},{"$f":"IF(AL36<AM36,\"* El Total de Procesados debe ser mayor o igual al Total de Reactivos en el grupo de edad  \"&AL$33&\"\"&\" \",\"\")","v":""},{"$f":"IF(AN36<AO36,\"* El Total de Procesados debe ser mayor o igual al Total de Reactivos en el grupo de edad  \"&AN$33&\"\"&\" \",\"\")","v":""},{"$f":"IF(AP36<AQ36,\"* El Total de Procesados debe ser mayor o igual al Total de Reactivos en el grupo de edad  \"&AP$33&\"\"&\" \",\"\")","v":""},null,null,{"$f":"IF(B36<>(AR36+ AS36),1,0)","v":0},{"$f":"IF(AND($B36<>0,AT36=\"\",AU36=\"\"),1,IF((B36<AT36+AU36),1,0))","v":0},{"$f":"IF(AND($B36<>0,AV36=\"\"),1,IF(B36<AV36,1,0))","v":0},{"$f":"IF(AND($B36<>0,AW36=\"\"),1,IF(B36<AW36,1,0))","v":0},null,null,null,null,null,{"$f":"IF(N36<O36,1,0)","v":0},{"$f":"IF(P36<Q36,1,0)","v":0},{"$f":"IF(R36<S36,1,0)","v":0},{"$f":"IF(T36<U36,1,0)","v":0},{"$f":"IF(V36<W36,1,0)","v":0},{"$f":"IF(X36<Y36,1,0)","v":0},{"$f":"IF(Z36<AA36,1,0)","v":0},{"$f":"IF(AB36<AC36,1,0)","v":0},{"$f":"IF(AD36<AE36,1,0)","v":0},{"$f":"IF(AF36<AG36,1,0)","v":0},{"$f":"IF(AH36<AI36,1,0)","v":0},{"$f":"IF(AJ36<AK36,1,0)","v":0},{"$f":"IF(AL36<AM36,1,0)","v":0},{"$f":"IF(AN36<AO36,1,0)","v":0},{"$f":"IF(AP36<AQ36,1,0)","v":0}]
["GESTANTES TERCER TRIMESTRE EMBARAZO",0,0,null,null,null,null,null,null,null,null,null,null,null,null,null,null,null,null,null,null,null,null,null,null,null,null,null,null,null,null,null,null,null,null,null,null,null,null,null,null,null,null,null,null,null,null,null,null,"",null,null,null,null,null,null,null,null,null,null,null,null,null,null,null,null,null,null,null,null,null,null,null,null,null,null,null,null,"","","","",null,null,null,null,null,"","","","","","","","","","","","","","","",null,null,0,0,0,0,null,null,null,null,null,0,0,0,0,0,0,0,0,0,0,0,0,0,0,0]
["GESTANTES TRIMESTRE EMBARAZO IGNORADO",0,0,null,null,null,null,null,null,null,null,null,null,null,null,null,null,null,null,null,null,null,null,null,null,null,null,null,null,null,null,null,null,null,null,null,null,null,null,null,null,null,null,null,null,null,null,null,null,"",null,null,null,null,null,null,null,null,null,null,null,null,null,null,null,null,null,null,null,null,null,null,null,null,null,null,null,null,"","","","",null,null,null,null,null,"","","","","","","","","","","","","","","",null,null,0,0,0,0,null,null,null,null,null,0,0,0,0,0,0,0,0,0,0,0,0,0,0,0]
["GESTANTES EN SEGUIMIENTO POR DIAGNÓSTICO SÍFILIS",0,0,null,null,null,null,null,null,null,null,null,null,null,null,null,null,null,null,null,null,null,null,null,null,null,null,null,null,null,null,null,null,null,null,null,null,null,null,null,null,null,null,null,null,null,null,null,null,"",null,null,null,null,null,null,null,null,null,null,null,null,null,null,null,null,null,null,null,null,null,null,null,null,null,null,null,null,"","","","",null,null,null,null,null,"","","","","","","","","","","","","","","",null,null,0,0,0,0,null,null,null,null,null,0,0,0,0,0,0,0,0,0,0,0,0,0,0,0]
["PAREJA DE GESTANTE CON SEROLOGÍA REACTIVA",0,0,null,null,null,null,null,null,null,null,null,null,null,null,null,null,null,null,null,null,null,null,null,null,null,null,null,null,null,null,null,null,null,null,null,null,null,null,null,null,null,null,null,null,null,null,null,null,"",null,null,null,null,null,null,null,null,null,null,null,null,null,null,null,null,null,null,null,null,null,null,null,null,null,null,null,null,"","","","",null,null,null,null,null,"","","","","","","","","","","","","","","",null,null,0,0,0,0,null,null,null,null,null,0,0,0,0,0,0,0,0,0,0,0,0,0,0,0]
["MUJERES QUE INGRESAN A MATERNIDAD POR PARTO",0,0,null,null,null,null,null,null,null,null,null,null,null,null,null,null,null,null,null,null,null,null,null,null,null,null,null,null,null,null,null,null,null,null,null,null,null,null,null,null,null,null,null,null,null,null,null,null,"",null,null,null,null,null,null,null,null,null,null,null,null,null,null,null,null,null,null,null,null,null,null,null,null,null,null,null,null,"","","","",null,null,null,null,null,"","","","","","","","","","","","","","","",null,null,0,0,0,0,null,null,null,null,null,0,0,0,0,0,0,0,0,0,0,0,0,0,0,0]
["MUJERES QUE INGRESAN POR ABORTO",0,0,null,null,null,null,null,null,null,null,null,null,null,null,null,null,null,null,null,null,null,null,null,null,null,null,null,null,null,null,null,null,null,null,null,null,null,null,null,null,null,null,null,null,null,null,null,null,"",null,null,null,null,null,null,null,null,null,null,null,null,null,null,null,null,null,null,null,null,null,null,null,null,null,null,null,null,"","","","",null,null,null,null,null,"","","","","","","","","","","","","","","",null,null,0,0,0,0,null,null,null,null,null,0,0,0,0,0,0,0,0,0,0,0,0,0,0,0]
["MUJERES EN CONTROL GINECOLÓGICO",{"$f":"+D43+F43+H43+J43+L43+N43+P43+R43+T43+V43+X43+Z43+AB43+AD43+AF43+AH43+AJ43+AL43+AN43+AP43","v":0},{"$f":"+E43+G43+I43+K43+M43+O43+Q43+S43+U43+W43+Y43+AA43+AC43+AE43+AG43+AI43+AK43+AM43+AO43+AQ43","v":0},null,null,null,null,null,null,null,null,null,null,null,null,null,null,null,null,null,null,null,null,null,null,null,null,null,null,null,null,null,null,null,null,null,null,null,null,null,null,null,null,null,null,null,null,null,null,"",null,null,null,null,null,null,null,null,null,null,null,null,null,null,null,null,null,null,null,null,null,null,null,null,null,null,null,null,"","","",{"$f":"IF(AND($B43<>0,AW43=\"\"),\"* No olvide ingresar la columna \"&AW$32&\"\"&\" (Digite CERO si no tiene).\",IF(B43<AW43,\"* La columna Migrantes NO DEBE ser superior al Total Procesados. \",\"\"))","v":""},{"$f":"IF(D43<E43,\"* El Total de Procesados debe ser mayor o igual al Total de Reactivos en el grupo de edad  \"&D$33&\"\"&\" \",\"\")","v":""},{"$f":"IF(F43<G43,\"* El Total de Procesados debe ser mayor o igual al Total de Reactivos en el grupo de edad  \"&F$33&\"\"&\" \",\"\")","v":""},{"$f":"IF(H43<I43,\"* El Total de Procesados debe ser mayor o igual al Total de Reactivos en el grupo de edad  \"&H$33&\"\"&\" \",\"\")","v":""},{"$f":"IF(J43<K43,\"* El Total de Procesados debe ser mayor o igual al Total de Reactivos en el grupo de edad  \"&J$33&\"\"&\" \",\"\")","v":""},{"$f":"IF(L43<M43,\"* El Total de Procesados debe ser mayor o igual al Total de Reactivos en el grupo de edad  \"&L$33&\"\"&\" \",\"\")","v":""},"","","","","","","","","","","","","","","",null,null,0,0,0,0,{"$f":"IF(D43<E43,1,0)","v":0},{"$f":"IF(F43<G43,1,0)","v":0},{"$f":"IF(H43<I43,1,0)","v":0},{"$f":"IF(J43<K43,1,0)","v":0},{"$f":"IF(L43<M43,1,0)","v":0},{"$f":"IF(N43<O43,1,0)","v":0},{"$f":"IF(P43<Q43,1,0)","v":0},{"$f":"IF(R43<S43,1,0)","v":0},{"$f":"IF(T43<U43,1,0)","v":0},{"$f":"IF(V43<W43,1,0)","v":0},{"$f":"IF(X43<Y43,1,0)","v":0},{"$f":"IF(Z43<AA43,1,0)","v":0},{"$f":"IF(AB43<AC43,1,0)","v":0},{"$f":"IF(AD43<AE43,1,0)","v":0},{"$f":"IF(AF43<AG43,1,0)","v":0},{"$f":"IF(AH43<AI43,1,0)","v":0},{"$f":"IF(AJ43<AK43,1,0)","v":0},{"$f":"IF(AL43<AM43,1,0)","v":0},{"$f":"IF(AN43<AO43,1,0)","v":0},{"$f":"IF(AP43<AQ43,1,0)","v":0}]
["RECIÉN NACIDO Y LACTANTE PARA DETECCIÓN DE SÍFILIS CONGÉNITA",{"$f":"+D44+F44+H44","v":0},{"$f":"+E44+G44+I44","v":0},null,null,null,null,null,null,null,null,null,null,null,null,null,null,null,null,null,null,null,null,null,null,null,null,null,null,null,null,null,null,null,null,null,null,null,null,null,null,null,null,null,null,null,null,null,null,"",null,null,null,null,null,null,null,null,null,null,null,null,null,null,null,null,null,null,null,null,null,null,null,null,null,null,null,null,"","","","",{"$f":"IF(D44<E44,\"* El Total de Procesados debe ser mayor o igual al Total de Reactivos en el grupo de edad  \"&D$33&\"\"&\" \",\"\")","v":""},{"$f":"IF(F44<G44,\"* El Total de Procesados debe ser mayor o igual al Total de Reactivos en el grupo de edad  \"&F$33&\"\"&\" \",\"\")","v":""},{"$f":"IF(H44<I44,\"* El Total de Procesados debe ser mayor o igual al Total de Reactivos en el grupo de edad  \"&H$33&\"\"&\" \",\"\")","v":""},null,null,null,null,null,null,null,null,null,null,null,null,null,null,null,null,null,null,null,0,0,0,0,0,0,0]
["PERSONAS EN CONTROL POR COMERCIO SEXUAL",{"$f":"+P45+R45+T45+V45+X45+Z45+AB45+AD45+AF45+AH45+AJ45+AL45+AN45+AP45","v":0},{"$f":"+Q45+S45+U45+W45+Y45+AA45+AC45+AE45+AG45+AI45+AK45+AM45+AO45+AQ45","v":0},null,null,null,null,null,null,null,null,null,null,null,null,null,null,null,null,null,null,null,null,null,null,null,null,null,null,null,null,null,null,null,null,null,null,null,null,null,null,null,null,null,null,null,null,null,null,"",null,null,null,null,null,null,null,null,null,null,null,null,null,null,null,null,null,null,null,null,null,null,null,null,null,null,null,null,"","","","","","","",{"$f":"IF(J45<K45,\"* El Total de Procesados debe ser mayor o igual al Total de Reactivos en el grupo de edad  \"&J$33&\"\"&\" \",\"\")","v":""},{"$f":"IF(L45<M45,\"* El Total de Procesados debe ser mayor o igual al Total de Reactivos en el grupo de edad  \"&L$33&\"\"&\" \",\"\")","v":""},{"$f":"IF(N45<O45,\"* El Total de Procesados debe ser mayor o igual al Total de Reactivos en el grupo de edad  \"&N$33&\"\"&\" \",\"\")","v":""},{"$f":"IF(P45<Q45,\"* El Total de Procesados debe ser mayor o igual al Total de Reactivos en el grupo de edad  \"&P$33&\"\"&\" \",\"\")","v":""},{"$f":"IF(R45<S45,\"* El Total de Procesados debe ser mayor o igual al Total de Reactivos en el grupo de edad  \"&R$33&\"\"&\" \",\"\")","v":""},{"$f":"IF(T45<U45,\"* El Total de Procesados debe ser mayor o igual al Total de Reactivos en el grupo de edad  \"&T$33&\"\"&\" \",\"\")","v":""},{"$f":"IF(V45<W45,\"* El Total de Procesados debe ser mayor o igual al Total de Reactivos en el grupo de edad  \"&V$33&\"\"&\" \",\"\")","v":""},{"$f":"IF(X45<Y45,\"* El Total de Procesados debe ser mayor o igual al Total de Reactivos en el grupo de edad  \"&X$33&\"\"&\" \",\"\")","v":""},{"$f":"IF(Z45<AA45,\"* El Total de Procesados debe ser mayor o igual al Total de Reactivos en el grupo de edad  \"&Z$33&\"\"&\" \",\"\")","v":""},{"$f":"IF(AB45<AC45,\"* El Total de Procesados debe ser mayor o igual al Total de Reactivos en el grupo de edad  \"&AB$33&\"\"&\" \",\"\")","v":""},{"$f":"IF(AD45<AE45,\"* El Total de Procesados debe ser mayor o igual al Total de Reactivos en el grupo de edad  \"&AD$33&\"\"&\" \",\"\")","v":""},{"$f":"IF(AF45<AG45,\"* El Total de Procesados debe ser mayor o igual al Total de Reactivos en el grupo de edad  \"&AF$33&\"\"&\" \",\"\")","v":""},{"$f":"IF(AH45<AI45,\"* El Total de Procesados debe ser mayor o igual al Total de Reactivos en el grupo de edad  \"&AH$33&\"\"&\" \",\"\")","v":""},{"$f":"IF(AJ45<AK45,\"* El Total de Procesados debe ser mayor o igual al Total de Reactivos en el grupo de edad  \"&AJ$33&\"\"&\" \",\"\")","v":""},{"$f":"IF(AL45<AM45,\"* El Total de Procesados debe ser mayor o igual al Total de Reactivos en el grupo de edad  \"&AL$33&\"\"&\" \",\"\")","v":""},{"$f":"IF(AN45<AO45,\"* El Total de Procesados debe ser mayor o igual al Total de Reactivos en el grupo de edad  \"&AN$33&\"\"&\" \",\"\")","v":""},{"$f":"IF(AP45<AQ45,\"* El Total de Procesados debe ser mayor o igual al Total de Reactivos en el grupo de edad  \"&AP$33&\"\"&\" \",\"\")","v":""},null,null,0,0,0,0,0,0,0,{"$f":"IF(J45<K45,1,0)","v":0},{"$f":"IF(L45<M45,1,0)","v":0},{"$f":"IF(N45<O45,1,0)","v":0},{"$f":"IF(P45<Q45,1,0)","v":0},{"$f":"IF(R45<S45,1,0)","v":0},{"$f":"IF(T45<U45,1,0)","v":0},{"$f":"IF(V45<W45,1,0)","v":0},{"$f":"IF(X45<Y45,1,0)","v":0},{"$f":"IF(Z45<AA45,1,0)","v":0},{"$f":"IF(AB45<AC45,1,0)","v":0},{"$f":"IF(AD45<AE45,1,0)","v":0},{"$f":"IF(AF45<AG45,1,0)","v":0},{"$f":"IF(AH45<AI45,1,0)","v":0},{"$f":"IF(AJ45<AK45,1,0)","v":0},{"$f":"IF(AL45<AM45,1,0)","v":0},{"$f":"IF(AN45<AO45,1,0)","v":0},{"$f":"IF(AP45<AQ45,1,0)","v":0}]
["PERSONAS EN CONTROL FECUNDIDAD",{"$f":"+N46+P46+R46+T46+V46+X46+Z46+AB46+AD46+AF46+AH46+AJ46+AL46+AN46+AP46","v":0},{"$f":"+O46+Q46+S46+U46+W46+Y46+AA46+AC46+AE46+AG46+AI46+AK46+AM46+AO46+AQ46","v":0},null,null,null,null,null,null,null,null,null,null,null,null,null,null,null,null,null,null,null,null,null,null,null,null,null,null,null,null,null,null,null,null,null,null,null,null,null,null,null,null,null,null,null,null,null,null,"",null,null,null,null,null,null,null,null,null,null,null,null,null,null,null,null,null,null,null,null,null,null,null,null,null,null,null,null,"","","","","","","",{"$f":"IF(J46<K46,\"* El Total de Procesados debe ser mayor o igual al Total de Reactivos en el grupo de edad  \"&J$10&\"\"&\" \",\"\")","v":""},{"$f":"IF(L46<M46,\"* El Total de Procesados debe ser mayor o igual al Total de Reactivos en el grupo de edad  \"&L$10&\"\"&\" \",\"\")","v":""},"","","","","","","","","","","","","","","",null,null,0,0,0,0,0,0,0,0,0,0,0,0,0,0,0,0,0,0,0,0,0,0,0,0]
["CONSULTANTES POR ITS",{"$f":"+D47+F47+H47+J47+L47+N47+P47+R47+T47+V47+X47+Z47+AB47+AD47+AF47+AH47+AJ47+AL47+AN47+AP47","v":0},{"$f":"+E47+G47+I47+K47+M47+O47+Q47+S47+U47+W47+Y47+AA47+AC47+AE47+AG47+AI47+AK47+AM47+AO47+AQ47","v":0},null,null,null,null,null,null,null,null,null,null,null,null,null,null,null,null,null,null,null,null,null,null,null,null,null,null,null,null,null,null,null,null,null,null,null,null,null,null,null,null,null,null,null,null,null,null,"",null,null,null,null,null,null,null,null,null,null,null,null,null,null,null,null,null,null,null,null,null,null,null,null,null,null,null,null,"","","","","","","","","","","","","","","","","","","","","","","","",null,null,0,0,0,0,0,0,0,0,0,0,0,0,0,0,0,0,0,0,0,0,0,0,0,0]
["PERSONAS EMP/EMPAM ",{"$f":"+P48+R48+T48+V48+X48+Z48+AB48+AD48+AF48+AH48+AJ48+AL48+AN48+AP48","v":0},{"$f":"+Q48+S48+U48+W48+Y48+AA48+AC48+AE48+AG48+AI48+AK48+AM48+AO48+AQ48","v":0},null,null,null,null,null,null,null,null,null,null,null,null,null,null,null,null,null,null,null,null,null,null,null,null,null,null,null,null,null,null,null,null,null,null,null,null,null,null,null,null,null,null,null,null,null,null,"",null,null,null,null,null,null,null,null,null,null,null,null,null,null,null,null,null,null,null,null,null,null,null,null,null,null,null,null,"","","","","","","","","","","","","","","","","","","","","","","","",null,null,0,0,0,0,0,0,0,0,0,0,0,0,0,0,0,0,0,0,0,0,0,0,0,0]
["DONANTES DE SANGRE",{"$f":"+P49+R49+T49+V49+X49+Z49+AB49+AD49+AF49+AH49","v":0},{"$f":"+Q49+S49+U49+W49+Y49+AA49+AC49+AE49+AG49+AI49","v":0},null,null,null,null,null,null,null,null,null,null,null,null,null,null,null,null,null,null,null,null,null,null,null,null,null,null,null,null,null,null,null,null,null,null,null,null,null,null,null,null,null,null,null,null,null,null,"",null,null,null,null,null,null,null,null,null,null,null,null,null,null,null,null,null,null,null,null,null,null,null,null,null,null,null,null,"","","","","","","","","","","","","","","","","","","","","","","","",null,null,0,0,0,0,0,0,0,0,0,0,0,0,0,0,0,0,0,0,0,0,0,0,0,0]
["DONANTES DE ÓRGANOS Y/O TEJIDOS",{"$f":"+D50+F50+H50+J50+L50+N50+P50+R50+T50+V50+X50+Z50+AB50+AD50+AF50+AH50+AJ50+AL50+AN50+AP50","v":0},0,null,null,null,null,null,null,null,null,null,null,null,null,null,null,null,null,null,null,null,null,null,null,null,null,null,null,null,null,null,null,null,null,null,null,null,null,null,null,null,null,null,null,null,null,null,null,"",null,null,null,null,null,null,null,null,null,null,null,null,null,null,null,null,null,null,null,null,null,null,null,null,null,null,null,null,"","","","","","","","","","","","","","","","","","","","","","","","",null,null,0,0,0,0,0,0,0,0,0,0,0,0,0,0,0,0,0,0,0,0,0,0,0,0]
["PACIENTES EN DIÁLISIS",0,0,null,null,null,null,null,null,null,null,null,null,null,null,null,null,null,null,null,null,null,null,null,null,null,null,null,null,null,null,null,null,null,null,null,null,null,null,null,null,null,null,null,null,null,null,null,null,"",null,null,null,null,null,null,null,null,null,null,null,null,null,null,null,null,null,null,null,null,null,null,null,null,null,null,null,null,"","","","","","","","","","","","","","","","","","","","","","","","",null,null,0,0,0,0,0,0,0,0,0,0,0,0,0,0,0,0,0,0,0,0,0,0,0,0]
["VÍCTIMA DE VIOLENCIA SEXUAL",0,0,null,null,null,null,null,null,null,null,null,null,null,null,null,null,null,null,null,null,null,null,null,null,null,null,null,null,null,null,null,null,null,null,null,null,null,null,null,null,null,null,null,null,null,null,null,null,"",null,null,null,null,null,null,null,null,null,null,null,null,null,null,null,null,null,null,null,null,null,null,null,null,null,null,null,null,"","","","","","","","","","","","","","","","","","","","","","","","",null,null,0,0,0,0,0,0,0,0,0,0,0,0,0,0,0,0,0,0,0,0,0,0,0,0]
[]
["SECCIÓN A.3: EXAMEN RPR POR GRUPO DE USUARIOS (Uso exclusivo de establecimientos con Laboratorio que procesan)"]
["GRUPO DE PESQUISA","TOTAL",null,"POR EDAD (en meses - años)",null,null,null,null,null,null,null,null,null,null,null,null,null,null,null,null,null,null,null,null,null,null,null,null,null,null,null,null,null,null,null,null,null,null,null,null,null,null,null,"POR SEXO\n(Procesados)",null,"TRANS",null,"Pueblos Originarios","Migrantes"]
[null,null,null,"Menor de 6 meses",null,"6 a 11 meses",null,"12-24 meses",null,"3 a 4 años",null,"5 a 9 años",null,"10 - 14 años",null,"15 - 19 años",null,"20 - 24 años",null,"25 a 29 años",null,"30 a 34 años",null,"35 a 39 años",null,"40 a 44 años",null,"45 a 49 años",null,"50 a 54 años",null,"55 a 59 años",null,"60 a 64 años",null,"65 a 69 años",null,"70 a 74 años",null,"75 a 79 años",null,"80 y más años",null,"Hombres","Mujeres"]
[null,"Procesados","Reactivos","Procesados","Reactivos","Procesados","Reactivos","Procesados","Reactivos","Procesados","Reactivos","Procesados","Reactivos","Procesados","Reactivos","Procesados","Reactivos","Procesados","Reactivos","Procesados","Reactivos","Procesados","Reactivos","Procesados","Reactivos","Procesados","Reactivos","Procesados","Reactivos","Procesados","Reactivos","Procesados","Reactivos","Procesados","Reactivos","Procesados","Reactivos","Procesados","Reactivos","Procesados","Reactivos","Procesados","Reactivos",null,null,"Masculino","Femenino"]
["GESTANTES PRIMER TRIMESTRE EMBARAZO",{"$f":"+N58+P58+R58+T58+V58+X58+Z58+AB58+AD58+AF58+AH58+AJ58+AL58+AN58+AP58","v":0},0,null,null,null,null,null,null,null,null,null,null,null,null,null,null,null,null,null,null,null,null,null,null,null,null,null,null,null,null,null,null,null,null,null,null,null,null,null,null,null,null,null,null,null,null,null,null,{"$f":"$CA58&$CB58&$CC58&$CD58&$CE58&$CF58&$CG58&$CH58&$CI58&$CJ58&$CK58&$CL58&$CM58&$CN58&$CO58&$CP58&$CQ58&$CR58&$CS58&$CT58&$CU58&$CV58&$CW58&$CX58","v":""},null,null,null,null,null,null,null,null,null,null,null,null,null,null,null,null,null,null,null,null,null,null,null,null,null,null,null,null,{"$f":"IF(B58<>(AR58+ AS58),\"* La suma de las columnas POR SEXO (Procesados) DEBE SER IGUAL al Total Procesados. \",\"\")","v":""},{"$f":"IF(AND($B58<>0,AT58=\"\",AU58=\"\"),\"* No olvide ingresar la columna \"&AT$32&\"\"&\" (Digite CERO si no tiene).\",IF((B58<AT58+AU58),\"* La suma de las columna TRANS NO DEBE ser superior al Total de Procesados. \",\"\"))","v":""},{"$f":"IF(AND($B58<>0,AV58=\"\"),\"* No olvide ingresar la columna \"&AV$32&\"\"&\" (Digite CERO si no tiene).\",IF(B58<AV58,\"* La columna Pueblos Originarios NO DEBE ser superior al Total Procesados. \",\"\"))","v":""},{"$f":"IF(AND($B58<>0,AW58=\"\"),\"* No olvide ingresar la columna \"&AW$32&\"\"&\" (Digite CERO si no tiene).\",IF(B58<AW58,\"* La columna Migrantes NO DEBE ser superior al Total Procesados. \",\"\"))","v":""},null,null,null,null,null,{"$f":"IF(N58<O58,\"* El Total de Procesados debe ser mayor o igual al Total de Reactivos en el grupo de edad  \"&N$33&\"\"&\" \",\"\")","v":""},{"$f":"IF(P58<Q58,\"* El Total de Procesados debe ser mayor o igual al Total de Reactivos en el grupo de edad  \"&P$33&\"\"&\" \",\"\")","v":""},{"$f":"IF(R58<S58,\"* El Total de Procesados debe ser mayor o igual al Total de Reactivos en el grupo de edad  \"&R$33&\"\"&\" \",\"\")","v":""},{"$f":"IF(T58<U58,\"* El Total de Procesados debe ser mayor o igual al Total de Reactivos en el grupo de edad  \"&T$33&\"\"&\" \",\"\")","v":""},{"$f":"IF(V58<W58,\"* El Total de Procesados debe ser mayor o igual al Total de Reactivos en el grupo de edad  \"&V$33&\"\"&\" \",\"\")","v":""},{"$f":"IF(X58<Y58,\"* El Total de Procesados debe ser mayor o igual al Total de Reactivos en el grupo de edad  \"&X$33&\"\"&\" \",\"\")","v":""},{"$f":"IF(Z58<AA58,\"* El Total de Procesados debe ser mayor o igual al Total de Reactivos en el grupo de edad  \"&Z$33&\"\"&\" \",\"\")","v":""},{"$f":"IF(AB58<AC58,\"* El Total de Procesados debe ser mayor o igual al Total de Reactivos en el grupo de edad  \"&AB$33&\"\"&\" \",\"\")","v":""},{"$f":"IF(AD58<AE58,\"* El Total de Procesados debe ser mayor o igual al Total de Reactivos en el grupo de edad  \"&AD$33&\"\"&\" \",\"\")","v":""},{"$f":"IF(AF58<AG58,\"* El Total de Procesados debe ser mayor o igual al Total de Reactivos en el grupo de edad  \"&AF$33&\"\"&\" \",\"\")","v":""},{"$f":"IF(AH58<AI58,\"* El Total de Procesados debe ser mayor o igual al Total de Reactivos en el grupo de edad  \"&AH$33&\"\"&\" \",\"\")","v":""},{"$f":"IF(AJ58<AK58,\"* El Total de Procesados debe ser mayor o igual al Total de Reactivos en el grupo de edad  \"&AJ$33&\"\"&\" \",\"\")","v":""},{"$f":"IF(AL58<AM58,\"* El Total de Procesados debe ser mayor o igual al Total de Reactivos en el grupo de edad  \"&AL$33&\"\"&\" \",\"\")","v":""},{"$f":"IF(AN58<AO58,\"* El Total de Procesados debe ser mayor o igual al Total de Reactivos en el grupo de edad  \"&AN$33&\"\"&\" \",\"\")","v":""},{"$f":"IF(AP58<AQ58,\"* El Total de Procesados debe ser mayor o igual al Total de Reactivos en el grupo de edad  \"&AP$33&\"\"&\" \",\"\")","v":""},null,null,{"$f":"IF(B58<>(AR58+ AS58),1,0)","v":0},{"$f":"IF(AND($B58<>0,AT58=\"\",AU58=\"\"),1,IF((B58<AT58+AU58),1,0))","v":0},{"$f":"IF(AND($B58<>0,AV58=\"\"),1,IF(B58<AV58,1,0))","v":0},{"$f":"IF(AND($B58<>0,AW58=\"\"),1,IF(AW58>B58,1,0))","v":0},null,null,null,null,null,{"$f":"IF(N58<O58,1,0)","v":0},{"$f":"IF(P58<Q58,1,0)","v":0},{"$f":"IF(R58<S58,1,0)","v":0},{"$f":"IF(T58<U58,1,0)","v":0},{"$f":"IF(V58<W58,1,0)","v":0},{"$f":"IF(X58<Y58,1,0)","v":0},{"$f":"IF(Z58<AA58,1,0)","v":0},{"$f":"IF(AB58<AC58,1,0)","v":0},{"$f":"IF(AD58<AE58,1,0)","v":0},{"$f":"IF(AF58<AG58,1,0)","v":0},{"$f":"IF(AH58<AI58,1,0)","v":0},{"$f":"IF(AJ58<AK58,1,0)","v":0},{"$f":"IF(AL58<AM58,1,0)","v":0},{"$f":"IF(AN58<AO58,1,0)","v":0},{"$f":"IF(AP58<AQ58,1,0)","v":0}]
["GESTANTES SEGUNDO TRIMESTRE EMBARAZO",0,0,null,null,null,null,null,null,null,null,null,null,null,null,null,null,null,null,null,null,null,null,null,null,null,null,null,null,null,null,null,null,null,null,null,null,null,null,null,null,null,null,null,null,null,null,null,null,"",null,null,null,null,null,null,null,null,null,null,null,null,null,null,null,null,null,null,null,null,null,null,null,null,null,null,null,null,{"$f":"IF(B59<>(AR59+ AS59),\"* La suma de las columnas POR SEXO (Procesados) DEBE SER IGUAL al Total Procesados. \",\"\")","v":""},{"$f":"IF(AND($B59<>0,AT59=\"\",AU59=\"\"),\"* No olvide ingresar la columna \"&AT$32&\"\"&\" (Digite CERO si no tiene).\",IF((B59<AT59+AU59),\"* La suma de las columna TRANS NO DEBE ser superior al Total de Procesados. \",\"\"))","v":""},{"$f":"IF(AND($B59<>0,AV59=\"\"),\"* No olvide ingresar la columna \"&AV$32&\"\"&\" (Digite CERO si no tiene).\",IF(B59<AV59,\"* La columna Pueblos Originarios NO DEBE ser superior al Total Procesados. \",\"\"))","v":""},{"$f":"IF(AND($B59<>0,AW59=\"\"),\"* No olvide ingresar la columna \"&AW$32&\"\"&\" (Digite CERO si no tiene).\",IF(B59<AW59,\"* La columna Migrantes NO DEBE ser superior al Total Procesados. \",\"\"))","v":""},null,null,null,null,null,{"$f":"IF(N59<O59,\"* El Total de Procesados debe ser mayor o igual al Total de Reactivos en el grupo de edad  \"&N$33&\"\"&\" \",\"\")","v":""},{"$f":"IF(P59<Q59,\"* El Total de Procesados debe ser mayor o igual al Total de Reactivos en el grupo de edad  \"&P$33&\"\"&\" \",\"\")","v":""},{"$f":"IF(R59<S59,\"* El Total de Procesados debe ser mayor o igual al Total de Reactivos en el grupo de edad  \"&R$33&\"\"&\" \",\"\")","v":""},{"$f":"IF(T59<U59,\"* El Total de Procesados debe ser mayor o igual al Total de Reactivos en el grupo de edad  \"&T$33&\"\"&\" \",\"\")","v":""},{"$f":"IF(V59<W59,\"* El Total de Procesados debe ser mayor o igual al Total de Reactivos en el grupo de edad  \"&V$33&\"\"&\" \",\"\")","v":""},{"$f":"IF(X59<Y59,\"* El Total de Procesados debe ser mayor o igual al Total de Reactivos en el grupo de edad  \"&X$33&\"\"&\" \",\"\")","v":""},{"$f":"IF(Z59<AA59,\"* El Total de Procesados debe ser mayor o igual al Total de Reactivos en el grupo de edad  \"&Z$33&\"\"&\" \",\"\")","v":""},{"$f":"IF(AB59<AC59,\"* El Total de Procesados debe ser mayor o igual al Total de Reactivos en el grupo de edad  \"&AB$33&\"\"&\" \",\"\")","v":""},{"$f":"IF(AD59<AE59,\"* El Total de Procesados debe ser mayor o igual al Total de Reactivos en el grupo de edad  \"&AD$33&\"\"&\" \",\"\")","v":""},{"$f":"IF(AF59<AG59,\"* El Total de Procesados debe ser mayor o igual al Total de Reactivos en el grupo de edad  \"&AF$33&\"\"&\" \",\"\")","v":""},{"$f":"IF(AH59<AI59,\"* El Total de Procesados debe ser mayor o igual al Total de Reactivos en el grupo de edad  \"&AH$33&\"\"&\" \",\"\")","v":""},{"$f":"IF(AJ59<AK59,\"* El Total de Procesados debe ser mayor o igual al Total de Reactivos en el grupo de edad  \"&AJ$33&\"\"&\" \",\"\")","v":""},{"$f":"IF(AL59<AM59,\"* El Total de Procesados debe ser mayor o igual al Total de Reactivos en el grupo de edad  \"&AL$33&\"\"&\" \",\"\")","v":""},{"$f":"IF(AN59<AO59,\"* El Total de Procesados debe ser mayor o igual al Total de Reactivos en el grupo de edad  \"&AN$33&\"\"&\" \",\"\")","v":""},{"$f":"IF(AP59<AQ59,\"* El Total de Procesados debe ser mayor o igual al Total de Reactivos en el grupo de edad  \"&AP$33&\"\"&\" \",\"\")","v":""},null,null,{"$f":"IF(B59<>(AR59+ AS59),1,0)","v":0},{"$f":"IF(AND($B59<>0,AT59=\"\",AU59=\"\"),1,IF((B59<AT59+AU59),1,0))","v":0},{"$f":"IF(AND($B59<>0,AV59=\"\"),1,IF(B59<AV59,1,0))","v":0},{"$f":"IF(AND($B59<>0,AW59=\"\"),1,IF(AW59>B59,1,0))","v":0},null,null,null,null,null,{"$f":"IF(N59<O59,1,0)","v":0},{"$f":"IF(P59<Q59,1,0)","v":0},{"$f":"IF(R59<S59,1,0)","v":0},{"$f":"IF(T59<U59,1,0)","v":0},{"$f":"IF(V59<W59,1,0)","v":0},{"$f":"IF(X59<Y59,1,0)","v":0},{"$f":"IF(Z59<AA59,1,0)","v":0},{"$f":"IF(AB59<AC59,1,0)","v":0},{"$f":"IF(AD59<AE59,1,0)","v":0},{"$f":"IF(AF59<AG59,1,0)","v":0},{"$f":"IF(AH59<AI59,1,0)","v":0},{"$f":"IF(AJ59<AK59,1,0)","v":0},{"$f":"IF(AL59<AM59,1,0)","v":0},{"$f":"IF(AN59<AO59,1,0)","v":0},{"$f":"IF(AP59<AQ59,1,0)","v":0}]
["GESTANTES TERCER TRIMESTRE EMBARAZO",0,0,null,null,null,null,null,null,null,null,null,null,null,null,null,null,null,null,null,null,null,null,null,null,null,null,null,null,null,null,null,null,null,null,null,null,null,null,null,null,null,null,null,null,null,null,null,null,"",null,null,null,null,null,null,null,null,null,null,null,null,null,null,null,null,null,null,null,null,null,null,null,null,null,null,null,null,"","","","",null,null,null,null,null,"","","","","","","","","","","","","","","",null,null,0,0,0,0,null,null,null,null,null,0,0,0,0,0,0,0,0,0,0,0,0,0,0,0]
["GESTANTES TRIMESTRE EMBARAZO IGNORADO",0,0,null,null,null,null,null,null,null,null,null,null,null,null,null,null,null,null,null,null,null,null,null,null,null,null,null,null,null,null,null,null,null,null,null,null,null,null,null,null,null,null,null,null,null,null,null,null,"",null,null,null,null,null,null,null,null,null,null,null,null,null,null,null,null,null,null,null,null,null,null,null,null,null,null,null,null,"","","","",null,null,null,null,null,"","","","","","","","","","","","","","","",null,null,0,0,0,0,null,null,null,null,null,0,0,0,0,0,0,0,0,0,0,0,0,0,0,0]
["GESTANTES EN SEGUIMIENTO POR DIAGNÓSTICO SÍFILIS",0,0,null,null,null,null,null,null,null,null,null,null,null,null,null,null,null,null,null,null,null,null,null,null,null,null,null,null,null,null,null,null,null,null,null,null,null,null,null,null,null,null,null,null,null,null,null,null,"",null,null,null,null,null,null,null,null,null,null,null,null,null,null,null,null,null,null,null,null,null,null,null,null,null,null,null,null,"","","","",null,null,null,null,null,"","","","","","","","","","","","","","","",null,null,0,0,0,0,null,null,null,null,null,0,0,0,0,0,0,0,0,0,0,0,0,0,0,0]
["PAREJA DE GESTANTE CON SEROLOGÍA REACTIVA",0,0,null,null,null,null,null,null,null,null,null,null,null,null,null,null,null,null,null,null,null,null,null,null,null,null,null,null,null,null,null,null,null,null,null,null,null,null,null,null,null,null,null,null,null,null,null,null,"",null,null,null,null,null,null,null,null,null,null,null,null,null,null,null,null,null,null,null,null,null,null,null,null,null,null,null,null,"","","","",null,null,null,null,null,"","","","","","","","","","","","","","","",null,null,0,0,0,0,null,null,null,null,null,0,0,0,0,0,0,0,0,0,0,0,0,0,0,0]
["MUJERES QUE INGRESAN A MATERNIDAD POR PARTO",0,0,null,null,null,null,null,null,null,null,null,null,null,null,null,null,null,null,null,null,null,null,null,null,null,null,null,null,null,null,null,null,null,null,null,null,null,null,null,null,null,null,null,null,null,null,null,null,"",null,null,null,null,null,null,null,null,null,null,null,null,null,null,null,null,null,null,null,null,null,null,null,null,null,null,null,null,"","","","",null,null,null,null,null,"","","","","","","","","","","","","","","",null,null,0,0,0,0,null,null,null,null,null,0,0,0,0,0,0,0,0,0,0,0,0,0,0,0]
["MUJERES QUE INGRESAN POR ABORTO",0,0,null,null,null,null,null,null,null,null,null,null,null,null,null,null,null,null,null,null,null,null,null,null,null,null,null,null,null,null,null,null,null,null,null,null,null,null,null,null,null,null,null,null,null,null,null,null,"",null,null,null,null,null,null,null,null,null,null,null,null,null,null,null,null,null,null,null,null,null,null,null,null,null,null,null,null,"","","","",null,null,null,null,null,"","","","","","","","","","","","","","","",null,null,0,0,0,0,null,null,null,null,null,0,0,0,0,0,0,0,0,0,0,0,0,0,0,0]
["MUJERES EN CONTROL GINECOLÓGICO",{"$f":"+D66+F66+H66+J66+L66+N66+P66+R66+T66+V66+X66+Z66+AB66+AD66+AF66+AH66+AJ66+AL66+AN66+AP66","v":0},{"$f":"+E66+G66+I66+K66+M66+O66+Q66+S66+U66+W66+Y66+AA66+AC66+AE66+AG66+AI66+AK66+AM66+AO66+AQ66","v":0},null,null,null,null,null,null,null,null,null,null,null,null,null,null,null,null,null,null,null,null,null,null,null,null,null,null,null,null,null,null,null,null,null,null,null,null,null,null,null,null,null,null,null,null,null,null,"",null,null,null,null,null,null,null,null,null,null,null,null,null,null,null,null,null,null,null,null,null,null,null,null,null,null,null,null,"","","",{"$f":"IF(AND($B66<>0,AW66=\"\"),\"* No olvide ingresar la columna \"&AW$32&\"\"&\" (Digite CERO si no tiene).\",IF(B66<AW66,\"* La columna Migrantes NO DEBE ser superior al Total Procesados. \",\"\"))","v":""},{"$f":"IF(D66<E66,\"* El Total de Procesados debe ser mayor o igual al Total de Reactivos en el grupo de edad  \"&D$33&\"\"&\" \",\"\")","v":""},{"$f":"IF(F66<G66,\"* El Total de Procesados debe ser mayor o igual al Total de Reactivos en el grupo de edad  \"&F$33&\"\"&\" \",\"\")","v":""},{"$f":"IF(H66<I66,\"* El Total de Procesados debe ser mayor o igual al Total de Reactivos en el grupo de edad  \"&H$33&\"\"&\" \",\"\")","v":""},{"$f":"IF(J66<K66,\"* El Total de Procesados debe ser mayor o igual al Total de Reactivos en el grupo de edad  \"&J$33&\"\"&\" \",\"\")","v":""},{"$f":"IF(L66<M66,\"* El Total de Procesados debe ser mayor o igual al Total de Reactivos en el grupo de edad  \"&L$33&\"\"&\" \",\"\")","v":""},"","","","","","","","","","","","","","","",null,null,0,0,0,0,{"$f":"IF(D66<E66,1,0)","v":0},{"$f":"IF(F66<G66,1,0)","v":0},{"$f":"IF(H66<I66,1,0)","v":0},{"$f":"IF(J66<K66,1,0)","v":0},{"$f":"IF(L66<M66,1,0)","v":0},{"$f":"IF(N66<O66,1,0)","v":0},{"$f":"IF(P66<Q66,1,0)","v":0},{"$f":"IF(R66<S66,1,0)","v":0},{"$f":"IF(T66<U66,1,0)","v":0},{"$f":"IF(V66<W66,1,0)","v":0},{"$f":"IF(X66<Y66,1,0)","v":0},{"$f":"IF(Z66<AA66,1,0)","v":0},{"$f":"IF(AB66<AC66,1,0)","v":0},{"$f":"IF(AD66<AE66,1,0)","v":0},{"$f":"IF(AF66<AG66,1,0)","v":0},{"$f":"IF(AH66<AI66,1,0)","v":0},{"$f":"IF(AJ66<AK66,1,0)","v":0},{"$f":"IF(AL66<AM66,1,0)","v":0},{"$f":"IF(AN66<AO66,1,0)","v":0},{"$f":"IF(AP66<AQ66,1,0)","v":0}]
["RECIÉN NACIDO Y LACTANTE PARA DETECCIÓN DE SÍFILIS CONGÉNITA",{"$f":"+D67+F67+H67","v":0},{"$f":"+E67+G67+I67","v":0},null,null,null,null,null,null,null,null,null,null,null,null,null,null,null,null,null,null,null,null,null,null,null,null,null,null,null,null,null,null,null,null,null,null,null,null,null,null,null,null,null,null,null,null,null,null,"",null,null,null,null,null,null,null,null,null,null,null,null,null,null,null,null,null,null,null,null,null,null,null,null,null,null,null,null,"","","",{"$f":"IF(AND($B67<>0,AW67=\"\"),\"* No olvide ingresar la columna \"&AW$32&\"\"&\" (Digite CERO si no tiene).\",IF(B67<AW67,\"* La columna Migrantes NO DEBE ser superior al Total Procesados. \",\"\"))","v":""},{"$f":"IF(D67<E67,\"* El Total de Procesados debe ser mayor o igual al Total de Reactivos en el grupo de edad  \"&D$33&\"\"&\" \",\"\")","v":""},{"$f":"IF(F67<G67,\"* El Total de Procesados debe ser mayor o igual al Total de Reactivos en el grupo de edad  \"&F$33&\"\"&\" \",\"\")","v":""},{"$f":"IF(H67<I67,\"* El Total de Procesados debe ser mayor o igual al Total de Reactivos en el grupo de edad  \"&H$33&\"\"&\" \",\"\")","v":""},null,null,null,null,null,null,null,null,null,null,null,null,null,null,null,null,null,null,null,0,0,0,0,0,0,0]
["PERSONAS EN CONTROL POR COMERCIO SEXUAL",{"$f":"+P68+R68+T68+V68+X68+Z68+AB68+AD68+AF68+AH68+AJ68+AL68+AN68+AP68","v":0},{"$f":"+Q68+S68+U68+W68+Y68+AA68+AC68+AE68+AG68+AI68+AK68+AM68+AO68+AQ68","v":0},null,null,null,null,null,null,null,null,null,null,null,null,null,null,null,null,null,null,null,null,null,null,null,null,null,null,null,null,null,null,null,null,null,null,null,null,null,null,null,null,null,null,null,null,null,null,"",null,null,null,null,null,null,null,null,null,null,null,null,null,null,null,null,null,null,null,null,null,null,null,null,null,null,null,null,"","","","","","","",{"$f":"IF(J68<K68,\"* El Total de Procesados debe ser mayor o igual al Total de Reactivos en el grupo de edad  \"&J$33&\"\"&\" \",\"\")","v":""},{"$f":"IF(L68<M68,\"* El Total de Procesados debe ser mayor o igual al Total de Reactivos en el grupo de edad  \"&L$33&\"\"&\" \",\"\")","v":""},{"$f":"IF(N68<O68,\"* El Total de Procesados debe ser mayor o igual al Total de Reactivos en el grupo de edad  \"&N$33&\"\"&\" \",\"\")","v":""},{"$f":"IF(P68<Q68,\"* El Total de Procesados debe ser mayor o igual al Total de Reactivos en el grupo de edad  \"&P$33&\"\"&\" \",\"\")","v":""},{"$f":"IF(R68<S68,\"* El Total de Procesados debe ser mayor o igual al Total de Reactivos en el grupo de edad  \"&R$33&\"\"&\" \",\"\")","v":""},{"$f":"IF(T68<U68,\"* El Total de Procesados debe ser mayor o igual al Total de Reactivos en el grupo de edad  \"&T$33&\"\"&\" \",\"\")","v":""},{"$f":"IF(V68<W68,\"* El Total de Procesados debe ser mayor o igual al Total de Reactivos en el grupo de edad  \"&V$33&\"\"&\" \",\"\")","v":""},{"$f":"IF(X68<Y68,\"* El Total de Procesados debe ser mayor o igual al Total de Reactivos en el grupo de edad  \"&X$33&\"\"&\" \",\"\")","v":""},{"$f":"IF(Z68<AA68,\"* El Total de Procesados debe ser mayor o igual al Total de Reactivos en el grupo de edad  \"&Z$33&\"\"&\" \",\"\")","v":""},{"$f":"IF(AB68<AC68,\"* El Total de Procesados debe ser mayor o igual al Total de Reactivos en el grupo de edad  \"&AB$33&\"\"&\" \",\"\")","v":""},{"$f":"IF(AD68<AE68,\"* El Total de Procesados debe ser mayor o igual al Total de Reactivos en el grupo de edad  \"&AD$33&\"\"&\" \",\"\")","v":""},{"$f":"IF(AF68<AG68,\"* El Total de Procesados debe ser mayor o igual al Total de Reactivos en el grupo de edad  \"&AF$33&\"\"&\" \",\"\")","v":""},{"$f":"IF(AH68<AI68,\"* El Total de Procesados debe ser mayor o igual al Total de Reactivos en el grupo de edad  \"&AH$33&\"\"&\" \",\"\")","v":""},{"$f":"IF(AJ68<AK68,\"* El Total de Procesados debe ser mayor o igual al Total de Reactivos en el grupo de edad  \"&AJ$33&\"\"&\" \",\"\")","v":""},{"$f":"IF(AL68<AM68,\"* El Total de Procesados debe ser mayor o igual al Total de Reactivos en el grupo de edad  \"&AL$33&\"\"&\" \",\"\")","v":""},{"$f":"IF(AN68<AO68,\"* El Total de Procesados debe ser mayor o igual al Total de Reactivos en el grupo de edad  \"&AN$33&\"\"&\" \",\"\")","v":""},{"$f":"IF(AP68<AQ68,\"* El Total de Procesados debe ser mayor o igual al Total de Reactivos en el grupo de edad  \"&AP$33&\"\"&\" \",\"\")","v":""},null,null,0,0,0,0,0,0,0,{"$f":"IF(J68<K68,1,0)","v":0},{"$f":"IF(L68<M68,1,0)","v":0},{"$f":"IF(N68<O68,1,0)","v":0},{"$f":"IF(P68<Q68,1,0)","v":0},{"$f":"IF(R68<S68,1,0)","v":0},{"$f":"IF(T68<U68,1,0)","v":0},{"$f":"IF(V68<W68,1,0)","v":0},{"$f":"IF(X68<Y68,1,0)","v":0},{"$f":"IF(Z68<AA68,1,0)","v":0},{"$f":"IF(AB68<AC68,1,0)","v":0},{"$f":"IF(AD68<AE68,1,0)","v":0},{"$f":"IF(AF68<AG68,1,0)","v":0},{"$f":"IF(AH68<AI68,1,0)","v":0},{"$f":"IF(AJ68<AK68,1,0)","v":0},{"$f":"IF(AL68<AM68,1,0)","v":0},{"$f":"IF(AN68<AO68,1,0)","v":0},{"$f":"IF(AP68<AQ68,1,0)","v":0}]
["PERSONAS EN CONTROL FECUNDIDAD",{"$f":"+N69+P69+R69+T69+V69+X69+Z69+AB69+AD69+AF69+AH69+AJ69+AL69+AN69+AP69","v":0},{"$f":"+O69+Q69+S69+U69+W69+Y69+AA69+AC69+AE69+AG69+AI69+AK69+AM69+AO69+AQ69","v":0},null,null,null,null,null,null,null,null,null,null,null,null,null,null,null,null,null,null,null,null,null,null,null,null,null,null,null,null,null,null,null,null,null,null,null,null,null,null,null,null,null,null,null,null,null,null,"",null,null,null,null,null,null,null,null,null,null,null,null,null,null,null,null,null,null,null,null,null,null,null,null,null,null,null,null,"","","","","","","",{"$f":"IF(J69<K69,\"* El Total de Procesados debe ser mayor o igual al Total de Reactivos en el grupo de edad  \"&J$10&\"\"&\" \",\"\")","v":""},{"$f":"IF(L69<M69,\"* El Total de Procesados debe ser mayor o igual al Total de Reactivos en el grupo de edad  \"&L$10&\"\"&\" \",\"\")","v":""},"","","","","","","","","","","","","","","",null,null,0,0,0,0,0,0,0,0,0,0,0,0,0,0,0,0,0,0,0,0,0,0,0,0]
["CONSULTANTES POR ITS",{"$f":"+D70+F70+H70+J70+L70+N70+P70+R70+T70+V70+X70+Z70+AB70+AD70+AF70+AH70+AJ70+AL70+AN70+AP70","v":0},{"$f":"+E70+G70+I70+K70+M70+O70+Q70+S70+U70+W70+Y70+AA70+AC70+AE70+AG70+AI70+AK70+AM70+AO70+AQ70","v":0},null,null,null,null,null,null,null,null,null,null,null,null,null,null,null,null,null,null,null,null,null,null,null,null,null,null,null,null,null,null,null,null,null,null,null,null,null,null,null,null,null,null,null,null,null,null,"",null,null,null,null,null,null,null,null,null,null,null,null,null,null,null,null,null,null,null,null,null,null,null,null,null,null,null,null,"","","","","","","","","","","","","","","","","","","","","","","","",null,null,0,0,0,0,0,0,0,0,0,0,0,0,0,0,0,0,0,0,0,0,0,0,0,0]
["PERSONAS EMP/EMPAM ",{"$f":"+P71+R71+T71+V71+X71+Z71+AB71+AD71+AF71+AH71+AJ71+AL71+AN71+AP71","v":0},{"$f":"+Q71+S71+U71+W71+Y71+AA71+AC71+AE71+AG71+AI71+AK71+AM71+AO71+AQ71","v":0},null,null,null,null,null,null,null,null,null,null,null,null,null,null,null,null,null,null,null,null,null,null,null,null,null,null,null,null,null,null,null,null,null,null,null,null,null,null,null,null,null,null,null,null,null,null,"",null,null,null,null,null,null,null,null,null,null,null,null,null,null,null,null,null,null,null,null,null,null,null,null,null,null,null,null,"","","","","","","","","","","","","","","","","","","","","","","","",null,null,0,0,0,0,0,0,0,0,0,0,0,0,0,0,0,0,0,0,0,0,0,0,0,0]
["DONANTES DE SANGRE",{"$f":"+P72+R72+T72+V72+X72+Z72+AB72+AD72+AF72+AH72","v":0},{"$f":"+Q72+S72+U72+W72+Y72+AA72+AC72+AE72+AG72+AI72","v":0},null,null,null,null,null,null,null,null,null,null,null,null,null,null,null,null,null,null,null,null,null,null,null,null,null,null,null,null,null,null,null,null,null,null,null,null,null,null,null,null,null,null,null,null,null,null,"",null,null,null,null,null,null,null,null,null,null,null,null,null,null,null,null,null,null,null,null,null,null,null,null,null,null,null,null,"","","","","","","","","","","","","","","","","","","","","","","","",null,null,0,0,0,0,0,0,0,0,0,0,0,0,0,0,0,0,0,0,0,0,0,0,0,0]
["DONANTES DE ÓRGANOS Y/O TEJIDOS",{"$f":"+D73+F73+H73+J73+L73+N73+P73+R73+T73+V73+X73+Z73+AB73+AD73+AF73+AH73+AJ73+AL73+AN73+AP73","v":0},0,null,null,null,null,null,null,null,null,null,null,null,null,null,null,null,null,null,null,null,null,null,null,null,null,null,null,null,null,null,null,null,null,null,null,null,null,null,null,null,null,null,null,null,null,null,null,"",null,null,null,null,null,null,null,null,null,null,null,null,null,null,null,null,null,null,null,null,null,null,null,null,null,null,null,null,"","","","","","","","","","","","","","","","","","","","","","","","",null,null,0,0,0,0,0,0,0,0,0,0,0,0,0,0,0,0,0,0,0,0,0,0,0,0]
["PACIENTES EN DIÁLISIS",0,0,null,null,null,null,null,null,null,null,null,null,null,null,null,null,null,null,null,null,null,null,null,null,null,null,null,null,null,null,null,null,null,null,null,null,null,null,null,null,null,null,null,null,null,null,null,null,"",null,null,null,null,null,null,null,null,null,null,null,null,null,null,null,null,null,null,null,null,null,null,null,null,null,null,null,null,"","","","","","","","","","","","","","","","","","","","","","","","",null,null,0,0,0,0,0,0,0,0,0,0,0,0,0,0,0,0,0,0,0,0,0,0,0,0]
["VÍCTIMA DE VIOLENCIA SEXUAL",0,0,null,null,null,null,null,null,null,null,null,null,null,null,null,null,null,null,null,null,null,null,null,null,null,null,null,null,null,null,null,null,null,null,null,null,null,null,null,null,null,null,null,null,null,null,null,null,"",null,null,null,null,null,null,null,null,null,null,null,null,null,null,null,null,null,null,null,null,null,null,null,null,null,null,null,null,"","","","","","","","","","","","","","","","","","","","","","","","",null,null,0,0,0,0,0,0,0,0,0,0,0,0,0,0,0,0,0,0,0,0,0,0,0,0]
[]
["SECCIÓN A.4: EXAMEN RPR POR GRUPO DE USUARIOS (Exámenes procesados por venta de servicios a sector público)",null,null,null,null,null,null,null,null,null,null,null,null,null,null,null,null,null,null,null,null,null,null,null,null,null,null,null,null,null,null,null,null,null,null,null,null,null,null,null,null,null,null,"                   "]
["GRUPO DE PESQUISA","TOTAL",null,"POR EDAD (en meses - años)",null,null,null,null,null,null,null,null,null,null,null,null,null,null,null,null,null,null,null,null,null,null,null,null,null,null,null,null,null,null,null,null,null,null,null,null,null,null,null,"POR SEXO\n(Procesados)",null,"TRANS",null,"Pueblos Originarios","Migrantes"]
[null,null,null,"Menor de 6 meses",null,"6 a 11 meses",null,"12-24 meses",null,"3 a 4 años",null,"5 a 9 años",null,"10 - 14 años",null,"15 - 19 años",null,"20 - 24 años",null,"25 a 29 años",null,"30 a 34 años",null,"35 a 39 años",null,"40 a 44 años",null,"45 a 49 años",null,"50 a 54 años",null,"55 a 59 años",null,"60 a 64 años",null,"65 a 69 años",null,"70 a 74 años",null,"75 a 79 años",null,"80 y más años",null,"Hombres","Mujeres","Masculino","Femenino"]
[null,"Procesados","Reactivos","Procesados","Reactivos","Procesados","Reactivos","Procesados","Reactivos","Procesados","Reactivos","Procesados","Reactivos","Procesados","Reactivos","Procesados","Reactivos","Procesados","Reactivos","Procesados","Reactivos","Procesados","Reactivos","Procesados","Reactivos","Procesados","Reactivos","Procesados","Reactivos","Procesados","Reactivos","Procesados","Reactivos","Procesados","Reactivos","Procesados","Reactivos","Procesados","Reactivos","Procesados","Reactivos","Procesados","Reactivos"]
["GESTANTES PRIMER TRIMESTRE EMBARAZO",{"$f":"+N81+P81+R81+T81+V81+X81+Z81+AB81+AD81+AF81+AH81+AJ81+AL81+AN81+AP81","v":0},0,null,null,null,null,null,null,null,null,null,null,null,null,null,null,null,null,null,null,null,null,null,null,null,null,null,null,null,null,null,null,null,null,null,null,null,null,null,null,null,null,null,null,null,null,null,null,{"$f":"$CA81&$CB81&$CC81&$CD81&$CE81&$CF81&$CG81&$CH81&$CI81&$CJ81&$CK81&$CL81&$CM81&$CN81&$CO81&$CP81&$CQ81&$CR81&$CS81&$CT81&$CU81&$CV81&$CW81&$CX81","v":""},null,null,null,null,null,null,null,null,null,null,null,null,null,null,null,null,null,null,null,null,null,null,null,null,null,null,null,null,{"$f":"IF(B81<>(AR81+ AS81),\"* La suma de las columnas POR SEXO (Procesados) DEBE SER IGUAL al Total Procesados. \",\"\")","v":""},{"$f":"IF(AND($B81<>0,AT81=\"\",AU81=\"\"),\"* No olvide ingresar la columna \"&AT$32&\"\"&\" (Digite CERO si no tiene).\",IF((B81<AT81+AU81),\"* La suma de las columna TRANS NO DEBE ser superior al Total de Procesados. \",\"\"))","v":""},{"$f":"IF(AND($B81<>0,AV81=\"\"),\"* No olvide ingresar la columna \"&AV$32&\"\"&\" (Digite CERO si no tiene).\",IF(B81<AV81,\"* La columna Pueblos Originarios NO DEBE ser superior al Total Procesados. \",\"\"))","v":""},{"$f":"IF(AND($B81<>0,AW81=\"\"),\"* No olvide ingresar la columna \"&AW$32&\"\"&\" (Digite CERO si no tiene).\",IF(B81<AW81,\"* La columna Migrantes NO DEBE ser superior al Total Procesados. \",\"\"))","v":""},null,null,null,null,null,{"$f":"IF(N81<O81,\"* El Total de Procesados debe ser mayor o igual al Total de Reactivos en el grupo de edad  \"&N$33&\"\"&\" \",\"\")","v":""},{"$f":"IF(P81<Q81,\"* El Total de Procesados debe ser mayor o igual al Total de Reactivos en el grupo de edad  \"&P$33&\"\"&\" \",\"\")","v":""},{"$f":"IF(R81<S81,\"* El Total de Procesados debe ser mayor o igual al Total de Reactivos en el grupo de edad  \"&R$33&\"\"&\" \",\"\")","v":""},{"$f":"IF(T81<U81,\"* El Total de Procesados debe ser mayor o igual al Total de Reactivos en el grupo de edad  \"&T$33&\"\"&\" \",\"\")","v":""},{"$f":"IF(V81<W81,\"* El Total de Procesados debe ser mayor o igual al Total de Reactivos en el grupo de edad  \"&V$33&\"\"&\" \",\"\")","v":""},{"$f":"IF(X81<Y81,\"* El Total de Procesados debe ser mayor o igual al Total de Reactivos en el grupo de edad  \"&X$33&\"\"&\" \",\"\")","v":""},{"$f":"IF(Z81<AA81,\"* El Total de Procesados debe ser mayor o igual al Total de Reactivos en el grupo de edad  \"&Z$33&\"\"&\" \",\"\")","v":""},{"$f":"IF(AB81<AC81,\"* El Total de Procesados debe ser mayor o igual al Total de Reactivos en el grupo de edad  \"&AB$33&\"\"&\" \",\"\")","v":""},{"$f":"IF(AD81<AE81,\"* El Total de Procesados debe ser mayor o igual al Total de Reactivos en el grupo de edad  \"&AD$33&\"\"&\" \",\"\")","v":""},{"$f":"IF(AF81<AG81,\"* El Total de Procesados debe ser mayor o igual al Total de Reactivos en el grupo de edad  \"&AF$33&\"\"&\" \",\"\")","v":""},{"$f":"IF(AH81<AI81,\"* El Total de Procesados debe ser mayor o igual al Total de Reactivos en el grupo de edad  \"&AH$33&\"\"&\" \",\"\")","v":""},{"$f":"IF(AJ81<AK81,\"* El Total de Procesados debe ser mayor o igual al Total de Reactivos en el grupo de edad  \"&AJ$33&\"\"&\" \",\"\")","v":""},{"$f":"IF(AL81<AM81,\"* El Total de Procesados debe ser mayor o igual al Total de Reactivos en el grupo de edad  \"&AL$33&\"\"&\" \",\"\")","v":""},{"$f":"IF(AN81<AO81,\"* El Total de Procesados debe ser mayor o igual al Total de Reactivos en el grupo de edad  \"&AN$33&\"\"&\" \",\"\")","v":""},{"$f":"IF(AP81<AQ81,\"* El Total de Procesados debe ser mayor o igual al Total de Reactivos en el grupo de edad  \"&AP$33&\"\"&\" \",\"\")","v":""},null,null,{"$f":"IF(B81<>(AR81+ AS81),1,0)","v":0},{"$f":"IF(AND($B81<>0,AT81=\"\",AU81=\"\"),1,IF((B81<AT81+AU81),1,0))","v":0},{"$f":"IF(AND($B81<>0,AV81=\"\"),1,IF(B81<AV81,1,0))","v":0},{"$f":"IF(AND($B81<>0,AW81=\"\"),1,IF(AW81>B81,1,0))","v":0},null,null,null,null,null,{"$f":"IF(N81<O81,1,0)","v":0},{"$f":"IF(P81<Q81,1,0)","v":0},{"$f":"IF(R81<S81,1,0)","v":0},{"$f":"IF(T81<U81,1,0)","v":0},{"$f":"IF(V81<W81,1,0)","v":0},{"$f":"IF(X81<Y81,1,0)","v":0},{"$f":"IF(Z81<AA81,1,0)","v":0},{"$f":"IF(AB81<AC81,1,0)","v":0},{"$f":"IF(AD81<AE81,1,0)","v":0},{"$f":"IF(AF81<AG81,1,0)","v":0},{"$f":"IF(AH81<AI81,1,0)","v":0},{"$f":"IF(AJ81<AK81,1,0)","v":0},{"$f":"IF(AL81<AM81,1,0)","v":0},{"$f":"IF(AN81<AO81,1,0)","v":0},{"$f":"IF(AP81<AQ81,1,0)","v":0}]
["GESTANTES SEGUNDO TRIMESTRE EMBARAZO",0,0,null,null,null,null,null,null,null,null,null,null,null,null,null,null,null,null,null,null,null,null,null,null,null,null,null,null,null,null,null,null,null,null,null,null,null,null,null,null,null,null,null,null,null,null,null,null,"",null,null,null,null,null,null,null,null,null,null,null,null,null,null,null,null,null,null,null,null,null,null,null,null,null,null,null,null,{"$f":"IF(B82<>(AR82+ AS82),\"* La suma de las columnas POR SEXO (Procesados) DEBE SER IGUAL al Total Procesados. \",\"\")","v":""},{"$f":"IF(AND($B82<>0,AT82=\"\",AU82=\"\"),\"* No olvide ingresar la columna \"&AT$32&\"\"&\" (Digite CERO si no tiene).\",IF((B82<AT82+AU82),\"* La suma de las columna TRANS NO DEBE ser superior al Total de Procesados. \",\"\"))","v":""},{"$f":"IF(AND($B82<>0,AV82=\"\"),\"* No olvide ingresar la columna \"&AV$32&\"\"&\" (Digite CERO si no tiene).\",IF(B82<AV82,\"* La columna Pueblos Originarios NO DEBE ser superior al Total Procesados. \",\"\"))","v":""},{"$f":"IF(AND($B82<>0,AW82=\"\"),\"* No olvide ingresar la columna \"&AW$32&\"\"&\" (Digite CERO si no tiene).\",IF(B82<AW82,\"* La columna Migrantes NO DEBE ser superior al Total Procesados. \",\"\"))","v":""},null,null,null,null,null,{"$f":"IF(N82<O82,\"* El Total de Procesados debe ser mayor o igual al Total de Reactivos en el grupo de edad  \"&N$33&\"\"&\" \",\"\")","v":""},{"$f":"IF(P82<Q82,\"* El Total de Procesados debe ser mayor o igual al Total de Reactivos en el grupo de edad  \"&P$33&\"\"&\" \",\"\")","v":""},{"$f":"IF(R82<S82,\"* El Total de Procesados debe ser mayor o igual al Total de Reactivos en el grupo de edad  \"&R$33&\"\"&\" \",\"\")","v":""},{"$f":"IF(T82<U82,\"* El Total de Procesados debe ser mayor o igual al Total de Reactivos en el grupo de edad  \"&T$33&\"\"&\" \",\"\")","v":""},{"$f":"IF(V82<W82,\"* El Total de Procesados debe ser mayor o igual al Total de Reactivos en el grupo de edad  \"&V$33&\"\"&\" \",\"\")","v":""},{"$f":"IF(X82<Y82,\"* El Total de Procesados debe ser mayor o igual al Total de Reactivos en el grupo de edad  \"&X$33&\"\"&\" \",\"\")","v":""},{"$f":"IF(Z82<AA82,\"* El Total de Procesados debe ser mayor o igual al Total de Reactivos en el grupo de edad  \"&Z$33&\"\"&\" \",\"\")","v":""},{"$f":"IF(AB82<AC82,\"* El Total de Procesados debe ser mayor o igual al Total de Reactivos en el grupo de edad  \"&AB$33&\"\"&\" \",\"\")","v":""},{"$f":"IF(AD82<AE82,\"* El Total de Procesados debe ser mayor o igual al Total de Reactivos en el grupo de edad  \"&AD$33&\"\"&\" \",\"\")","v":""},{"$f":"IF(AF82<AG82,\"* El Total de Procesados debe ser mayor o igual al Total de Reactivos en el grupo de edad  \"&AF$33&\"\"&\" \",\"\")","v":""},{"$f":"IF(AH82<AI82,\"* El Total de Procesados debe ser mayor o igual al Total de Reactivos en el grupo de edad  \"&AH$33&\"\"&\" \",\"\")","v":""},{"$f":"IF(AJ82<AK82,\"* El Total de Procesados debe ser mayor o igual al Total de Reactivos en el grupo de edad  \"&AJ$33&\"\"&\" \",\"\")","v":""},{"$f":"IF(AL82<AM82,\"* El Total de Procesados debe ser mayor o igual al Total de Reactivos en el grupo de edad  \"&AL$33&\"\"&\" \",\"\")","v":""},{"$f":"IF(AN82<AO82,\"* El Total de Procesados debe ser mayor o igual al Total de Reactivos en el grupo de edad  \"&AN$33&\"\"&\" \",\"\")","v":""},{"$f":"IF(AP82<AQ82,\"* El Total de Procesados debe ser mayor o igual al Total de Reactivos en el grupo de edad  \"&AP$33&\"\"&\" \",\"\")","v":""},null,null,{"$f":"IF(B82<>(AR82+ AS82),1,0)","v":0},{"$f":"IF(AND($B82<>0,AT82=\"\",AU82=\"\"),1,IF((B82<AT82+AU82),1,0))","v":0},{"$f":"IF(AND($B82<>0,AV82=\"\"),1,IF(B82<AV82,1,0))","v":0},{"$f":"IF(AND($B82<>0,AW82=\"\"),1,IF(AW82>B82,1,0))","v":0},null,null,null,null,null,{"$f":"IF(N82<O82,1,0)","v":0},{"$f":"IF(P82<Q82,1,0)","v":0},{"$f":"IF(R82<S82,1,0)","v":0},{"$f":"IF(T82<U82,1,0)","v":0},{"$f":"IF(V82<W82,1,0)","v":0},{"$f":"IF(X82<Y82,1,0)","v":0},{"$f":"IF(Z82<AA82,1,0)","v":0},{"$f":"IF(AB82<AC82,1,0)","v":0},{"$f":"IF(AD82<AE82,1,0)","v":0},{"$f":"IF(AF82<AG82,1,0)","v":0},{"$f":"IF(AH82<AI82,1,0)","v":0},{"$f":"IF(AJ82<AK82,1,0)","v":0},{"$f":"IF(AL82<AM82,1,0)","v":0},{"$f":"IF(AN82<AO82,1,0)","v":0},{"$f":"IF(AP82<AQ82,1,0)","v":0}]
["GESTANTES TERCER TRIMESTRE EMBARAZO",0,0,null,null,null,null,null,null,null,null,null,null,null,null,null,null,null,null,null,null,null,null,null,null,null,null,null,null,null,null,null,null,null,null,null,null,null,null,null,null,null,null,null,null,null,null,null,null,"",null,null,null,null,null,null,null,null,null,null,null,null,null,null,null,null,null,null,null,null,null,null,null,null,null,null,null,null,"","","","",null,null,null,null,null,"","","","","","","","","","","","","","","",null,null,0,0,0,0,null,null,null,null,null,0,0,0,0,0,0,0,0,0,0,0,0,0,0,0]
["GESTANTES TRIMESTRE EMBARAZO IGNORADO",0,0,null,null,null,null,null,null,null,null,null,null,null,null,null,null,null,null,null,null,null,null,null,null,null,null,null,null,null,null,null,null,null,null,null,null,null,null,null,null,null,null,null,null,null,null,null,null,"",null,null,null,null,null,null,null,null,null,null,null,null,null,null,null,null,null,null,null,null,null,null,null,null,null,null,null,null,"","","","",null,null,null,null,null,"","","","","","","","","","","","","","","",null,null,0,0,0,0,null,null,null,null,null,0,0,0,0,0,0,0,0,0,0,0,0,0,0,0]
["GESTANTES EN SEGUIMIENTO POR DIAGNÓSTICO SÍFILIS",0,0,null,null,null,null,null,null,null,null,null,null,null,null,null,null,null,null,null,null,null,null,null,null,null,null,null,null,null,null,null,null,null,null,null,null,null,null,null,null,null,null,null,null,null,null,null,null,"",null,null,null,null,null,null,null,null,null,null,null,null,null,null,null,null,null,null,null,null,null,null,null,null,null,null,null,null,"","","","",null,null,null,null,null,"","","","","","","","","","","","","","","",null,null,0,0,0,0,null,null,null,null,null,0,0,0,0,0,0,0,0,0,0,0,0,0,0,0]
["PAREJA DE GESTANTE CON SEROLOGÍA REACTIVA",0,0,null,null,null,null,null,null,null,null,null,null,null,null,null,null,null,null,null,null,null,null,null,null,null,null,null,null,null,null,null,null,null,null,null,null,null,null,null,null,null,null,null,null,null,null,null,null,"",null,null,null,null,null,null,null,null,null,null,null,null,null,null,null,null,null,null,null,null,null,null,null,null,null,null,null,null,"","","","",null,null,null,null,null,"","","","","","","","","","","","","","","",null,null,0,0,0,0,null,null,null,null,null,0,0,0,0,0,0,0,0,0,0,0,0,0,0,0]
["MUJERES QUE INGRESAN A MATERNIDAD POR PARTO",0,0,null,null,null,null,null,null,null,null,null,null,null,null,null,null,null,null,null,null,null,null,null,null,null,null,null,null,null,null,null,null,null,null,null,null,null,null,null,null,null,null,null,null,null,null,null,null,"",null,null,null,null,null,null,null,null,null,null,null,null,null,null,null,null,null,null,null,null,null,null,null,null,null,null,null,null,"","","","",null,null,null,null,null,"","","","","","","","","","","","","","","",null,null,0,0,0,0,null,null,null,null,null,0,0,0,0,0,0,0,0,0,0,0,0,0,0,0]
["MUJERES QUE INGRESAN POR ABORTO",0,0,null,null,null,null,null,null,null,null,null,null,null,null,null,null,null,null,null,null,null,null,null,null,null,null,null,null,null,null,null,null,null,null,null,null,null,null,null,null,null,null,null,null,null,null,null,null,"",null,null,null,null,null,null,null,null,null,null,null,null,null,null,null,null,null,null,null,null,null,null,null,null,null,null,null,null,"","","","",null,null,null,null,null,"","","","","","","","","","","","","","","",null,null,0,0,0,0,null,null,null,null,null,0,0,0,0,0,0,0,0,0,0,0,0,0,0,0]
["MUJERES EN CONTROL GINECOLÓGICO",{"$f":"+D89+F89+H89+J89+L89+N89+P89+R89+T89+V89+X89+Z89+AB89+AD89+AF89+AH89+AJ89+AL89+AN89+AP89","v":0},{"$f":"+E89+G89+I89+K89+M89+O89+Q89+S89+U89+W89+Y89+AA89+AC89+AE89+AG89+AI89+AK89+AM89+AO89+AQ89","v":0},null,null,null,null,null,null,null,null,null,null,null,null,null,null,null,null,null,null,null,null,null,null,null,null,null,null,null,null,null,null,null,null,null,null,null,null,null,null,null,null,null,null,null,null,null,null,"",null,null,null,null,null,null,null,null,null,null,null,null,null,null,null,null,null,null,null,null,null,null,null,null,null,null,null,null,"","","",{"$f":"IF(AND($B89<>0,AW89=\"\"),\"* No olvide ingresar la columna \"&AW$32&\"\"&\" (Digite CERO si no tiene).\",IF(B89<AW89,\"* La columna Migrantes NO DEBE ser superior al Total Procesados. \",\"\"))","v":""},{"$f":"IF(D89<E89,\"* El Total de Procesados debe ser mayor o igual al Total de Reactivos en el grupo de edad  \"&D$33&\"\"&\" \",\"\")","v":""},{"$f":"IF(F89<G89,\"* El Total de Procesados debe ser mayor o igual al Total de Reactivos en el grupo de edad  \"&F$33&\"\"&\" \",\"\")","v":""},{"$f":"IF(H89<I89,\"* El Total de Procesados debe ser mayor o igual al Total de Reactivos en el grupo de edad  \"&H$33&\"\"&\" \",\"\")","v":""},{"$f":"IF(J89<K89,\"* El Total de Procesados debe ser mayor o igual al Total de Reactivos en el grupo de edad  \"&J$33&\"\"&\" \",\"\")","v":""},{"$f":"IF(L89<M89,\"* El Total de Procesados debe ser mayor o igual al Total de Reactivos en el grupo de edad  \"&L$33&\"\"&\" \",\"\")","v":""},"","","","","","","","","","","","","","","",null,null,0,0,0,0,{"$f":"IF(D89<E89,1,0)","v":0},{"$f":"IF(F89<G89,1,0)","v":0},{"$f":"IF(H89<I89,1,0)","v":0},{"$f":"IF(J89<K89,1,0)","v":0},{"$f":"IF(L89<M89,1,0)","v":0},{"$f":"IF(N89<O89,1,0)","v":0},{"$f":"IF(P89<Q89,1,0)","v":0},{"$f":"IF(R89<S89,1,0)","v":0},{"$f":"IF(T89<U89,1,0)","v":0},{"$f":"IF(V89<W89,1,0)","v":0},{"$f":"IF(X89<Y89,1,0)","v":0},{"$f":"IF(Z89<AA89,1,0)","v":0},{"$f":"IF(AB89<AC89,1,0)","v":0},{"$f":"IF(AD89<AE89,1,0)","v":0},{"$f":"IF(AF89<AG89,1,0)","v":0},{"$f":"IF(AH89<AI89,1,0)","v":0},{"$f":"IF(AJ89<AK89,1,0)","v":0},{"$f":"IF(AL89<AM89,1,0)","v":0},{"$f":"IF(AN89<AO89,1,0)","v":0},{"$f":"IF(AP89<AQ89,1,0)","v":0}]
["RECIÉN NACIDO Y LACTANTE PARA DETECCIÓN DE SÍFILIS CONGÉNITA",{"$f":"+D90+F90+H90","v":0},{"$f":"+E90+G90+I90","v":0},null,null,null,null,null,null,null,null,null,null,null,null,null,null,null,null,null,null,null,null,null,null,null,null,null,null,null,null,null,null,null,null,null,null,null,null,null,null,null,null,null,null,null,null,null,null,"",null,null,null,null,null,null,null,null,null,null,null,null,null,null,null,null,null,null,null,null,null,null,null,null,null,null,null,null,"","","",{"$f":"IF(AND($B90<>0,AW90=\"\"),\"* No olvide ingresar la columna \"&AW$32&\"\"&\" (Digite CERO si no tiene).\",IF(B90<AW90,\"* La columna Migrantes NO DEBE ser superior al Total Procesados. \",\"\"))","v":""},{"$f":"IF(D90<E90,\"* El Total de Procesados debe ser mayor o igual al Total de Reactivos en el grupo de edad  \"&D$33&\"\"&\" \",\"\")","v":""},{"$f":"IF(F90<G90,\"* El Total de Procesados debe ser mayor o igual al Total de Reactivos en el grupo de edad  \"&F$33&\"\"&\" \",\"\")","v":""},{"$f":"IF(H90<I90,\"* El Total de Procesados debe ser mayor o igual al Total de Reactivos en el grupo de edad  \"&H$33&\"\"&\" \",\"\")","v":""},null,null,null,null,null,null,null,null,null,null,null,null,null,null,null,null,null,null,null,0,0,0,0,0,0,0]
["PERSONAS EN CONTROL POR COMERCIO SEXUAL",{"$f":"+P91+R91+T91+V91+X91+Z91+AB91+AD91+AF91+AH91+AJ91+AL91+AN91+AP91","v":0},{"$f":"+Q91+S91+U91+W91+Y91+AA91+AC91+AE91+AG91+AI91+AK91+AM91+AO91+AQ91","v":0},null,null,null,null,null,null,null,null,null,null,null,null,null,null,null,null,null,null,null,null,null,null,null,null,null,null,null,null,null,null,null,null,null,null,null,null,null,null,null,null,null,null,null,null,null,null,"",null,null,null,null,null,null,null,null,null,null,null,null,null,null,null,null,null,null,null,null,null,null,null,null,null,null,null,null,"","","","","","","",{"$f":"IF(J91<K91,\"* El Total de Procesados debe ser mayor o igual al Total de Reactivos en el grupo de edad  \"&J$33&\"\"&\" \",\"\")","v":""},{"$f":"IF(L91<M91,\"* El Total de Procesados debe ser mayor o igual al Total de Reactivos en el grupo de edad  \"&L$33&\"\"&\" \",\"\")","v":""},{"$f":"IF(N91<O91,\"* El Total de Procesados debe ser mayor o igual al Total de Reactivos en el grupo de edad  \"&N$33&\"\"&\" \",\"\")","v":""},{"$f":"IF(P91<Q91,\"* El Total de Procesados debe ser mayor o igual al Total de Reactivos en el grupo de edad  \"&P$33&\"\"&\" \",\"\")","v":""},{"$f":"IF(R91<S91,\"* El Total de Procesados debe ser mayor o igual al Total de Reactivos en el grupo de edad  \"&R$33&\"\"&\" \",\"\")","v":""},{"$f":"IF(T91<U91,\"* El Total de Procesados debe ser mayor o igual al Total de Reactivos en el grupo de edad  \"&T$33&\"\"&\" \",\"\")","v":""},{"$f":"IF(V91<W91,\"* El Total de Procesados debe ser mayor o igual al Total de Reactivos en el grupo de edad  \"&V$33&\"\"&\" \",\"\")","v":""},{"$f":"IF(X91<Y91,\"* El Total de Procesados debe ser mayor o igual al Total de Reactivos en el grupo de edad  \"&X$33&\"\"&\" \",\"\")","v":""},{"$f":"IF(Z91<AA91,\"* El Total de Procesados debe ser mayor o igual al Total de Reactivos en el grupo de edad  \"&Z$33&\"\"&\" \",\"\")","v":""},{"$f":"IF(AB91<AC91,\"* El Total de Procesados debe ser mayor o igual al Total de Reactivos en el grupo de edad  \"&AB$33&\"\"&\" \",\"\")","v":""},{"$f":"IF(AD91<AE91,\"* El Total de Procesados debe ser mayor o igual al Total de Reactivos en el grupo de edad  \"&AD$33&\"\"&\" \",\"\")","v":""},{"$f":"IF(AF91<AG91,\"* El Total de Procesados debe ser mayor o igual al Total de Reactivos en el grupo de edad  \"&AF$33&\"\"&\" \",\"\")","v":""},{"$f":"IF(AH91<AI91,\"* El Total de Procesados debe ser mayor o igual al Total de Reactivos en el grupo de edad  \"&AH$33&\"\"&\" \",\"\")","v":""},{"$f":"IF(AJ91<AK91,\"* El Total de Procesados debe ser mayor o igual al Total de Reactivos en el grupo de edad  \"&AJ$33&\"\"&\" \",\"\")","v":""},{"$f":"IF(AL91<AM91,\"* El Total de Procesados debe ser mayor o igual al Total de Reactivos en el grupo de edad  \"&AL$33&\"\"&\" \",\"\")","v":""},{"$f":"IF(AN91<AO91,\"* El Total de Procesados debe ser mayor o igual al Total de Reactivos en el grupo de edad  \"&AN$33&\"\"&\" \",\"\")","v":""},{"$f":"IF(AP91<AQ91,\"* El Total de Procesados debe ser mayor o igual al Total de Reactivos en el grupo de edad  \"&AP$33&\"\"&\" \",\"\")","v":""},null,null,0,0,0,0,0,0,0,{"$f":"IF(J91<K91,1,0)","v":0},{"$f":"IF(L91<M91,1,0)","v":0},{"$f":"IF(N91<O91,1,0)","v":0},{"$f":"IF(P91<Q91,1,0)","v":0},{"$f":"IF(R91<S91,1,0)","v":0},{"$f":"IF(T91<U91,1,0)","v":0},{"$f":"IF(V91<W91,1,0)","v":0},{"$f":"IF(X91<Y91,1,0)","v":0},{"$f":"IF(Z91<AA91,1,0)","v":0},{"$f":"IF(AB91<AC91,1,0)","v":0},{"$f":"IF(AD91<AE91,1,0)","v":0},{"$f":"IF(AF91<AG91,1,0)","v":0},{"$f":"IF(AH91<AI91,1,0)","v":0},{"$f":"IF(AJ91<AK91,1,0)","v":0},{"$f":"IF(AL91<AM91,1,0)","v":0},{"$f":"IF(AN91<AO91,1,0)","v":0},{"$f":"IF(AP91<AQ91,1,0)","v":0}]
["PERSONAS EN CONTROL FECUNDIDAD",{"$f":"+N92+P92+R92+T92+V92+X92+Z92+AB92+AD92+AF92+AH92+AJ92+AL92+AN92+AP92","v":0},{"$f":"+O92+Q92+S92+U92+W92+Y92+AA92+AC92+AE92+AG92+AI92+AK92+AM92+AO92+AQ92","v":0},null,null,null,null,null,null,null,null,null,null,null,null,null,null,null,null,null,null,null,null,null,null,null,null,null,null,null,null,null,null,null,null,null,null,null,null,null,null,null,null,null,null,null,null,null,null,"",null,null,null,null,null,null,null,null,null,null,null,null,null,null,null,null,null,null,null,null,null,null,null,null,null,null,null,null,"","","","","","","",{"$f":"IF(J92<K92,\"* El Total de Procesados debe ser mayor o igual al Total de Reactivos en el grupo de edad  \"&J$10&\"\"&\" \",\"\")","v":""},{"$f":"IF(L92<M92,\"* El Total de Procesados debe ser mayor o igual al Total de Reactivos en el grupo de edad  \"&L$10&\"\"&\" \",\"\")","v":""},"","","","","","","","","","","","","","","",null,null,0,0,0,0,0,0,0,0,0,0,0,0,0,0,0,0,0,0,0,0,0,0,0,0]
["CONSULTANTES POR ITS",{"$f":"+D93+F93+H93+J93+L93+N93+P93+R93+T93+V93+X93+Z93+AB93+AD93+AF93+AH93+AJ93+AL93+AN93+AP93","v":0},{"$f":"+E93+G93+I93+K93+M93+O93+Q93+S93+U93+W93+Y93+AA93+AC93+AE93+AG93+AI93+AK93+AM93+AO93+AQ93","v":0},null,null,null,null,null,null,null,null,null,null,null,null,null,null,null,null,null,null,null,null,null,null,null,null,null,null,null,null,null,null,null,null,null,null,null,null,null,null,null,null,null,null,null,null,null,null,"",null,null,null,null,null,null,null,null,null,null,null,null,null,null,null,null,null,null,null,null,null,null,null,null,null,null,null,null,"","","","","","","","","","","","","","","","","","","","","","","","",null,null,0,0,0,0,0,0,0,0,0,0,0,0,0,0,0,0,0,0,0,0,0,0,0,0]
["PERSONAS EMP/EMPAM ",{"$f":"+P94+R94+T94+V94+X94+Z94+AB94+AD94+AF94+AH94+AJ94+AL94+AN94+AP94","v":0},{"$f":"+Q94+S94+U94+W94+Y94+AA94+AC94+AE94+AG94+AI94+AK94+AM94+AO94+AQ94","v":0},null,null,null,null,null,null,null,null,null,null,null,null,null,null,null,null,null,null,null,null,null,null,null,null,null,null,null,null,null,null,null,null,null,null,null,null,null,null,null,null,null,null,null,null,null,null,"",null,null,null,null,null,null,null,null,null,null,null,null,null,null,null,null,null,null,null,null,null,null,null,null,null,null,null,null,"","","","","","","","","","","","","","","","","","","","","","","","",null,null,0,0,0,0,0,0,0,0,0,0,0,0,0,0,0,0,0,0,0,0,0,0,0,0]
["DONANTES DE SANGRE",{"$f":"+P95+R95+T95+V95+X95+Z95+AB95+AD95+AF95+AH95","v":0},{"$f":"+Q95+S95+U95+W95+Y95+AA95+AC95+AE95+AG95+AI95","v":0},null,null,null,null,null,null,null,null,null,null,null,null,null,null,null,null,null,null,null,null,null,null,null,null,null,null,null,null,null,null,null,null,null,null,null,null,null,null,null,null,null,null,null,null,null,null,"",null,null,null,null,null,null,null,null,null,null,null,null,null,null,null,null,null,null,null,null,null,null,null,null,null,null,null,null,"","","","","","","","","","","","","","","","","","","","","","","","",null,null,0,0,0,0,0,0,0,0,0,0,0,0,0,0,0,0,0,0,0,0,0,0,0,0]
["DONANTES DE ÓRGANOS Y/O TEJIDOS",{"$f":"+D96+F96+H96+J96+L96+N96+P96+R96+T96+V96+X96+Z96+AB96+AD96+AF96+AH96+AJ96+AL96+AN96+AP96","v":0},0,null,null,null,null,null,null,null,null,null,null,null,null,null,null,null,null,null,null,null,null,null,null,null,null,null,null,null,null,null,null,null,null,null,null,null,null,null,null,null,null,null,null,null,null,null,null,"",null,null,null,null,null,null,null,null,null,null,null,null,null,null,null,null,null,null,null,null,null,null,null,null,null,null,null,null,"","","","","","","","","","","","","","","","","","","","","","","","",null,null,0,0,0,0,0,0,0,0,0,0,0,0,0,0,0,0,0,0,0,0,0,0,0,0]
["PACIENTES EN DIÁLISIS",0,0,null,null,null,null,null,null,null,null,null,null,null,null,null,null,null,null,null,null,null,null,null,null,null,null,null,null,null,null,null,null,null,null,null,null,null,null,null,null,null,null,null,null,null,null,null,null,"",null,null,null,null,null,null,null,null,null,null,null,null,null,null,null,null,null,null,null,null,null,null,null,null,null,null,null,null,"","","","","","","","","","","","","","","","","","","","","","","","",null,null,0,0,0,0,0,0,0,0,0,0,0,0,0,0,0,0,0,0,0,0,0,0,0,0]
["VÍCTIMA DE VIOLENCIA SEXUAL",0,0,null,null,null,null,null,null,null,null,null,null,null,null,null,null,null,null,null,null,null,null,null,null,null,null,null,null,null,null,null,null,null,null,null,null,null,null,null,null,null,null,null,null,null,null,null,null,"",null,null,null,null,null,null,null,null,null,null,null,null,null,null,null,null,null,null,null,null,null,null,null,null,null,null,null,null,"","","","","","","","","","","","","","","","","","","","","","","","",null,null,0,0,0,0,0,0,0,0,0,0,0,0,0,0,0,0,0,0,0,0,0,0,0,0]
[]
["SECCIÓN A.5: EXAMEN MHA-TP POR GRUPO DE USUARIOS (Uso exclusivo de establecimientos con Laboratorio que procesan)"]
["GRUPO DE PESQUISA","TOTAL",null,"POR EDAD (en meses - años)",null,null,null,null,null,null,null,null,null,null,null,null,null,null,null,null,null,null,null,null,null,null,null,null,null,null,null,null,null,null,null,null,null,null,null,null,null,null,null,"POR SEXO\n(Procesados)",null,"TRANS",null,"Pueblos Originarios","Migrantes"]
[null,null,null,"Menor de 6 meses",null,"6 a 11 meses",null,"12-24 meses",null,"3 a 4 años",null,"5 a 9 años",null,"10 - 14 años",null,"15 - 19 años",null,"20 - 24 años",null,"25 a 29 años",null,"30 a 34 años",null,"35 a 39 años",null,"40 a 44 años",null,"45 a 49 años",null,"50 a 54 años",null,"55 a 59 años",null,"60 a 64 años",null,"65 a 69 años",null,"70 a 74 años",null,"75 a 79 años",null,"80 y más años",null,"Hombres","Mujeres","Masculino","Femenino"]
[null,"Procesados","Reactivos","Procesados","Reactivos","Procesados","Reactivos","Procesados","Reactivos","Procesados","Reactivos","Procesados","Reactivos","Procesados","Reactivos","Procesados","Reactivos","Procesados","Reactivos","Procesados","Reactivos","Procesados","Reactivos","Procesados","Reactivos","Procesados","Reactivos","Procesados","Reactivos","Procesados","Reactivos","Procesados","Reactivos","Procesados","Reactivos","Procesados","Reactivos","Procesados","Reactivos","Procesados","Reactivos","Procesados","Reactivos"]
["GESTANTES PRIMER TRIMESTRE EMBARAZO",{"$f":"+N104+P104+R104+T104+V104+X104+Z104+AB104+AD104+AF104+AH104+AJ104+AL104+AN104+AP104","v":0},0,null,null,null,null,null,null,null,null,null,null,null,null,null,null,null,null,null,null,null,null,null,null,null,null,null,null,null,null,null,null,null,null,null,null,null,null,null,null,null,null,null,null,null,null,null,null,{"$f":"$CA104&$CB104&$CC104&$CD104&$CE104&$CF104&$CG104&$CH104&$CI104&$CJ104&$CK104&$CL104&$CM104&$CN104&$CO104&$CP104&$CQ104&$CR104&$CS104&$CT104&$CU104&$CV104&$CW104&$CX104","v":""},null,null,null,null,null,null,null,null,null,null,null,null,null,null,null,null,null,null,null,null,null,null,null,null,null,null,null,null,{"$f":"IF(B104<>(AR104+ AS104),\"* La suma de las columnas POR SEXO (Procesados) DEBE SER IGUAL al Total Procesados. \",\"\")","v":""},{"$f":"IF(AND($B104<>0,AT104=\"\",AU104=\"\"),\"* No olvide ingresar la columna \"&AT$32&\"\"&\" (Digite CERO si no tiene).\",IF((B104<AT104+AU104),\"* La suma de las columna TRANS NO DEBE ser superior al Total de Procesados. \",\"\"))","v":""},{"$f":"IF(AND($B104<>0,AV104=\"\"),\"* No olvide ingresar la columna \"&AV$32&\"\"&\" (Digite CERO si no tiene).\",IF(B104<AV104,\"* La columna Pueblos Originarios NO DEBE ser superior al Total Procesados. \",\"\"))","v":""},{"$f":"IF(AND($B104<>0,AW104=\"\"),\"* No olvide ingresar la columna \"&AW$32&\"\"&\" (Digite CERO si no tiene).\",IF(B104<AW104,\"* La columna Migrantes NO DEBE ser superior al Total Procesados. \",\"\"))","v":""},null,null,null,null,null,{"$f":"IF(N104<O104,\"* El Total de Procesados debe ser mayor o igual al Total de Reactivos en el grupo de edad  \"&N$33&\"\"&\" \",\"\")","v":""},{"$f":"IF(P104<Q104,\"* El Total de Procesados debe ser mayor o igual al Total de Reactivos en el grupo de edad  \"&P$33&\"\"&\" \",\"\")","v":""},{"$f":"IF(R104<S104,\"* El Total de Procesados debe ser mayor o igual al Total de Reactivos en el grupo de edad  \"&R$33&\"\"&\" \",\"\")","v":""},{"$f":"IF(T104<U104,\"* El Total de Procesados debe ser mayor o igual al Total de Reactivos en el grupo de edad  \"&T$33&\"\"&\" \",\"\")","v":""},{"$f":"IF(V104<W104,\"* El Total de Procesados debe ser mayor o igual al Total de Reactivos en el grupo de edad  \"&V$33&\"\"&\" \",\"\")","v":""},{"$f":"IF(X104<Y104,\"* El Total de Procesados debe ser mayor o igual al Total de Reactivos en el grupo de edad  \"&X$33&\"\"&\" \",\"\")","v":""},{"$f":"IF(Z104<AA104,\"* El Total de Procesados debe ser mayor o igual al Total de Reactivos en el grupo de edad  \"&Z$33&\"\"&\" \",\"\")","v":""},{"$f":"IF(AB104<AC104,\"* El Total de Procesados debe ser mayor o igual al Total de Reactivos en el grupo de edad  \"&AB$33&\"\"&\" \",\"\")","v":""},{"$f":"IF(AD104<AE104,\"* El Total de Procesados debe ser mayor o igual al Total de Reactivos en el grupo de edad  \"&AD$33&\"\"&\" \",\"\")","v":""},{"$f":"IF(AF104<AG104,\"* El Total de Procesados debe ser mayor o igual al Total de Reactivos en el grupo de edad  \"&AF$33&\"\"&\" \",\"\")","v":""},{"$f":"IF(AH104<AI104,\"* El Total de Procesados debe ser mayor o igual al Total de Reactivos en el grupo de edad  \"&AH$33&\"\"&\" \",\"\")","v":""},{"$f":"IF(AJ104<AK104,\"* El Total de Procesados debe ser mayor o igual al Total de Reactivos en el grupo de edad  \"&AJ$33&\"\"&\" \",\"\")","v":""},{"$f":"IF(AL104<AM104,\"* El Total de Procesados debe ser mayor o igual al Total de Reactivos en el grupo de edad  \"&AL$33&\"\"&\" \",\"\")","v":""},{"$f":"IF(AN104<AO104,\"* El Total de Procesados debe ser mayor o igual al Total de Reactivos en el grupo de edad  \"&AN$33&\"\"&\" \",\"\")","v":""},{"$f":"IF(AP104<AQ104,\"* El Total de Procesados debe ser mayor o igual al Total de Reactivos en el grupo de edad  \"&AP$33&\"\"&\" \",\"\")","v":""},null,null,{"$f":"IF(B104<>(AR104+ AS104),1,0)","v":0},{"$f":"IF(AND($B104<>0,AT104=\"\",AU104=\"\"),1,IF((B104<AT104+AU104),1,0))","v":0},{"$f":"IF(AND($B104<>0,AV104=\"\"),1,IF(B104<AV104,1,0))","v":0},{"$f":"IF(AND($B104<>0,AW104=\"\"),1,IF(AW104>B104,1,0))","v":0},null,null,null,null,null,{"$f":"IF(N104<O104,1,0)","v":0},{"$f":"IF(P104<Q104,1,0)","v":0},{"$f":"IF(R104<S104,1,0)","v":0},{"$f":"IF(T104<U104,1,0)","v":0},{"$f":"IF(V104<W104,1,0)","v":0},{"$f":"IF(X104<Y104,1,0)","v":0},{"$f":"IF(Z104<AA104,1,0)","v":0},{"$f":"IF(AB104<AC104,1,0)","v":0},{"$f":"IF(AD104<AE104,1,0)","v":0},{"$f":"IF(AF104<AG104,1,0)","v":0},{"$f":"IF(AH104<AI104,1,0)","v":0},{"$f":"IF(AJ104<AK104,1,0)","v":0},{"$f":"IF(AL104<AM104,1,0)","v":0},{"$f":"IF(AN104<AO104,1,0)","v":0},{"$f":"IF(AP104<AQ104,1,0)","v":0}]
["GESTANTES SEGUNDO TRIMESTRE EMBARAZO",0,0,null,null,null,null,null,null,null,null,null,null,null,null,null,null,null,null,null,null,null,null,null,null,null,null,null,null,null,null,null,null,null,null,null,null,null,null,null,null,null,null,null,null,null,null,null,null,"",null,null,null,null,null,null,null,null,null,null,null,null,null,null,null,null,null,null,null,null,null,null,null,null,null,null,null,null,{"$f":"IF(B105<>(AR105+ AS105),\"* La suma de las columnas POR SEXO (Procesados) DEBE SER IGUAL al Total Procesados. \",\"\")","v":""},{"$f":"IF(AND($B105<>0,AT105=\"\",AU105=\"\"),\"* No olvide ingresar la columna \"&AT$32&\"\"&\" (Digite CERO si no tiene).\",IF((B105<AT105+AU105),\"* La suma de las columna TRANS NO DEBE ser superior al Total de Procesados. \",\"\"))","v":""},{"$f":"IF(AND($B105<>0,AV105=\"\"),\"* No olvide ingresar la columna \"&AV$32&\"\"&\" (Digite CERO si no tiene).\",IF(B105<AV105,\"* La columna Pueblos Originarios NO DEBE ser superior al Total Procesados. \",\"\"))","v":""},{"$f":"IF(AND($B105<>0,AW105=\"\"),\"* No olvide ingresar la columna \"&AW$32&\"\"&\" (Digite CERO si no tiene).\",IF(B105<AW105,\"* La columna Migrantes NO DEBE ser superior al Total Procesados. \",\"\"))","v":""},null,null,null,null,null,{"$f":"IF(N105<O105,\"* El Total de Procesados debe ser mayor o igual al Total de Reactivos en el grupo de edad  \"&N$33&\"\"&\" \",\"\")","v":""},{"$f":"IF(P105<Q105,\"* El Total de Procesados debe ser mayor o igual al Total de Reactivos en el grupo de edad  \"&P$33&\"\"&\" \",\"\")","v":""},{"$f":"IF(R105<S105,\"* El Total de Procesados debe ser mayor o igual al Total de Reactivos en el grupo de edad  \"&R$33&\"\"&\" \",\"\")","v":""},{"$f":"IF(T105<U105,\"* El Total de Procesados debe ser mayor o igual al Total de Reactivos en el grupo de edad  \"&T$33&\"\"&\" \",\"\")","v":""},{"$f":"IF(V105<W105,\"* El Total de Procesados debe ser mayor o igual al Total de Reactivos en el grupo de edad  \"&V$33&\"\"&\" \",\"\")","v":""},{"$f":"IF(X105<Y105,\"* El Total de Procesados debe ser mayor o igual al Total de Reactivos en el grupo de edad  \"&X$33&\"\"&\" \",\"\")","v":""},{"$f":"IF(Z105<AA105,\"* El Total de Procesados debe ser mayor o igual al Total de Reactivos en el grupo de edad  \"&Z$33&\"\"&\" \",\"\")","v":""},{"$f":"IF(AB105<AC105,\"* El Total de Procesados debe ser mayor o igual al Total de Reactivos en el grupo de edad  \"&AB$33&\"\"&\" \",\"\")","v":""},{"$f":"IF(AD105<AE105,\"* El Total de Procesados debe ser mayor o igual al Total de Reactivos en el grupo de edad  \"&AD$33&\"\"&\" \",\"\")","v":""},{"$f":"IF(AF105<AG105,\"* El Total de Procesados debe ser mayor o igual al Total de Reactivos en el grupo de edad  \"&AF$33&\"\"&\" \",\"\")","v":""},{"$f":"IF(AH105<AI105,\"* El Total de Procesados debe ser mayor o igual al Total de Reactivos en el grupo de edad  \"&AH$33&\"\"&\" \",\"\")","v":""},{"$f":"IF(AJ105<AK105,\"* El Total de Procesados debe ser mayor o igual al Total de Reactivos en el grupo de edad  \"&AJ$33&\"\"&\" \",\"\")","v":""},{"$f":"IF(AL105<AM105,\"* El Total de Procesados debe ser mayor o igual al Total de Reactivos en el grupo de edad  \"&AL$33&\"\"&\" \",\"\")","v":""},{"$f":"IF(AN105<AO105,\"* El Total de Procesados debe ser mayor o igual al Total de Reactivos en el grupo de edad  \"&AN$33&\"\"&\" \",\"\")","v":""},{"$f":"IF(AP105<AQ105,\"* El Total de Procesados debe ser mayor o igual al Total de Reactivos en el grupo de edad  \"&AP$33&\"\"&\" \",\"\")","v":""},null,null,{"$f":"IF(B105<>(AR105+ AS105),1,0)","v":0},{"$f":"IF(AND($B105<>0,AT105=\"\",AU105=\"\"),1,IF((B105<AT105+AU105),1,0))","v":0},{"$f":"IF(AND($B105<>0,AV105=\"\"),1,IF(B105<AV105,1,0))","v":0},{"$f":"IF(AND($B105<>0,AW105=\"\"),1,IF(AW105>B105,1,0))","v":0},null,null,null,null,null,{"$f":"IF(N105<O105,1,0)","v":0},{"$f":"IF(P105<Q105,1,0)","v":0},{"$f":"IF(R105<S105,1,0)","v":0},{"$f":"IF(T105<U105,1,0)","v":0},{"$f":"IF(V105<W105,1,0)","v":0},{"$f":"IF(X105<Y105,1,0)","v":0},{"$f":"IF(Z105<AA105,1,0)","v":0},{"$f":"IF(AB105<AC105,1,0)","v":0},{"$f":"IF(AD105<AE105,1,0)","v":0},{"$f":"IF(AF105<AG105,1,0)","v":0},{"$f":"IF(AH105<AI105,1,0)","v":0},{"$f":"IF(AJ105<AK105,1,0)","v":0},{"$f":"IF(AL105<AM105,1,0)","v":0},{"$f":"IF(AN105<AO105,1,0)","v":0},{"$f":"IF(AP105<AQ105,1,0)","v":0}]
["GESTANTES TERCER TRIMESTRE EMBARAZO",0,0,null,null,null,null,null,null,null,null,null,null,null,null,null,null,null,null,null,null,null,null,null,null,null,null,null,null,null,null,null,null,null,null,null,null,null,null,null,null,null,null,null,null,null,null,null,null,"",null,null,null,null,null,null,null,null,null,null,null,null,null,null,null,null,null,null,null,null,null,null,null,null,null,null,null,null,"","","","",null,null,null,null,null,"","","","","","","","","","","","","","","",null,null,0,0,0,0,null,null,null,null,null,0,0,0,0,0,0,0,0,0,0,0,0,0,0,0]
["GESTANTES TRIMESTRE EMBARAZO IGNORADO",0,0,null,null,null,null,null,null,null,null,null,null,null,null,null,null,null,null,null,null,null,null,null,null,null,null,null,null,null,null,null,null,null,null,null,null,null,null,null,null,null,null,null,null,null,null,null,null,"",null,null,null,null,null,null,null,null,null,null,null,null,null,null,null,null,null,null,null,null,null,null,null,null,null,null,null,null,"","","","",null,null,null,null,null,"","","","","","","","","","","","","","","",null,null,0,0,0,0,null,null,null,null,null,0,0,0,0,0,0,0,0,0,0,0,0,0,0,0]
["GESTANTES EN SEGUIMIENTO POR DIAGNÓSTICO SÍFILIS",0,0,null,null,null,null,null,null,null,null,null,null,null,null,null,null,null,null,null,null,null,null,null,null,null,null,null,null,null,null,null,null,null,null,null,null,null,null,null,null,null,null,null,null,null,null,null,null,"",null,null,null,null,null,null,null,null,null,null,null,null,null,null,null,null,null,null,null,null,null,null,null,null,null,null,null,null,"","","","",null,null,null,null,null,"","","","","","","","","","","","","","","",null,null,0,0,0,0,null,null,null,null,null,0,0,0,0,0,0,0,0,0,0,0,0,0,0,0]
["PAREJA DE GESTANTE CON SEROLOGÍA REACTIVA",0,0,null,null,null,null,null,null,null,null,null,null,null,null,null,null,null,null,null,null,null,null,null,null,null,null,null,null,null,null,null,null,null,null,null,null,null,null,null,null,null,null,null,null,null,null,null,null,"",null,null,null,null,null,null,null,null,null,null,null,null,null,null,null,null,null,null,null,null,null,null,null,null,null,null,null,null,"","","","",null,null,null,null,null,"","","","","","","","","","","","","","","",null,null,0,0,0,0,null,null,null,null,null,0,0,0,0,0,0,0,0,0,0,0,0,0,0,0]
["MUJERES QUE INGRESAN A MATERNIDAD POR PARTO",0,0,null,null,null,null,null,null,null,null,null,null,null,null,null,null,null,null,null,null,null,null,null,null,null,null,null,null,null,null,null,null,null,null,null,null,null,null,null,null,null,null,null,null,null,null,null,null,"",null,null,null,null,null,null,null,null,null,null,null,null,null,null,null,null,null,null,null,null,null,null,null,null,null,null,null,null,"","","","",null,null,null,null,null,"","","","","","","","","","","","","","","",null,null,0,0,0,0,null,null,null,null,null,0,0,0,0,0,0,0,0,0,0,0,0,0,0,0]
["MUJERES QUE INGRESAN POR ABORTO",0,0,null,null,null,null,null,null,null,null,null,null,null,null,null,null,null,null,null,null,null,null,null,null,null,null,null,null,null,null,null,null,null,null,null,null,null,null,null,null,null,null,null,null,null,null,null,null,"",null,null,null,null,null,null,null,null,null,null,null,null,null,null,null,null,null,null,null,null,null,null,null,null,null,null,null,null,"","","","",null,null,null,null,null,"","","","","","","","","","","","","","","",null,null,0,0,0,0,null,null,null,null,null,0,0,0,0,0,0,0,0,0,0,0,0,0,0,0]
["MUJERES EN CONTROL GINECOLÓGICO",{"$f":"+D112+F112+H112+J112+L112+N112+P112+R112+T112+V112+X112+Z112+AB112+AD112+AF112+AH112+AJ112+AL112+AN112+AP112","v":0},{"$f":"+E112+G112+I112+K112+M112+O112+Q112+S112+U112+W112+Y112+AA112+AC112+AE112+AG112+AI112+AK112+AM112+AO112+AQ112","v":0},null,null,null,null,null,null,null,null,null,null,null,null,null,null,null,null,null,null,null,null,null,null,null,null,null,null,null,null,null,null,null,null,null,null,null,null,null,null,null,null,null,null,null,null,null,null,"",null,null,null,null,null,null,null,null,null,null,null,null,null,null,null,null,null,null,null,null,null,null,null,null,null,null,null,null,"","","",{"$f":"IF(AND($B112<>0,AW112=\"\"),\"* No olvide ingresar la columna \"&AW$32&\"\"&\" (Digite CERO si no tiene).\",IF(B112<AW112,\"* La columna Migrantes NO DEBE ser superior al Total Procesados. \",\"\"))","v":""},{"$f":"IF(D112<E112,\"* El Total de Procesados debe ser mayor o igual al Total de Reactivos en el grupo de edad  \"&D$33&\"\"&\" \",\"\")","v":""},{"$f":"IF(F112<G112,\"* El Total de Procesados debe ser mayor o igual al Total de Reactivos en el grupo de edad  \"&F$33&\"\"&\" \",\"\")","v":""},{"$f":"IF(H112<I112,\"* El Total de Procesados debe ser mayor o igual al Total de Reactivos en el grupo de edad  \"&H$33&\"\"&\" \",\"\")","v":""},{"$f":"IF(J112<K112,\"* El Total de Procesados debe ser mayor o igual al Total de Reactivos en el grupo de edad  \"&J$33&\"\"&\" \",\"\")","v":""},{"$f":"IF(L112<M112,\"* El Total de Procesados debe ser mayor o igual al Total de Reactivos en el grupo de edad  \"&L$33&\"\"&\" \",\"\")","v":""},"","","","","","","","","","","","","","","",null,null,0,0,0,0,{"$f":"IF(D112<E112,1,0)","v":0},{"$f":"IF(F112<G112,1,0)","v":0},{"$f":"IF(H112<I112,1,0)","v":0},{"$f":"IF(J112<K112,1,0)","v":0},{"$f":"IF(L112<M112,1,0)","v":0},{"$f":"IF(N112<O112,1,0)","v":0},{"$f":"IF(P112<Q112,1,0)","v":0},{"$f":"IF(R112<S112,1,0)","v":0},{"$f":"IF(T112<U112,1,0)","v":0},{"$f":"IF(V112<W112,1,0)","v":0},{"$f":"IF(X112<Y112,1,0)","v":0},{"$f":"IF(Z112<AA112,1,0)","v":0},{"$f":"IF(AB112<AC112,1,0)","v":0},{"$f":"IF(AD112<AE112,1,0)","v":0},{"$f":"IF(AF112<AG112,1,0)","v":0},{"$f":"IF(AH112<AI112,1,0)","v":0},{"$f":"IF(AJ112<AK112,1,0)","v":0},{"$f":"IF(AL112<AM112,1,0)","v":0},{"$f":"IF(AN112<AO112,1,0)","v":0},{"$f":"IF(AP112<AQ112,1,0)","v":0}]
["RECIÉN NACIDO Y LACTANTE PARA DETECCIÓN DE SÍFILIS CONGÉNITA",{"$f":"+D113+F113+H113","v":0},{"$f":"+E113+G113+I113","v":0},null,null,null,null,null,null,null,null,null,null,null,null,null,null,null,null,null,null,null,null,null,null,null,null,null,null,null,null,null,null,null,null,null,null,null,null,null,null,null,null,null,null,null,null,null,null,"",null,null,null,null,null,null,null,null,null,null,null,null,null,null,null,null,null,null,null,null,null,null,null,null,null,null,null,null,"","","",{"$f":"IF(AND($B113<>0,AW113=\"\"),\"* No olvide ingresar la columna \"&AW$32&\"\"&\" (Digite CERO si no tiene).\",IF(B113<AW113,\"* La columna Migrantes NO DEBE ser superior al Total Procesados. \",\"\"))","v":""},{"$f":"IF(D113<E113,\"* El Total de Procesados debe ser mayor o igual al Total de Reactivos en el grupo de edad  \"&D$33&\"\"&\" \",\"\")","v":""},{"$f":"IF(F113<G113,\"* El Total de Procesados debe ser mayor o igual al Total de Reactivos en el grupo de edad  \"&F$33&\"\"&\" \",\"\")","v":""},{"$f":"IF(H113<I113,\"* El Total de Procesados debe ser mayor o igual al Total de Reactivos en el grupo de edad  \"&H$33&\"\"&\" \",\"\")","v":""},null,null,null,null,null,null,null,null,null,null,null,null,null,null,null,null,null,null,null,0,0,0,0,0,0,0]
["PERSONAS EN CONTROL POR COMERCIO SEXUAL",{"$f":"+P114+R114+T114+V114+X114+Z114+AB114+AD114+AF114+AH114+AJ114+AL114+AN114+AP114","v":0},{"$f":"+Q114+S114+U114+W114+Y114+AA114+AC114+AE114+AG114+AI114+AK114+AM114+AO114+AQ114","v":0},null,null,null,null,null,null,null,null,null,null,null,null,null,null,null,null,null,null,null,null,null,null,null,null,null,null,null,null,null,null,null,null,null,null,null,null,null,null,null,null,null,null,null,null,null,null,"",null,null,null,null,null,null,null,null,null,null,null,null,null,null,null,null,null,null,null,null,null,null,null,null,null,null,null,null,"","","","","","","",{"$f":"IF(J114<K114,\"* El Total de Procesados debe ser mayor o igual al Total de Reactivos en el grupo de edad  \"&J$33&\"\"&\" \",\"\")","v":""},{"$f":"IF(L114<M114,\"* El Total de Procesados debe ser mayor o igual al Total de Reactivos en el grupo de edad  \"&L$33&\"\"&\" \",\"\")","v":""},{"$f":"IF(N114<O114,\"* El Total de Procesados debe ser mayor o igual al Total de Reactivos en el grupo de edad  \"&N$33&\"\"&\" \",\"\")","v":""},{"$f":"IF(P114<Q114,\"* El Total de Procesados debe ser mayor o igual al Total de Reactivos en el grupo de edad  \"&P$33&\"\"&\" \",\"\")","v":""},{"$f":"IF(R114<S114,\"* El Total de Procesados debe ser mayor o igual al Total de Reactivos en el grupo de edad  \"&R$33&\"\"&\" \",\"\")","v":""},{"$f":"IF(T114<U114,\"* El Total de Procesados debe ser mayor o igual al Total de Reactivos en el grupo de edad  \"&T$33&\"\"&\" \",\"\")","v":""},{"$f":"IF(V114<W114,\"* El Total de Procesados debe ser mayor o igual al Total de Reactivos en el grupo de edad  \"&V$33&\"\"&\" \",\"\")","v":""},{"$f":"IF(X114<Y114,\"* El Total de Procesados debe ser mayor o igual al Total de Reactivos en el grupo de edad  \"&X$33&\"\"&\" \",\"\")","v":""},{"$f":"IF(Z114<AA114,\"* El Total de Procesados debe ser mayor o igual al Total de Reactivos en el grupo de edad  \"&Z$33&\"\"&\" \",\"\")","v":""},{"$f":"IF(AB114<AC114,\"* El Total de Procesados debe ser mayor o igual al Total de Reactivos en el grupo de edad  \"&AB$33&\"\"&\" \",\"\")","v":""},{"$f":"IF(AD114<AE114,\"* El Total de Procesados debe ser mayor o igual al Total de Reactivos en el grupo de edad  \"&AD$33&\"\"&\" \",\"\")","v":""},{"$f":"IF(AF114<AG114,\"* El Total de Procesados debe ser mayor o igual al Total de Reactivos en el grupo de edad  \"&AF$33&\"\"&\" \",\"\")","v":""},{"$f":"IF(AH114<AI114,\"* El Total de Procesados debe ser mayor o igual al Total de Reactivos en el grupo de edad  \"&AH$33&\"\"&\" \",\"\")","v":""},{"$f":"IF(AJ114<AK114,\"* El Total de Procesados debe ser mayor o igual al Total de Reactivos en el grupo de edad  \"&AJ$33&\"\"&\" \",\"\")","v":""},{"$f":"IF(AL114<AM114,\"* El Total de Procesados debe ser mayor o igual al Total de Reactivos en el grupo de edad  \"&AL$33&\"\"&\" \",\"\")","v":""},{"$f":"IF(AN114<AO114,\"* El Total de Procesados debe ser mayor o igual al Total de Reactivos en el grupo de edad  \"&AN$33&\"\"&\" \",\"\")","v":""},{"$f":"IF(AP114<AQ114,\"* El Total de Procesados debe ser mayor o igual al Total de Reactivos en el grupo de edad  \"&AP$33&\"\"&\" \",\"\")","v":""},null,null,0,0,0,0,0,0,0,{"$f":"IF(J114<K114,1,0)","v":0},{"$f":"IF(L114<M114,1,0)","v":0},{"$f":"IF(N114<O114,1,0)","v":0},{"$f":"IF(P114<Q114,1,0)","v":0},{"$f":"IF(R114<S114,1,0)","v":0},{"$f":"IF(T114<U114,1,0)","v":0},{"$f":"IF(V114<W114,1,0)","v":0},{"$f":"IF(X114<Y114,1,0)","v":0},{"$f":"IF(Z114<AA114,1,0)","v":0},{"$f":"IF(AB114<AC114,1,0)","v":0},{"$f":"IF(AD114<AE114,1,0)","v":0},{"$f":"IF(AF114<AG114,1,0)","v":0},{"$f":"IF(AH114<AI114,1,0)","v":0},{"$f":"IF(AJ114<AK114,1,0)","v":0},{"$f":"IF(AL114<AM114,1,0)","v":0},{"$f":"IF(AN114<AO114,1,0)","v":0},{"$f":"IF(AP114<AQ114,1,0)","v":0}]
["PERSONAS EN CONTROL FECUNDIDAD",{"$f":"+N115+P115+R115+T115+V115+X115+Z115+AB115+AD115+AF115+AH115+AJ115+AL115+AN115+AP115","v":0},{"$f":"+O115+Q115+S115+U115+W115+Y115+AA115+AC115+AE115+AG115+AI115+AK115+AM115+AO115+AQ115","v":0},null,null,null,null,null,null,null,null,null,null,null,null,null,null,null,null,null,null,null,null,null,null,null,null,null,null,null,null,null,null,null,null,null,null,null,null,null,null,null,null,null,null,null,null,null,null,"",null,null,null,null,null,null,null,null,null,null,null,null,null,null,null,null,null,null,null,null,null,null,null,null,null,null,null,null,"","","","","","","",{"$f":"IF(J115<K115,\"* El Total de Procesados debe ser mayor o igual al Total de Reactivos en el grupo de edad  \"&J$10&\"\"&\" \",\"\")","v":""},{"$f":"IF(L115<M115,\"* El Total de Procesados debe ser mayor o igual al Total de Reactivos en el grupo de edad  \"&L$10&\"\"&\" \",\"\")","v":""},"","","","","","","","","","","","","","","",null,null,0,0,0,0,0,0,0,0,0,0,0,0,0,0,0,0,0,0,0,0,0,0,0,0]
["CONSULTANTES POR ITS",{"$f":"+D116+F116+H116+J116+L116+N116+P116+R116+T116+V116+X116+Z116+AB116+AD116+AF116+AH116+AJ116+AL116+AN116+AP116","v":0},{"$f":"+E116+G116+I116+K116+M116+O116+Q116+S116+U116+W116+Y116+AA116+AC116+AE116+AG116+AI116+AK116+AM116+AO116+AQ116","v":0},null,null,null,null,null,null,null,null,null,null,null,null,null,null,null,null,null,null,null,null,null,null,null,null,null,null,null,null,null,null,null,null,null,null,null,null,null,null,null,null,null,null,null,null,null,null,"",null,null,null,null,null,null,null,null,null,null,null,null,null,null,null,null,null,null,null,null,null,null,null,null,null,null,null,null,"","","","","","","","","","","","","","","","","","","","","","","","",null,null,0,0,0,0,0,0,0,0,0,0,0,0,0,0,0,0,0,0,0,0,0,0,0,0]
["PERSONAS EMP/EMPAM ",{"$f":"+P117+R117+T117+V117+X117+Z117+AB117+AD117+AF117+AH117+AJ117+AL117+AN117+AP117","v":0},{"$f":"+Q117+S117+U117+W117+Y117+AA117+AC117+AE117+AG117+AI117+AK117+AM117+AO117+AQ117","v":0},null,null,null,null,null,null,null,null,null,null,null,null,null,null,null,null,null,null,null,null,null,null,null,null,null,null,null,null,null,null,null,null,null,null,null,null,null,null,null,null,null,null,null,null,null,null,"",null,null,null,null,null,null,null,null,null,null,null,null,null,null,null,null,null,null,null,null,null,null,null,null,null,null,null,null,"","","","","","","","","","","","","","","","","","","","","","","","",null,null,0,0,0,0,0,0,0,0,0,0,0,0,0,0,0,0,0,0,0,0,0,0,0,0]
["DONANTES DE SANGRE",{"$f":"+P118+R118+T118+V118+X118+Z118+AB118+AD118+AF118+AH118","v":0},{"$f":"+Q118+S118+U118+W118+Y118+AA118+AC118+AE118+AG118+AI118","v":0},null,null,null,null,null,null,null,null,null,null,null,null,null,null,null,null,null,null,null,null,null,null,null,null,null,null,null,null,null,null,null,null,null,null,null,null,null,null,null,null,null,null,null,null,null,null,"",null,null,null,null,null,null,null,null,null,null,null,null,null,null,null,null,null,null,null,null,null,null,null,null,null,null,null,null,"","","","","","","","","","","","","","","","","","","","","","","","",null,null,0,0,0,0,0,0,0,0,0,0,0,0,0,0,0,0,0,0,0,0,0,0,0,0]
["DONANTES DE ÓRGANOS Y/O TEJIDOS",{"$f":"+D119+F119+H119+J119+L119+N119+P119+R119+T119+V119+X119+Z119+AB119+AD119+AF119+AH119+AJ119+AL119+AN119+AP119","v":0},0,null,null,null,null,null,null,null,null,null,null,null,null,null,null,null,null,null,null,null,null,null,null,null,null,null,null,null,null,null,null,null,null,null,null,null,null,null,null,null,null,null,null,null,null,null,null,"",null,null,null,null,null,null,null,null,null,null,null,null,null,null,null,null,null,null,null,null,null,null,null,null,null,null,null,null,"","","","","","","","","","","","","","","","","","","","","","","","",null,null,0,0,0,0,0,0,0,0,0,0,0,0,0,0,0,0,0,0,0,0,0,0,0,0]
["PACIENTES EN DIÁLISIS",0,0,null,null,null,null,null,null,null,null,null,null,null,null,null,null,null,null,null,null,null,null,null,null,null,null,null,null,null,null,null,null,null,null,null,null,null,null,null,null,null,null,null,null,null,null,null,null,"",null,null,null,null,null,null,null,null,null,null,null,null,null,null,null,null,null,null,null,null,null,null,null,null,null,null,null,null,"","","","","","","","","","","","","","","","","","","","","","","","",null,null,0,0,0,0,0,0,0,0,0,0,0,0,0,0,0,0,0,0,0,0,0,0,0,0]
["VÍCTIMA DE VIOLENCIA SEXUAL",0,0,null,null,null,null,null,null,null,null,null,null,null,null,null,null,null,null,null,null,null,null,null,null,null,null,null,null,null,null,null,null,null,null,null,null,null,null,null,null,null,null,null,null,null,null,null,null,"",null,null,null,null,null,null,null,null,null,null,null,null,null,null,null,null,null,null,null,null,null,null,null,null,null,null,null,null,"","","","","","","","","","","","","","","","","","","","","","","","",null,null,0,0,0,0,0,0,0,0,0,0,0,0,0,0,0,0,0,0,0,0,0,0,0,0]
[]
["SECCIÓN A.6: EXAMEN MHA-TP POR GRUPO DE USUARIOS (Exámenes procesados por venta de servicios a sector público)"]
["GRUPO DE PESQUISA","TOTAL",null,"POR EDAD (en meses - años)",null,null,null,null,null,null,null,null,null,null,null,null,null,null,null,null,null,null,null,null,null,null,null,null,null,null,null,null,null,null,null,null,null,null,null,null,null,null,null,"POR SEXO\n(Procesados)",null,"TRANS",null,"Pueblos Originarios","Migrantes"]
[null,null,null,"Menor de 6 meses",null,"6 a 11 meses",null,"12-24 meses",null,"3 a 4 años",null,"5 a 9 años",null,"10 - 14 años",null,"15 - 19 años",null,"20 - 24 años",null,"25 a 29 años",null,"30 a 34 años",null,"35 a 39 años",null,"40 a 44 años",null,"45 a 49 años",null,"50 a 54 años",null,"55 a 59 años",null,"60 a 64 años",null,"65 a 69 años",null,"70 a 74 años",null,"75 a 79 años",null,"80 y más años",null,"Hombres","Mujeres","Masculino","Femenino"]
[null,"Procesados","Reactivos","Procesados","Reactivos","Procesados","Reactivos","Procesados","Reactivos","Procesados","Reactivos","Procesados","Reactivos","Procesados","Reactivos","Procesados","Reactivos","Procesados","Reactivos","Procesados","Reactivos","Procesados","Reactivos","Procesados","Reactivos","Procesados","Reactivos","Procesados","Reactivos","Procesados","Reactivos","Procesados","Reactivos","Procesados","Reactivos","Procesados","Reactivos","Procesados","Reactivos","Procesados","Reactivos","Procesados","Reactivos"]
["GESTANTES PRIMER TRIMESTRE EMBARAZO",{"$f":"+N127+P127+R127+T127+V127+X127+Z127+AB127+AD127+AF127+AH127+AJ127+AL127+AN127+AP127","v":0},0,null,null,null,null,null,null,null,null,null,null,null,null,null,null,null,null,null,null,null,null,null,null,null,null,null,null,null,null,null,null,null,null,null,null,null,null,null,null,null,null,null,null,null,null,null,null,{"$f":"$CA127&$CB127&$CC127&$CD127&$CE127&$CF127&$CG127&$CH127&$CI127&$CJ127&$CK127&$CL127&$CM127&$CN127&$CO127&$CP127&$CQ127&$CR127&$CS127&$CT127&$CU127&$CV127&$CW127&$CX127","v":""},null,null,null,null,null,null,null,null,null,null,null,null,null,null,null,null,null,null,null,null,null,null,null,null,null,null,null,null,{"$f":"IF(B127<>(AR127+ AS127),\"* La suma de las columnas POR SEXO (Procesados) DEBE SER IGUAL al Total Procesados. \",\"\")","v":""},{"$f":"IF(AND($B127<>0,AT127=\"\",AU127=\"\"),\"* No olvide ingresar la columna \"&AT$32&\"\"&\" (Digite CERO si no tiene).\",IF((B127<AT127+AU127),\"* La suma de las columna TRANS NO DEBE ser superior al Total de Procesados. \",\"\"))","v":""},{"$f":"IF(AND($B127<>0,AV127=\"\"),\"* No olvide ingresar la columna \"&AV$32&\"\"&\" (Digite CERO si no tiene).\",IF(B127<AV127,\"* La columna Pueblos Originarios NO DEBE ser superior al Total Procesados. \",\"\"))","v":""},{"$f":"IF(AND($B127<>0,AW127=\"\"),\"* No olvide ingresar la columna \"&AW$32&\"\"&\" (Digite CERO si no tiene).\",IF(B127<AW127,\"* La columna Migrantes NO DEBE ser superior al Total Procesados. \",\"\"))","v":""},null,null,null,null,null,{"$f":"IF(N127<O127,\"* El Total de Procesados debe ser mayor o igual al Total de Reactivos en el grupo de edad  \"&N$33&\"\"&\" \",\"\")","v":""},{"$f":"IF(P127<Q127,\"* El Total de Procesados debe ser mayor o igual al Total de Reactivos en el grupo de edad  \"&P$33&\"\"&\" \",\"\")","v":""},{"$f":"IF(R127<S127,\"* El Total de Procesados debe ser mayor o igual al Total de Reactivos en el grupo de edad  \"&R$33&\"\"&\" \",\"\")","v":""},{"$f":"IF(T127<U127,\"* El Total de Procesados debe ser mayor o igual al Total de Reactivos en el grupo de edad  \"&T$33&\"\"&\" \",\"\")","v":""},{"$f":"IF(V127<W127,\"* El Total de Procesados debe ser mayor o igual al Total de Reactivos en el grupo de edad  \"&V$33&\"\"&\" \",\"\")","v":""},{"$f":"IF(X127<Y127,\"* El Total de Procesados debe ser mayor o igual al Total de Reactivos en el grupo de edad  \"&X$33&\"\"&\" \",\"\")","v":""},{"$f":"IF(Z127<AA127,\"* El Total de Procesados debe ser mayor o igual al Total de Reactivos en el grupo de edad  \"&Z$33&\"\"&\" \",\"\")","v":""},{"$f":"IF(AB127<AC127,\"* El Total de Procesados debe ser mayor o igual al Total de Reactivos en el grupo de edad  \"&AB$33&\"\"&\" \",\"\")","v":""},{"$f":"IF(AD127<AE127,\"* El Total de Procesados debe ser mayor o igual al Total de Reactivos en el grupo de edad  \"&AD$33&\"\"&\" \",\"\")","v":""},{"$f":"IF(AF127<AG127,\"* El Total de Procesados debe ser mayor o igual al Total de Reactivos en el grupo de edad  \"&AF$33&\"\"&\" \",\"\")","v":""},{"$f":"IF(AH127<AI127,\"* El Total de Procesados debe ser mayor o igual al Total de Reactivos en el grupo de edad  \"&AH$33&\"\"&\" \",\"\")","v":""},{"$f":"IF(AJ127<AK127,\"* El Total de Procesados debe ser mayor o igual al Total de Reactivos en el grupo de edad  \"&AJ$33&\"\"&\" \",\"\")","v":""},{"$f":"IF(AL127<AM127,\"* El Total de Procesados debe ser mayor o igual al Total de Reactivos en el grupo de edad  \"&AL$33&\"\"&\" \",\"\")","v":""},{"$f":"IF(AN127<AO127,\"* El Total de Procesados debe ser mayor o igual al Total de Reactivos en el grupo de edad  \"&AN$33&\"\"&\" \",\"\")","v":""},{"$f":"IF(AP127<AQ127,\"* El Total de Procesados debe ser mayor o igual al Total de Reactivos en el grupo de edad  \"&AP$33&\"\"&\" \",\"\")","v":""},null,null,{"$f":"IF(B127<>(AR127+ AS127),1,0)","v":0},{"$f":"IF(AND($B127<>0,AT127=\"\",AU127=\"\"),1,IF((B127<AT127+AU127),1,0))","v":0},{"$f":"IF(AND($B127<>0,AV127=\"\"),1,IF(B127<AV127,1,0))","v":0},{"$f":"IF(AND($B127<>0,AW127=\"\"),1,IF(AW127>B127,1,0))","v":0},null,null,null,null,null,{"$f":"IF(N127<O127,1,0)","v":0},{"$f":"IF(P127<Q127,1,0)","v":0},{"$f":"IF(R127<S127,1,0)","v":0},{"$f":"IF(T127<U127,1,0)","v":0},{"$f":"IF(V127<W127,1,0)","v":0},{"$f":"IF(X127<Y127,1,0)","v":0},{"$f":"IF(Z127<AA127,1,0)","v":0},{"$f":"IF(AB127<AC127,1,0)","v":0},{"$f":"IF(AD127<AE127,1,0)","v":0},{"$f":"IF(AF127<AG127,1,0)","v":0},{"$f":"IF(AH127<AI127,1,0)","v":0},{"$f":"IF(AJ127<AK127,1,0)","v":0},{"$f":"IF(AL127<AM127,1,0)","v":0},{"$f":"IF(AN127<AO127,1,0)","v":0},{"$f":"IF(AP127<AQ127,1,0)","v":0}]
["GESTANTES SEGUNDO TRIMESTRE EMBARAZO",0,0,null,null,null,null,null,null,null,null,null,null,null,null,null,null,null,null,null,null,null,null,null,null,null,null,null,null,null,null,null,null,null,null,null,null,null,null,null,null,null,null,null,null,null,null,null,null,"",null,null,null,null,null,null,null,null,null,null,null,null,null,null,null,null,null,null,null,null,null,null,null,null,null,null,null,null,{"$f":"IF(B128<>(AR128+ AS128),\"* La suma de las columnas POR SEXO (Procesados) DEBE SER IGUAL al Total Procesados. \",\"\")","v":""},{"$f":"IF(AND($B128<>0,AT128=\"\",AU128=\"\"),\"* No olvide ingresar la columna \"&AT$32&\"\"&\" (Digite CERO si no tiene).\",IF((B128<AT128+AU128),\"* La suma de las columna TRANS NO DEBE ser superior al Total de Procesados. \",\"\"))","v":""},{"$f":"IF(AND($B128<>0,AV128=\"\"),\"* No olvide ingresar la columna \"&AV$32&\"\"&\" (Digite CERO si no tiene).\",IF(B128<AV128,\"* La columna Pueblos Originarios NO DEBE ser superior al Total Procesados. \",\"\"))","v":""},{"$f":"IF(AND($B128<>0,AW128=\"\"),\"* No olvide ingresar la columna \"&AW$32&\"\"&\" (Digite CERO si no tiene).\",IF(B128<AW128,\"* La columna Migrantes NO DEBE ser superior al Total Procesados. \",\"\"))","v":""},null,null,null,null,null,{"$f":"IF(N128<O128,\"* El Total de Procesados debe ser mayor o igual al Total de Reactivos en el grupo de edad  \"&N$33&\"\"&\" \",\"\")","v":""},{"$f":"IF(P128<Q128,\"* El Total de Procesados debe ser mayor o igual al Total de Reactivos en el grupo de edad  \"&P$33&\"\"&\" \",\"\")","v":""},{"$f":"IF(R128<S128,\"* El Total de Procesados debe ser mayor o igual al Total de Reactivos en el grupo de edad  \"&R$33&\"\"&\" \",\"\")","v":""},{"$f":"IF(T128<U128,\"* El Total de Procesados debe ser mayor o igual al Total de Reactivos en el grupo de edad  \"&T$33&\"\"&\" \",\"\")","v":""},{"$f":"IF(V128<W128,\"* El Total de Procesados debe ser mayor o igual al Total de Reactivos en el grupo de edad  \"&V$33&\"\"&\" \",\"\")","v":""},{"$f":"IF(X128<Y128,\"* El Total de Procesados debe ser mayor o igual al Total de Reactivos en el grupo de edad  \"&X$33&\"\"&\" \",\"\")","v":""},{"$f":"IF(Z128<AA128,\"* El Total de Procesados debe ser mayor o igual al Total de Reactivos en el grupo de edad  \"&Z$33&\"\"&\" \",\"\")","v":""},{"$f":"IF(AB128<AC128,\"* El Total de Procesados debe ser mayor o igual al Total de Reactivos en el grupo de edad  \"&AB$33&\"\"&\" \",\"\")","v":""},{"$f":"IF(AD128<AE128,\"* El Total de Procesados debe ser mayor o igual al Total de Reactivos en el grupo de edad  \"&AD$33&\"\"&\" \",\"\")","v":""},{"$f":"IF(AF128<AG128,\"* El Total de Procesados debe ser mayor o igual al Total de Reactivos en el grupo de edad  \"&AF$33&\"\"&\" \",\"\")","v":""},{"$f":"IF(AH128<AI128,\"* El Total de Procesados debe ser mayor o igual al Total de Reactivos en el grupo de edad  \"&AH$33&\"\"&\" \",\"\")","v":""},{"$f":"IF(AJ128<AK128,\"* El Total de Procesados debe ser mayor o igual al Total de Reactivos en el grupo de edad  \"&AJ$33&\"\"&\" \",\"\")","v":""},{"$f":"IF(AL128<AM128,\"* El Total de Procesados debe ser mayor o igual al Total de Reactivos en el grupo de edad  \"&AL$33&\"\"&\" \",\"\")","v":""},{"$f":"IF(AN128<AO128,\"* El Total de Procesados debe ser mayor o igual al Total de Reactivos en el grupo de edad  \"&AN$33&\"\"&\" \",\"\")","v":""},{"$f":"IF(AP128<AQ128,\"* El Total de Procesados debe ser mayor o igual al Total de Reactivos en el grupo de edad  \"&AP$33&\"\"&\" \",\"\")","v":""},null,null,{"$f":"IF(B128<>(AR128+ AS128),1,0)","v":0},{"$f":"IF(AND($B128<>0,AT128=\"\",AU128=\"\"),1,IF((B128<AT128+AU128),1,0))","v":0},{"$f":"IF(AND($B128<>0,AV128=\"\"),1,IF(B128<AV128,1,0))","v":0},{"$f":"IF(AND($B128<>0,AW128=\"\"),1,IF(AW128>B128,1,0))","v":0},null,null,null,null,null,{"$f":"IF(N128<O128,1,0)","v":0},{"$f":"IF(P128<Q128,1,0)","v":0},{"$f":"IF(R128<S128,1,0)","v":0},{"$f":"IF(T128<U128,1,0)","v":0},{"$f":"IF(V128<W128,1,0)","v":0},{"$f":"IF(X128<Y128,1,0)","v":0},{"$f":"IF(Z128<AA128,1,0)","v":0},{"$f":"IF(AB128<AC128,1,0)","v":0},{"$f":"IF(AD128<AE128,1,0)","v":0},{"$f":"IF(AF128<AG128,1,0)","v":0},{"$f":"IF(AH128<AI128,1,0)","v":0},{"$f":"IF(AJ128<AK128,1,0)","v":0},{"$f":"IF(AL128<AM128,1,0)","v":0},{"$f":"IF(AN128<AO128,1,0)","v":0},{"$f":"IF(AP128<AQ128,1,0)","v":0}]
["GESTANTES TERCER TRIMESTRE EMBARAZO",0,0,null,null,null,null,null,null,null,null,null,null,null,null,null,null,null,null,null,null,null,null,null,null,null,null,null,null,null,null,null,null,null,null,null,null,null,null,null,null,null,null,null,null,null,null,null,null,{"$f":"$CA129&$CB129&$CC129&$CD129&$CE129&$CF129&$CG129&$CH129&$CI129&$CJ129&$CK129&$CL129&$CM129&$CN129&$CO129&$CP129&$CQ129&$CR129&$CS129&$CT129&$CU129&$CV129&$CW129&$CX129","v":""},null,null,null,null,null,null,null,null,null,null,null,null,null,null,null,null,null,null,null,null,null,null,null,null,null,null,null,null,"","","","",null,null,null,null,null,"","","","","","","","","","","","","","","",null,null,0,0,0,0,null,null,null,null,null,0,0,0,0,0,0,0,0,0,0,0,0,0,0,0]
["GESTANTES TRIMESTRE EMBARAZO IGNORADO",0,0,null,null,null,null,null,null,null,null,null,null,null,null,null,null,null,null,null,null,null,null,null,null,null,null,null,null,null,null,null,null,null,null,null,null,null,null,null,null,null,null,null,null,null,null,null,null,"",null,null,null,null,null,null,null,null,null,null,null,null,null,null,null,null,null,null,null,null,null,null,null,null,null,null,null,null,"","","","",null,null,null,null,null,"","","","","","","","","","","","","","","",null,null,0,0,0,0,null,null,null,null,null,0,0,0,0,0,0,0,0,0,0,0,0,0,0,0]
["GESTANTES EN SEGUIMIENTO POR DIAGNÓSTICO SÍFILIS",0,0,null,null,null,null,null,null,null,null,null,null,null,null,null,null,null,null,null,null,null,null,null,null,null,null,null,null,null,null,null,null,null,null,null,null,null,null,null,null,null,null,null,null,null,null,null,null,"",null,null,null,null,null,null,null,null,null,null,null,null,null,null,null,null,null,null,null,null,null,null,null,null,null,null,null,null,"","","","",null,null,null,null,null,"","","","","","","","","","","","","","","",null,null,0,0,0,0,null,null,null,null,null,0,0,0,0,0,0,0,0,0,0,0,0,0,0,0]
["PAREJA DE GESTANTE CON SEROLOGÍA REACTIVA",0,0,null,null,null,null,null,null,null,null,null,null,null,null,null,null,null,null,null,null,null,null,null,null,null,null,null,null,null,null,null,null,null,null,null,null,null,null,null,null,null,null,null,null,null,null,null,null,"",null,null,null,null,null,null,null,null,null,null,null,null,null,null,null,null,null,null,null,null,null,null,null,null,null,null,null,null,"","","","",null,null,null,null,null,"","","","","","","","","","","","","","","",null,null,0,0,0,0,null,null,null,null,null,0,0,0,0,0,0,0,0,0,0,0,0,0,0,0]
["MUJERES QUE INGRESAN A MATERNIDAD POR PARTO",0,0,null,null,null,null,null,null,null,null,null,null,null,null,null,null,null,null,null,null,null,null,null,null,null,null,null,null,null,null,null,null,null,null,null,null,null,null,null,null,null,null,null,null,null,null,null,null,"",null,null,null,null,null,null,null,null,null,null,null,null,null,null,null,null,null,null,null,null,null,null,null,null,null,null,null,null,"","","","",null,null,null,null,null,"","","","","","","","","","","","","","","",null,null,0,0,0,0,null,null,null,null,null,0,0,0,0,0,0,0,0,0,0,0,0,0,0,0]
["MUJERES QUE INGRESAN POR ABORTO",0,0,null,null,null,null,null,null,null,null,null,null,null,null,null,null,null,null,null,null,null,null,null,null,null,null,null,null,null,null,null,null,null,null,null,null,null,null,null,null,null,null,null,null,null,null,null,null,"",null,null,null,null,null,null,null,null,null,null,null,null,null,null,null,null,null,null,null,null,null,null,null,null,null,null,null,null,"","","","",null,null,null,null,null,"","","","","","","","","","","","","","","",null,null,0,0,0,0,null,null,null,null,null,0,0,0,0,0,0,0,0,0,0,0,0,0,0,0]
["MUJERES EN CONTROL GINECOLÓGICO",{"$f":"+D135+F135+H135+J135+L135+N135+P135+R135+T135+V135+X135+Z135+AB135+AD135+AF135+AH135+AJ135+AL135+AN135+AP135","v":0},{"$f":"+E135+G135+I135+K135+M135+O135+Q135+S135+U135+W135+Y135+AA135+AC135+AE135+AG135+AI135+AK135+AM135+AO135+AQ135","v":0},null,null,null,null,null,null,null,null,null,null,null,null,null,null,null,null,null,null,null,null,null,null,null,null,null,null,null,null,null,null,null,null,null,null,null,null,null,null,null,null,null,null,null,null,null,null,"",null,null,null,null,null,null,null,null,null,null,null,null,null,null,null,null,null,null,null,null,null,null,null,null,null,null,null,null,"","","",{"$f":"IF(AND($B135<>0,AW135=\"\"),\"* No olvide ingresar la columna \"&AW$32&\"\"&\" (Digite CERO si no tiene).\",IF(B135<AW135,\"* La columna Migrantes NO DEBE ser superior al Total Procesados. \",\"\"))","v":""},{"$f":"IF(D135<E135,\"* El Total de Procesados debe ser mayor o igual al Total de Reactivos en el grupo de edad  \"&D$33&\"\"&\" \",\"\")","v":""},{"$f":"IF(F135<G135,\"* El Total de Procesados debe ser mayor o igual al Total de Reactivos en el grupo de edad  \"&F$33&\"\"&\" \",\"\")","v":""},{"$f":"IF(H135<I135,\"* El Total de Procesados debe ser mayor o igual al Total de Reactivos en el grupo de edad  \"&H$33&\"\"&\" \",\"\")","v":""},{"$f":"IF(J135<K135,\"* El Total de Procesados debe ser mayor o igual al Total de Reactivos en el grupo de edad  \"&J$33&\"\"&\" \",\"\")","v":""},{"$f":"IF(L135<M135,\"* El Total de Procesados debe ser mayor o igual al Total de Reactivos en el grupo de edad  \"&L$33&\"\"&\" \",\"\")","v":""},"","","","","","","","","","","","","","","",null,null,0,0,0,0,{"$f":"IF(D135<E135,1,0)","v":0},{"$f":"IF(F135<G135,1,0)","v":0},{"$f":"IF(H135<I135,1,0)","v":0},{"$f":"IF(J135<K135,1,0)","v":0},{"$f":"IF(L135<M135,1,0)","v":0},{"$f":"IF(N135<O135,1,0)","v":0},{"$f":"IF(P135<Q135,1,0)","v":0},{"$f":"IF(R135<S135,1,0)","v":0},{"$f":"IF(T135<U135,1,0)","v":0},{"$f":"IF(V135<W135,1,0)","v":0},{"$f":"IF(X135<Y135,1,0)","v":0},{"$f":"IF(Z135<AA135,1,0)","v":0},{"$f":"IF(AB135<AC135,1,0)","v":0},{"$f":"IF(AD135<AE135,1,0)","v":0},{"$f":"IF(AF135<AG135,1,0)","v":0},{"$f":"IF(AH135<AI135,1,0)","v":0},{"$f":"IF(AJ135<AK135,1,0)","v":0},{"$f":"IF(AL135<AM135,1,0)","v":0},{"$f":"IF(AN135<AO135,1,0)","v":0},{"$f":"IF(AP135<AQ135,1,0)","v":0}]
["RECIÉN NACIDO Y LACTANTE PARA DETECCIÓN DE SÍFILIS CONGÉNITA",{"$f":"+D136+F136+H136","v":0},{"$f":"+E136+G136+I136","v":0},null,null,null,null,null,null,null,null,null,null,null,null,null,null,null,null,null,null,null,null,null,null,null,null,null,null,null,null,null,null,null,null,null,null,null,null,null,null,null,null,null,null,null,null,null,null,"",null,null,null,null,null,null,null,null,null,null,null,null,null,null,null,null,null,null,null,null,null,null,null,null,null,null,null,null,"","","",{"$f":"IF(AND($B136<>0,AW136=\"\"),\"* No olvide ingresar la columna \"&AW$32&\"\"&\" (Digite CERO si no tiene).\",IF(B136<AW136,\"* La columna Migrantes NO DEBE ser superior al Total Procesados. \",\"\"))","v":""},{"$f":"IF(D136<E136,\"* El Total de Procesados debe ser mayor o igual al Total de Reactivos en el grupo de edad  \"&D$33&\"\"&\" \",\"\")","v":""},{"$f":"IF(F136<G136,\"* El Total de Procesados debe ser mayor o igual al Total de Reactivos en el grupo de edad  \"&F$33&\"\"&\" \",\"\")","v":""},{"$f":"IF(H136<I136,\"* El Total de Procesados debe ser mayor o igual al Total de Reactivos en el grupo de edad  \"&H$33&\"\"&\" \",\"\")","v":""},null,null,null,null,null,null,null,null,null,null,null,null,null,null,null,null,null,null,null,0,0,0,0,0,0,0]
["PERSONAS EN CONTROL POR COMERCIO SEXUAL",{"$f":"+P137+R137+T137+V137+X137+Z137+AB137+AD137+AF137+AH137+AJ137+AL137+AN137+AP137","v":0},{"$f":"+Q137+S137+U137+W137+Y137+AA137+AC137+AE137+AG137+AI137+AK137+AM137+AO137+AQ137","v":0},null,null,null,null,null,null,null,null,null,null,null,null,null,null,null,null,null,null,null,null,null,null,null,null,null,null,null,null,null,null,null,null,null,null,null,null,null,null,null,null,null,null,null,null,null,null,"",null,null,null,null,null,null,null,null,null,null,null,null,null,null,null,null,null,null,null,null,null,null,null,null,null,null,null,null,"","","","","","","",{"$f":"IF(J137<K137,\"* El Total de Procesados debe ser mayor o igual al Total de Reactivos en el grupo de edad  \"&J$33&\"\"&\" \",\"\")","v":""},{"$f":"IF(L137<M137,\"* El Total de Procesados debe ser mayor o igual al Total de Reactivos en el grupo de edad  \"&L$33&\"\"&\" \",\"\")","v":""},{"$f":"IF(N137<O137,\"* El Total de Procesados debe ser mayor o igual al Total de Reactivos en el grupo de edad  \"&N$33&\"\"&\" \",\"\")","v":""},{"$f":"IF(P137<Q137,\"* El Total de Procesados debe ser mayor o igual al Total de Reactivos en el grupo de edad  \"&P$33&\"\"&\" \",\"\")","v":""},{"$f":"IF(R137<S137,\"* El Total de Procesados debe ser mayor o igual al Total de Reactivos en el grupo de edad  \"&R$33&\"\"&\" \",\"\")","v":""},{"$f":"IF(T137<U137,\"* El Total de Procesados debe ser mayor o igual al Total de Reactivos en el grupo de edad  \"&T$33&\"\"&\" \",\"\")","v":""},{"$f":"IF(V137<W137,\"* El Total de Procesados debe ser mayor o igual al Total de Reactivos en el grupo de edad  \"&V$33&\"\"&\" \",\"\")","v":""},{"$f":"IF(X137<Y137,\"* El Total de Procesados debe ser mayor o igual al Total de Reactivos en el grupo de edad  \"&X$33&\"\"&\" \",\"\")","v":""},{"$f":"IF(Z137<AA137,\"* El Total de Procesados debe ser mayor o igual al Total de Reactivos en el grupo de edad  \"&Z$33&\"\"&\" \",\"\")","v":""},{"$f":"IF(AB137<AC137,\"* El Total de Procesados debe ser mayor o igual al Total de Reactivos en el grupo de edad  \"&AB$33&\"\"&\" \",\"\")","v":""},{"$f":"IF(AD137<AE137,\"* El Total de Procesados debe ser mayor o igual al Total de Reactivos en el grupo de edad  \"&AD$33&\"\"&\" \",\"\")","v":""},{"$f":"IF(AF137<AG137,\"* El Total de Procesados debe ser mayor o igual al Total de Reactivos en el grupo de edad  \"&AF$33&\"\"&\" \",\"\")","v":""},{"$f":"IF(AH137<AI137,\"* El Total de Procesados debe ser mayor o igual al Total de Reactivos en el grupo de edad  \"&AH$33&\"\"&\" \",\"\")","v":""},{"$f":"IF(AJ137<AK137,\"* El Total de Procesados debe ser mayor o igual al Total de Reactivos en el grupo de edad  \"&AJ$33&\"\"&\" \",\"\")","v":""},{"$f":"IF(AL137<AM137,\"* El Total de Procesados debe ser mayor o igual al Total de Reactivos en el grupo de edad  \"&AL$33&\"\"&\" \",\"\")","v":""},{"$f":"IF(AN137<AO137,\"* El Total de Procesados debe ser mayor o igual al Total de Reactivos en el grupo de edad  \"&AN$33&\"\"&\" \",\"\")","v":""},{"$f":"IF(AP137<AQ137,\"* El Total de Procesados debe ser mayor o igual al Total de Reactivos en el grupo de edad  \"&AP$33&\"\"&\" \",\"\")","v":""},null,null,0,0,0,0,0,0,0,{"$f":"IF(J137<K137,1,0)","v":0},{"$f":"IF(L137<M137,1,0)","v":0},{"$f":"IF(N137<O137,1,0)","v":0},{"$f":"IF(P137<Q137,1,0)","v":0},{"$f":"IF(R137<S137,1,0)","v":0},{"$f":"IF(T137<U137,1,0)","v":0},{"$f":"IF(V137<W137,1,0)","v":0},{"$f":"IF(X137<Y137,1,0)","v":0},{"$f":"IF(Z137<AA137,1,0)","v":0},{"$f":"IF(AB137<AC137,1,0)","v":0},{"$f":"IF(AD137<AE137,1,0)","v":0},{"$f":"IF(AF137<AG137,1,0)","v":0},{"$f":"IF(AH137<AI137,1,0)","v":0},{"$f":"IF(AJ137<AK137,1,0)","v":0},{"$f":"IF(AL137<AM137,1,0)","v":0},{"$f":"IF(AN137<AO137,1,0)","v":0},{"$f":"IF(AP137<AQ137,1,0)","v":0}]
["PERSONAS EN CONTROL FECUNDIDAD",{"$f":"+N138+P138+R138+T138+V138+X138+Z138+AB138+AD138+AF138+AH138+AJ138+AL138+AN138+AP138","v":0},{"$f":"+O138+Q138+S138+U138+W138+Y138+AA138+AC138+AE138+AG138+AI138+AK138+AM138+AO138+AQ138","v":0},null,null,null,null,null,null,null,null,null,null,null,null,null,null,null,null,null,null,null,null,null,null,null,null,null,null,null,null,null,null,null,null,null,null,null,null,null,null,null,null,null,null,null,null,null,null,"",null,null,null,null,null,null,null,null,null,null,null,null,null,null,null,null,null,null,null,null,null,null,null,null,null,null,null,null,"","","","","","","",{"$f":"IF(J138<K138,\"* El Total de Procesados debe ser mayor o igual al Total de Reactivos en el grupo de edad  \"&J$10&\"\"&\" \",\"\")","v":""},{"$f":"IF(L138<M138,\"* El Total de Procesados debe ser mayor o igual al Total de Reactivos en el grupo de edad  \"&L$10&\"\"&\" \",\"\")","v":""},"","","","","","","","","","","","","","","",null,null,0,0,0,0,0,0,0,0,0,0,0,0,0,0,0,0,0,0,0,0,0,0,0,0]
["CONSULTANTES POR ITS",{"$f":"+D139+F139+H139+J139+L139+N139+P139+R139+T139+V139+X139+Z139+AB139+AD139+AF139+AH139+AJ139+AL139+AN139+AP139","v":0},{"$f":"+E139+G139+I139+K139+M139+O139+Q139+S139+U139+W139+Y139+AA139+AC139+AE139+AG139+AI139+AK139+AM139+AO139+AQ139","v":0},null,null,null,null,null,null,null,null,null,null,null,null,null,null,null,null,null,null,null,null,null,null,null,null,null,null,null,null,null,null,null,null,null,null,null,null,null,null,null,null,null,null,null,null,null,null,"",null,null,null,null,null,null,null,null,null,null,null,null,null,null,null,null,null,null,null,null,null,null,null,null,null,null,null,null,"","","","","","","","","","","","","","","","","","","","","","","","",null,null,0,0,0,0,0,0,0,0,0,0,0,0,0,0,0,0,0,0,0,0,0,0,0,0]
["PERSONAS EMP/EMPAM ",{"$f":"+P140+R140+T140+V140+X140+Z140+AB140+AD140+AF140+AH140+AJ140+AL140+AN140+AP140","v":0},{"$f":"+Q140+S140+U140+W140+Y140+AA140+AC140+AE140+AG140+AI140+AK140+AM140+AO140+AQ140","v":0},null,null,null,null,null,null,null,null,null,null,null,null,null,null,null,null,null,null,null,null,null,null,null,null,null,null,null,null,null,null,null,null,null,null,null,null,null,null,null,null,null,null,null,null,null,null,"",null,null,null,null,null,null,null,null,null,null,null,null,null,null,null,null,null,null,null,null,null,null,null,null,null,null,null,null,"","","","","","","","","","","","","","","","","","","","","","","","",null,null,0,0,0,0,0,0,0,0,0,0,0,0,0,0,0,0,0,0,0,0,0,0,0,0]
["DONANTES DE SANGRE",{"$f":"+P141+R141+T141+V141+X141+Z141+AB141+AD141+AF141+AH141","v":0},{"$f":"+Q141+S141+U141+W141+Y141+AA141+AC141+AE141+AG141+AI141","v":0},null,null,null,null,null,null,null,null,null,null,null,null,null,null,null,null,null,null,null,null,null,null,null,null,null,null,null,null,null,null,null,null,null,null,null,null,null,null,null,null,null,null,null,null,null,null,"",null,null,null,null,null,null,null,null,null,null,null,null,null,null,null,null,null,null,null,null,null,null,null,null,null,null,null,null,"","","","","","","","","","","","","","","","","","","","","","","","",null,null,0,0,0,0,0,0,0,0,0,0,0,0,0,0,0,0,0,0,0,0,0,0,0,0]
["DONANTES DE ÓRGANOS Y/O TEJIDOS",{"$f":"+D142+F142+H142+J142+L142+N142+P142+R142+T142+V142+X142+Z142+AB142+AD142+AF142+AH142+AJ142+AL142+AN142+AP142","v":0},0,null,null,null,null,null,null,null,null,null,null,null,null,null,null,null,null,null,null,null,null,null,null,null,null,null,null,null,null,null,null,null,null,null,null,null,null,null,null,null,null,null,null,null,null,null,null,"",null,null,null,null,null,null,null,null,null,null,null,null,null,null,null,null,null,null,null,null,null,null,null,null,null,null,null,null,"","","","","","","","","","","","","","","","","","","","","","","","",null,null,0,0,0,0,0,0,0,0,0,0,0,0,0,0,0,0,0,0,0,0,0,0,0,0]
["PACIENTES EN DIÁLISIS",0,0,null,null,null,null,null,null,null,null,null,null,null,null,null,null,null,null,null,null,null,null,null,null,null,null,null,null,null,null,null,null,null,null,null,null,null,null,null,null,null,null,null,null,null,null,null,null,"",null,null,null,null,null,null,null,null,null,null,null,null,null,null,null,null,null,null,null,null,null,null,null,null,null,null,null,null,"","","","","","","","","","","","","","","","","","","","","","","","",null,null,0,0,0,0,0,0,0,0,0,0,0,0,0,0,0,0,0,0,0,0,0,0,0,0]
["VÍCTIMA DE VIOLENCIA SEXUAL",0,0,null,null,null,null,null,null,null,null,null,null,null,null,null,null,null,null,null,null,null,null,null,null,null,null,null,null,null,null,null,null,null,null,null,null,null,null,null,null,null,null,null,null,null,null,null,null,"",null,null,null,null,null,null,null,null,null,null,null,null,null,null,null,null,null,null,null,null,null,null,null,null,null,null,null,null,"","","","","","","","","","","","","","","","","","","","","","","","",null,null,{"$f":"IF(B144<>(AR144+ AS144),1,0)","v":0},0,0,0,0,0,0,0,0,0,0,0,0,0,0,0,0,0,0,0,0,0,0,0]
[]
["SECCIÓN B: EXÁMENES SEGÚN GRUPO DE USUARIOS POR CONDICIÓN DE HEPATITIS B, HEPATITIS C, CHAGAS, HTLV 1 Y SÍFILIS"]
["SECCIÓN B.1: EXÁMENES SEGÚN GRUPOS DE USUARIOS POR CONDICIÓN DE HEPATITIS B, HEPATITIS C, CHAGAS, HTLV 1 Y SIFILIS (Uso exclusivo de establecimientos con Laboratorio que procesan)"]
["GRUPO DE USUARIOS",null,"HEPATITIS  B",null,null,"HEPATITIS  C",null,null,"CHAGAS",null,null,"HTLV1",null,null,"SÍFILIS"]
[null,null,"Procesados","Reactivos","Confirmados","Procesados","Reactivos","Confirmados","Procesados","Reactivos","Confirmados","Procesados","Reactivos","Confirmados","Procesados","Reactivos"]
["Usuarios",null,null,null,null,null,null,null,null,null,null,null,null,null,null,null,{"$f":"CA150&CB150&CC150&CD150&CE150&CF150&CG150&CH150&CI150","v":""},null,null,null,null,null,null,null,null,null,null,null,null,null,null,null,null,null,null,null,null,null,null,null,null,null,null,null,null,null,null,null,null,null,null,null,null,null,null,null,null,null,null,null,null,null,null,null,null,null,null,null,null,null,null,null,null,null,null,null,null,null,{"$f":"IF(C150>=D150,\"\",\"* Los exámenes Reactivos de Hepatitis B NO DEBEN ser mayor a los exámenes Procesados. \")","v":""},{"$f":"IF(F150>=G150,\"\",\"* Los exámenes Reactivos de Hepatitis C NO DEBEN ser mayor a los exámenes Procesados. \")","v":""},{"$f":"IF(I150>=J150,\"\",\"* Los exámenes Reactivos de CHAGAS NO DEBEN ser mayor a los exámenes Procesados. \")","v":""},{"$f":"IF(L150>=M150,\"\",\"* Los exámenes Reactivos de HTLV1 NO DEBEN ser mayor a los exámenes Procesados. \")","v":""},{"$f":"IF(O150>=P150,\"\",\"* Los exámenes Reactivos de SIFILIS NO DEBEN ser mayor a los exámenes Procesados. \")","v":""},{"$f":"IF(C150>=E150,\"\",\"* Los exámenes Confirmados de Hepatitis B NO DEBEN ser mayor a los exámenes Procesados. \")","v":""},{"$f":"IF(F150>=H150,\"\",\"* Los exámenes Confirmados de Hepatitis C NO DEBEN ser mayor a los exámenes Procesados. \")","v":""},{"$f":"IF(I150>=K150,\"\",\"* Los exámenes Confirmados de CHAGAS NO DEBEN ser mayor a los exámenes Procesados. \")","v":""},{"$f":"IF(L150>=N150,\"\",\"* Los exámenes Confirmados de HTLV1 NO DEBEN ser mayor a los exámenes Procesados. \")","v":""},null,null,null,null,null,null,null,null,null,null,null,null,null,null,null,null,null,{"$f":"IF(C150>=D150,0,1)","v":0},{"$f":"IF(F150>=G150,0,1)","v":0},{"$f":"IF(I150>=J150,0,1)","v":0},{"$f":"IF(L150>=M150,0,1)","v":0},{"$f":"IF(O150>=P150,0,1)","v":0},{"$f":"IF(C150>=E150,0,1)","v":0},{"$f":"IF(F150>=H150,0,1)","v":0},{"$f":"IF(I150>=K150,0,1)","v":0},{"$f":"IF(L150>=N150,0,1)","v":0}]
["DONANTES","Altruista Nuevo",null,null,null,null,null,null,null,null,null,null,null,null,null,null,{"$f":"CA151&CB151&CC151&CD151&CE151&CF151&CG151&CH151&CI151","v":""},null,null,null,null,null,null,null,null,null,null,null,null,null,null,null,null,null,null,null,null,null,null,null,null,null,null,null,null,null,null,null,null,null,null,null,null,null,null,null,null,null,null,null,null,null,null,null,null,null,null,null,null,null,null,null,null,null,null,null,null,null,{"$f":"IF(C151>=D151,\"\",\"* Los exámenes Reactivos de Hepatitis B NO DEBEN ser mayor a los exámenes Procesados. \")","v":""},{"$f":"IF(F151>=G151,\"\",\"* Los exámenes Reactivos de Hepatitis C NO DEBEN ser mayor a los exámenes Procesados. \")","v":""},{"$f":"IF(I151>=J151,\"\",\"* Los exámenes Reactivos de CHAGAS NO DEBEN ser mayor a los exámenes Procesados. \")","v":""},{"$f":"IF(L151>=M151,\"\",\"* Los exámenes Reactivos de HTLV1 NO DEBEN ser mayor a los exámenes Procesados. \")","v":""},{"$f":"IF(O151>=P151,\"\",\"* Los exámenes Reactivos de SIFILIS NO DEBEN ser mayor a los exámenes Procesados. \")","v":""},{"$f":"IF(C151>=E151,\"\",\"* Los exámenes Confirmados de Hepatitis B NO DEBEN ser mayor a los exámenes Procesados. \")","v":""},{"$f":"IF(F151>=H151,\"\",\"* Los exámenes Confirmados de Hepatitis C NO DEBEN ser mayor a los exámenes Procesados. \")","v":""},{"$f":"IF(I151>=K151,\"\",\"* Los exámenes Confirmados de CHAGAS NO DEBEN ser mayor a los exámenes Procesados. \")","v":""},{"$f":"IF(L151>=N151,\"\",\"* Los exámenes Confirmados de HTLV1 NO DEBEN ser mayor a los exámenes Procesados. \")","v":""},null,null,null,null,null,null,null,null,null,null,null,null,null,null,null,null,null,{"$f":"IF(C151>=D151,0,1)","v":0},{"$f":"IF(F151>=G151,0,1)","v":0},{"$f":"IF(I151>=J151,0,1)","v":0},{"$f":"IF(L151>=M151,0,1)","v":0},{"$f":"IF(O151>=P151,0,1)","v":0},{"$f":"IF(C151>=E151,0,1)","v":0},{"$f":"IF(F151>=H151,0,1)","v":0},{"$f":"IF(I151>=K151,0,1)","v":0},{"$f":"IF(L151>=N151,0,1)","v":0}]
[null,"Altruista Repetido",null,null,null,null,null,null,null,null,null,null,null,null,null,null,{"$f":"CA152&CB152&CC152&CD152&CE152&CF152&CG152&CH152&CI152","v":""},null,null,null,null,null,null,null,null,null,null,null,null,null,null,null,null,null,null,null,null,null,null,null,null,null,null,null,null,null,null,null,null,null,null,null,null,null,null,null,null,null,null,null,null,null,null,null,null,null,null,null,null,null,null,null,null,null,null,null,null,null,{"$f":"IF(C152>=D152,\"\",\"* Los exámenes Reactivos de Hepatitis B NO DEBEN ser mayor a los exámenes Procesados. \")","v":""},{"$f":"IF(F152>=G152,\"\",\"* Los exámenes Reactivos de Hepatitis C NO DEBEN ser mayor a los exámenes Procesados. \")","v":""},{"$f":"IF(I152>=J152,\"\",\"* Los exámenes Reactivos de CHAGAS NO DEBEN ser mayor a los exámenes Procesados. \")","v":""},{"$f":"IF(L152>=M152,\"\",\"* Los exámenes Reactivos de HTLV1 NO DEBEN ser mayor a los exámenes Procesados. \")","v":""},{"$f":"IF(O152>=P152,\"\",\"* Los exámenes Reactivos de SIFILIS NO DEBEN ser mayor a los exámenes Procesados. \")","v":""},{"$f":"IF(C152>=E152,\"\",\"* Los exámenes Confirmados de Hepatitis B NO DEBEN ser mayor a los exámenes Procesados. \")","v":""},{"$f":"IF(F152>=H152,\"\",\"* Los exámenes Confirmados de Hepatitis C NO DEBEN ser mayor a los exámenes Procesados. \")","v":""},{"$f":"IF(I152>=K152,\"\",\"* Los exámenes Confirmados de CHAGAS NO DEBEN ser mayor a los exámenes Procesados. \")","v":""},{"$f":"IF(L152>=N152,\"\",\"* Los exámenes Confirmados de HTLV1 NO DEBEN ser mayor a los exámenes Procesados. \")","v":""},null,null,null,null,null,null,null,null,null,null,null,null,null,null,null,null,null,{"$f":"IF(C152>=D152,0,1)","v":0},{"$f":"IF(F152>=G152,0,1)","v":0},{"$f":"IF(I152>=J152,0,1)","v":0},{"$f":"IF(L152>=M152,0,1)","v":0},{"$f":"IF(O152>=P152,0,1)","v":0},{"$f":"IF(C152>=E152,0,1)","v":0},{"$f":"IF(F152>=H152,0,1)","v":0},{"$f":"IF(I152>=K152,0,1)","v":0},{"$f":"IF(L152>=N152,0,1)","v":0}]
[null,"Familiar o Reposición",null,null,null,null,null,null,null,null,null,null,null,null,null,null,{"$f":"CA153&CB153&CC153&CD153&CE153&CF153&CG153&CH153&CI153","v":""},null,null,null,null,null,null,null,null,null,null,null,null,null,null,null,null,null,null,null,null,null,null,null,null,null,null,null,null,null,null,null,null,null,null,null,null,null,null,null,null,null,null,null,null,null,null,null,null,null,null,null,null,null,null,null,null,null,null,null,null,null,{"$f":"IF(C153>=D153,\"\",\"* Los exámenes Reactivos de Hepatitis B NO DEBEN ser mayor a los exámenes Procesados. \")","v":""},{"$f":"IF(F153>=G153,\"\",\"* Los exámenes Reactivos de Hepatitis C NO DEBEN ser mayor a los exámenes Procesados. \")","v":""},{"$f":"IF(I153>=J153,\"\",\"* Los exámenes Reactivos de CHAGAS NO DEBEN ser mayor a los exámenes Procesados. \")","v":""},{"$f":"IF(L153>=M153,\"\",\"* Los exámenes Reactivos de HTLV1 NO DEBEN ser mayor a los exámenes Procesados. \")","v":""},{"$f":"IF(O153>=P153,\"\",\"* Los exámenes Reactivos de SIFILIS NO DEBEN ser mayor a los exámenes Procesados. \")","v":""},{"$f":"IF(C153>=E153,\"\",\"* Los exámenes Confirmados de Hepatitis B NO DEBEN ser mayor a los exámenes Procesados. \")","v":""},{"$f":"IF(F153>=H153,\"\",\"* Los exámenes Confirmados de Hepatitis C NO DEBEN ser mayor a los exámenes Procesados. \")","v":""},{"$f":"IF(I153>=K153,\"\",\"* Los exámenes Confirmados de CHAGAS NO DEBEN ser mayor a los exámenes Procesados. \")","v":""},{"$f":"IF(L153>=N153,\"\",\"* Los exámenes Confirmados de HTLV1 NO DEBEN ser mayor a los exámenes Procesados. \")","v":""},null,null,null,null,null,null,null,null,null,null,null,null,null,null,null,null,null,{"$f":"IF(C153>=D153,0,1)","v":0},{"$f":"IF(F153>=G153,0,1)","v":0},{"$f":"IF(I153>=J153,0,1)","v":0},{"$f":"IF(L153>=M153,0,1)","v":0},{"$f":"IF(O153>=P153,0,1)","v":0},{"$f":"IF(C153>=E153,0,1)","v":0},{"$f":"IF(F153>=H153,0,1)","v":0},{"$f":"IF(I153>=K153,0,1)","v":0},{"$f":"IF(L153>=N153,0,1)","v":0}]
["Donantes de órganos y/o tejidos",null,null,null,null,null,null,null,null,null,null,null,null,null,null,null,{"$f":"CA154&CB154&CC154&CD154&CE154&CF154&CG154&CH154&CI154","v":""},null,null,null,null,null,null,null,null,null,null,null,null,null,null,null,null,null,null,null,null,null,null,null,null,null,null,null,null,null,null,null,null,null,null,null,null,null,null,null,null,null,null,null,null,null,null,null,null,null,null,null,null,null,null,null,null,null,null,null,null,null,{"$f":"IF(C154>=D154,\"\",\"* Los exámenes Reactivos de Hepatitis B NO DEBEN ser mayor a los exámenes Procesados. \")","v":""},{"$f":"IF(F154>=G154,\"\",\"* Los exámenes Reactivos de Hepatitis C NO DEBEN ser mayor a los exámenes Procesados. \")","v":""},{"$f":"IF(I154>=J154,\"\",\"* Los exámenes Reactivos de CHAGAS NO DEBEN ser mayor a los exámenes Procesados. \")","v":""},{"$f":"IF(L154>=M154,\"\",\"* Los exámenes Reactivos de HTLV1 NO DEBEN ser mayor a los exámenes Procesados. \")","v":""},{"$f":"IF(O154>=P154,\"\",\"* Los exámenes Reactivos de SIFILIS NO DEBEN ser mayor a los exámenes Procesados. \")","v":""},{"$f":"IF(C154>=E154,\"\",\"* Los exámenes Confirmados de Hepatitis B NO DEBEN ser mayor a los exámenes Procesados. \")","v":""},{"$f":"IF(F154>=H154,\"\",\"* Los exámenes Confirmados de Hepatitis C NO DEBEN ser mayor a los exámenes Procesados. \")","v":""},{"$f":"IF(I154>=K154,\"\",\"* Los exámenes Confirmados de CHAGAS NO DEBEN ser mayor a los exámenes Procesados. \")","v":""},{"$f":"IF(L154>=N154,\"\",\"* Los exámenes Confirmados de HTLV1 NO DEBEN ser mayor a los exámenes Procesados. \")","v":""},null,null,null,null,null,null,null,null,null,null,null,null,null,null,null,null,null,{"$f":"IF(C154>=D154,0,1)","v":0},{"$f":"IF(F154>=G154,0,1)","v":0},{"$f":"IF(I154>=J154,0,1)","v":0},{"$f":"IF(L154>=M154,0,1)","v":0},{"$f":"IF(O154>=P154,0,1)","v":0},{"$f":"IF(C154>=E154,0,1)","v":0},{"$f":"IF(F154>=H154,0,1)","v":0},{"$f":"IF(I154>=K154,0,1)","v":0},{"$f":"IF(L154>=N154,0,1)","v":0}]
[]
["SECCIÓN B.2: EXÁMENES SEGÚN GRUPOS DE USUARIOS POR CONDICIÓN DE HEPATITIS B, HEPATITIS C, CHAGAS, HTLV 1 Y SIFILIS (Exámenes procesados por venta de servicios a sector público)"]
["GRUPO DE USUARIOS",null,"HEPATITIS  B",null,null,"HEPATITIS  C",null,null,"CHAGAS",null,null,"HTLV1",null,null,"SÍFILIS"]
[null,null,"Procesados","Reactivos","Confirmados","Procesados","Reactivos","Confirmados","Procesados","Reactivos","Confirmados","Procesados","Reactivos","Confirmados","Procesados","Reactivos"]
["Usuarios",null,null,null,null,null,null,null,null,null,null,null,null,null,null,null,{"$f":"$CA159&CB159&CC159&CD159&CE159&CF159&CG159&CH159&CI159","v":""},null,null,null,null,null,null,null,null,null,null,null,null,null,null,null,null,null,null,null,null,null,null,null,null,null,null,null,null,null,null,null,null,null,null,null,null,null,null,null,null,null,null,null,null,null,null,null,null,null,null,null,null,null,null,null,null,null,null,null,null,null,{"$f":"IF(C159>=D159,\"\",\"* Los exámenes Reactivos de Hepatitis B NO DEBEN ser mayor a los exámenes Procesados. \")","v":""},{"$f":"IF(F159>=G159,\"\",\"* Los exámenes Reactivos de Hepatitis C NO DEBEN ser mayor a los exámenes Procesados. \")","v":""},{"$f":"IF(I159>=J159,\"\",\"* Los exámenes Reactivos de CHAGAS NO DEBEN ser mayor a los exámenes Procesados. \")","v":""},{"$f":"IF(L159>=M159,\"\",\"* Los exámenes Reactivos de HTLV1 NO DEBEN ser mayor a los exámenes Procesados. \")","v":""},{"$f":"IF(O159>=P159,\"\",\"* Los exámenes Reactivos de SIFILIS NO DEBEN ser mayor a los exámenes Procesados. \")","v":""},{"$f":"IF(C159>=E159,\"\",\"* Los exámenes Confirmados de Hepatitis B NO DEBEN ser mayor a los exámenes Procesados. \")","v":""},{"$f":"IF(F159>=H159,\"\",\"* Los exámenes Confirmados de Hepatitis C NO DEBEN ser mayor a los exámenes Procesados. \")","v":""},{"$f":"IF(I159>=K159,\"\",\"* Los exámenes Confirmados de CHAGAS NO DEBEN ser mayor a los exámenes Procesados. \")","v":""},{"$f":"IF(L159>=N159,\"\",\"* Los exámenes Confirmados de HTLV1 NO DEBEN ser mayor a los exámenes Procesados. \")","v":""},null,null,null,null,null,null,null,null,null,null,null,null,null,null,null,null,null,{"$f":"IF(C159>=D159,0,1)","v":0},{"$f":"IF(F159>=G159,0,1)","v":0},{"$f":"IF(I159>=J159,0,1)","v":0},{"$f":"IF(L159>=M159,0,1)","v":0},{"$f":"IF(O159>=P159,0,1)","v":0},{"$f":"IF(C159>=E159,0,1)","v":0},{"$f":"IF(F159>=H159,0,1)","v":0},{"$f":"IF(I159>=K159,0,1)","v":0},{"$f":"IF(L159>=N159,0,1)","v":0}]
["DONANTES","Altruista Nuevo",null,null,null,null,null,null,null,null,null,null,null,null,null,null,{"$f":"CA160&CB160&CC160&CD160&CE160&CF160&CG160&CH160&CI160","v":""},null,null,null,null,null,null,null,null,null,null,null,null,null,null,null,null,null,null,null,null,null,null,null,null,null,null,null,null,null,null,null,null,null,null,null,null,null,null,null,null,null,null,null,null,null,null,null,null,null,null,null,null,null,null,null,null,null,null,null,null,null,{"$f":"IF(C160>=D160,\"\",\"* Los exámenes Reactivos de Hepatitis B NO DEBEN ser mayor a los exámenes Procesados. \")","v":""},{"$f":"IF(F160>=G160,\"\",\"* Los exámenes Reactivos de Hepatitis C NO DEBEN ser mayor a los exámenes Procesados. \")","v":""},{"$f":"IF(I160>=J160,\"\",\"* Los exámenes Reactivos de CHAGAS NO DEBEN ser mayor a los exámenes Procesados. \")","v":""},{"$f":"IF(L160>=M160,\"\",\"* Los exámenes Reactivos de HTLV1 NO DEBEN ser mayor a los exámenes Procesados. \")","v":""},{"$f":"IF(O160>=P160,\"\",\"* Los exámenes Reactivos de SIFILIS NO DEBEN ser mayor a los exámenes Procesados. \")","v":""},{"$f":"IF(C160>=E160,\"\",\"* Los exámenes Confirmados de Hepatitis B NO DEBEN ser mayor a los exámenes Procesados. \")","v":""},{"$f":"IF(F160>=H160,\"\",\"* Los exámenes Confirmados de Hepatitis C NO DEBEN ser mayor a los exámenes Procesados. \")","v":""},{"$f":"IF(I160>=K160,\"\",\"* Los exámenes Confirmados de CHAGAS NO DEBEN ser mayor a los exámenes Procesados. \")","v":""},{"$f":"IF(L160>=N160,\"\",\"* Los exámenes Confirmados de HTLV1 NO DEBEN ser mayor a los exámenes Procesados. \")","v":""},null,null,null,null,null,null,null,null,null,null,null,null,null,null,null,null,null,{"$f":"IF(C160>=D160,0,1)","v":0},{"$f":"IF(F160>=G160,0,1)","v":0},{"$f":"IF(I160>=J160,0,1)","v":0},{"$f":"IF(L160>=M160,0,1)","v":0},{"$f":"IF(O160>=P160,0,1)","v":0},{"$f":"IF(C160>=E160,0,1)","v":0},{"$f":"IF(F160>=H160,0,1)","v":0},{"$f":"IF(I160>=K160,0,1)","v":0},{"$f":"IF(L160>=N160,0,1)","v":0}]
[null,"Altruista Repetido",null,null,null,null,null,null,null,null,null,null,null,null,null,null,{"$f":"CA161&CB161&CC161&CD161&CE161&CF161&CG161&CH161&CI161","v":""},null,null,null,null,null,null,null,null,null,null,null,null,null,null,null,null,null,null,null,null,null,null,null,null,null,null,null,null,null,null,null,null,null,null,null,null,null,null,null,null,null,null,null,null,null,null,null,null,null,null,null,null,null,null,null,null,null,null,null,null,null,{"$f":"IF(C161>=D161,\"\",\"* Los exámenes Reactivos de Hepatitis B NO DEBEN ser mayor a los exámenes Procesados. \")","v":""},{"$f":"IF(F161>=G161,\"\",\"* Los exámenes Reactivos de Hepatitis C NO DEBEN ser mayor a los exámenes Procesados. \")","v":""},{"$f":"IF(I161>=J161,\"\",\"* Los exámenes Reactivos de CHAGAS NO DEBEN ser mayor a los exámenes Procesados. \")","v":""},{"$f":"IF(L161>=M161,\"\",\"* Los exámenes Reactivos de HTLV1 NO DEBEN ser mayor a los exámenes Procesados. \")","v":""},{"$f":"IF(O161>=P161,\"\",\"* Los exámenes Reactivos de SIFILIS NO DEBEN ser mayor a los exámenes Procesados. \")","v":""},{"$f":"IF(C161>=E161,\"\",\"* Los exámenes Confirmados de Hepatitis B NO DEBEN ser mayor a los exámenes Procesados. \")","v":""},{"$f":"IF(F161>=H161,\"\",\"* Los exámenes Confirmados de Hepatitis C NO DEBEN ser mayor a los exámenes Procesados. \")","v":""},{"$f":"IF(I161>=K161,\"\",\"* Los exámenes Confirmados de CHAGAS NO DEBEN ser mayor a los exámenes Procesados. \")","v":""},{"$f":"IF(L161>=N161,\"\",\"* Los exámenes Confirmados de HTLV1 NO DEBEN ser mayor a los exámenes Procesados. \")","v":""},null,null,null,null,null,null,null,null,null,null,null,null,null,null,null,null,null,{"$f":"IF(C161>=D161,0,1)","v":0},{"$f":"IF(F161>=G161,0,1)","v":0},{"$f":"IF(I161>=J161,0,1)","v":0},{"$f":"IF(L161>=M161,0,1)","v":0},{"$f":"IF(O161>=P161,0,1)","v":0},{"$f":"IF(C161>=E161,0,1)","v":0},{"$f":"IF(F161>=H161,0,1)","v":0},{"$f":"IF(I161>=K161,0,1)","v":0},{"$f":"IF(L161>=N161,0,1)","v":0}]
[null,"Familiar o Reposición",null,null,null,null,null,null,null,null,null,null,null,null,null,null,{"$f":"CA162&CB162&CC162&CD162&CE162&CF162&CG162&CH162&CI162","v":""},null,null,null,null,null,null,null,null,null,null,null,null,null,null,null,null,null,null,null,null,null,null,null,null,null,null,null,null,null,null,null,null,null,null,null,null,null,null,null,null,null,null,null,null,null,null,null,null,null,null,null,null,null,null,null,null,null,null,null,null,null,{"$f":"IF(C162>=D162,\"\",\"* Los exámenes Reactivos de Hepatitis B NO DEBEN ser mayor a los exámenes Procesados. \")","v":""},{"$f":"IF(F162>=G162,\"\",\"* Los exámenes Reactivos de Hepatitis C NO DEBEN ser mayor a los exámenes Procesados. \")","v":""},{"$f":"IF(I162>=J162,\"\",\"* Los exámenes Reactivos de CHAGAS NO DEBEN ser mayor a los exámenes Procesados. \")","v":""},{"$f":"IF(L162>=M162,\"\",\"* Los exámenes Reactivos de HTLV1 NO DEBEN ser mayor a los exámenes Procesados. \")","v":""},{"$f":"IF(O162>=P162,\"\",\"* Los exámenes Reactivos de SIFILIS NO DEBEN ser mayor a los exámenes Procesados. \")","v":""},{"$f":"IF(C162>=E162,\"\",\"* Los exámenes Confirmados de Hepatitis B NO DEBEN ser mayor a los exámenes Procesados. \")","v":""},{"$f":"IF(F162>=H162,\"\",\"* Los exámenes Confirmados de Hepatitis C NO DEBEN ser mayor a los exámenes Procesados. \")","v":""},{"$f":"IF(I162>=K162,\"\",\"* Los exámenes Confirmados de CHAGAS NO DEBEN ser mayor a los exámenes Procesados. \")","v":""},{"$f":"IF(L162>=N162,\"\",\"* Los exámenes Confirmados de HTLV1 NO DEBEN ser mayor a los exámenes Procesados. \")","v":""},null,null,null,null,null,null,null,null,null,null,null,null,null,null,null,null,null,{"$f":"IF(C162>=D162,0,1)","v":0},{"$f":"IF(F162>=G162,0,1)","v":0},{"$f":"IF(I162>=J162,0,1)","v":0},{"$f":"IF(L162>=M162,0,1)","v":0},{"$f":"IF(O162>=P162,0,1)","v":0},{"$f":"IF(C162>=E162,0,1)","v":0},{"$f":"IF(F162>=H162,0,1)","v":0},{"$f":"IF(I162>=K162,0,1)","v":0},{"$f":"IF(L162>=N162,0,1)","v":0}]
["Donantes de órganos y/o tejidos",null,null,null,null,null,null,null,null,null,null,null,null,null,null,null,{"$f":"CA163&CB163&CC163&CD163&CE163&CF163&CG163&CH163&CI163","v":""},null,null,null,null,null,null,null,null,null,null,null,null,null,null,null,null,null,null,null,null,null,null,null,null,null,null,null,null,null,null,null,null,null,null,null,null,null,null,null,null,null,null,null,null,null,null,null,null,null,null,null,null,null,null,null,null,null,null,null,null,null,{"$f":"IF(C163>=D163,\"\",\"* Los exámenes Reactivos de Hepatitis B NO DEBEN ser mayor a los exámenes Procesados. \")","v":""},{"$f":"IF(F163>=G163,\"\",\"* Los exámenes Reactivos de Hepatitis C NO DEBEN ser mayor a los exámenes Procesados. \")","v":""},{"$f":"IF(I163>=J163,\"\",\"* Los exámenes Reactivos de CHAGAS NO DEBEN ser mayor a los exámenes Procesados. \")","v":""},{"$f":"IF(L163>=M163,\"\",\"* Los exámenes Reactivos de HTLV1 NO DEBEN ser mayor a los exámenes Procesados. \")","v":""},{"$f":"IF(O163>=P163,\"\",\"* Los exámenes Reactivos de SIFILIS NO DEBEN ser mayor a los exámenes Procesados. \")","v":""},{"$f":"IF(C163>=E163,\"\",\"* Los exámenes Confirmados de Hepatitis B NO DEBEN ser mayor a los exámenes Procesados. \")","v":""},{"$f":"IF(F163>=H163,\"\",\"* Los exámenes Confirmados de Hepatitis C NO DEBEN ser mayor a los exámenes Procesados. \")","v":""},{"$f":"IF(I163>=K163,\"\",\"* Los exámenes Confirmados de CHAGAS NO DEBEN ser mayor a los exámenes Procesados. \")","v":""},{"$f":"IF(L163>=N163,\"\",\"* Los exámenes Confirmados de HTLV1 NO DEBEN ser mayor a los exámenes Procesados. \")","v":""},null,null,null,null,null,null,null,null,null,null,null,null,null,null,null,null,null,{"$f":"IF(C163>=D163,0,1)","v":0},{"$f":"IF(F163>=G163,0,1)","v":0},{"$f":"IF(I163>=J163,0,1)","v":0},{"$f":"IF(L163>=M163,0,1)","v":0},{"$f":"IF(O163>=P163,0,1)","v":0},{"$f":"IF(C163>=E163,0,1)","v":0},{"$f":"IF(F163>=H163,0,1)","v":0},{"$f":"IF(I163>=K163,0,1)","v":0},{"$f":"IF(L163>=N163,0,1)","v":0}]
[]
["SECCIÓN C: EXÁMENES DE VIH POR GRUPO DE USUARIO "]
["SECCIÓN C.1: EXÁMENES INSTRUMENTALES DE VIH POR GRUPOS DE USUARIOS (Uso exclusivo de establecimientos con Laboratorio que procesan)"]
["GRUPO DE USUARIOS",null,"TOTAL",null,"GRUPO DE EDAD (En años)",null,null,null,null,null,null,null,null,null,null,null,null,null,null,null,null,null,null,null,null,null,null,null,null,null,null,null,null,null,null,null,"POR SEXO",null,null,null,"TRANS",null,null,null,"Pueblos Originarios",null,"Migrantes",null,"14-18 años"]
[null,null,null,null,"Menor de 12 meses",null,"12-24 meses",null,"3 a 4 años",null,"5 a 9 años",null,"10 a 14 años",null,"15 a 19 años",null,"20 a 24 años",null,"25 a 29 años",null,"30 a 34 años",null,"35 a 39 años",null,"40 a 44 años",null,"45 a 49 años",null,"50 a 54 años",null,"55 a 59 años",null,"60 a 64 años",null," 65 y más años",null,"Hombres",null,"Mujeres",null,"Femenino",null,"Masculino"]
[null,null,"Procesados","Confirmados positivos por ISP","Procesados","Confirmados positivos por ISP","Procesados","Confirmados positivos por ISP","Procesados","Confirmados positivos por ISP","Procesados","Confirmados positivos por ISP","Procesados","Confirmados positivos por ISP","Procesados","Confirmados positivos por ISP","Procesados","Confirmados positivos por ISP","Procesados","Confirmados positivos por ISP","Procesados","Confirmados positivos por ISP","Procesados","Confirmados positivos por ISP","Procesados","Confirmados positivos por ISP","Procesados","Confirmados positivos por ISP","Procesados","Confirmados positivos por ISP","Procesados","Confirmados positivos por ISP","Procesados","Confirmados positivos por ISP","Procesados","Confirmados positivos por ISP","Procesados","Confirmados positivos por ISP","Procesados","Confirmados positivos por ISP","Procesados","Confirmados positivos por ISP","Procesados","Confirmados positivos por ISP","Procesados","Confirmados positivos por ISP","Procesados","Confirmados positivos por ISP","Procesados","Confirmados positivos por ISP"]
["GESTANTES PRIMER EXAMEN",null,{"$f":"+M170+O170+Q170+S170+U170+W170+Y170+AA170+AC170+AE170","v":0},0,null,null,null,null,null,null,null,null,null,null,null,null,null,null,null,null,null,null,null,null,null,null,null,null,null,null,null,null,null,null,null,null,null,null,null,null,null,null,null,null,null,null,null,null,null,null,{"$f":"$CA170&CB170&$CD170&$CE170&$CF170&$CG170&$CH170&$CI170&CJ170&$CK170&$CL170&$CM170&$CN170","v":""},null,null,null,null,null,null,null,null,null,null,null,null,null,null,null,null,null,null,null,null,null,null,null,null,null,null,null,{"$f":"IF(C170<>(AK170+ AM170),\"* La suma de las columnas POR SEXO (Procesados) DEBE SER IGUAL al Total Procesados. \",\"\")","v":""},{"$f":"IF(D170<>(AL170+ AN170),\"* La suma de las columnas POR SEXO (Confirmados) DEBE SER IGUAL al Total Confirmados \",\"\")","v":""},null,{"$f":"IF(AN170>AM170,\" * El número de Exámenes por Sexo Mujeres/Confirmados positivos por ISP NO PUEDE Superar al número por Sexo Mujeres/Procesados. \",\"\")","v":""},{"$f":"IF(AND(C170>0,AND(AO170=\"\",AQ170=\"\")),\" * No olvide digitar los exámenes Procesados TRANS (Femenino y Masculino) Digite Cero si no tiene.\",IF((AO170+AQ170)>C170,\" * Los exámenes Procesados en Trans (Femenino y Masculino) no pueden ser mayor que el Total de exámenes Procesados.\",\"\"))","v":""},{"$f":"IF(AND(D170>0,AND(AP170=\"\",AR170=\"\")),\" * No olvide digitar los exámenes TRANS Confirmados Positivos por ISP (Femenino y Masculino) Digite Cero si no tiene.\",IF((AP170+AR170)>D170,\" * Los exámenes de Trans Confirmados Positivos por ISP (Femenino y Masculino) no pueden ser mayor que el Total de exámenes Confirmados Positivos por ISP.\",\"\"))","v":""},{"$f":"IF(AP170>AO170,\" * El número de Exámenes TRAN Femenino/Confirmados positivos por ISP NO PUEDE Superar al número de TRAN Femenino/Procesados. \",\"\")","v":""},{"$f":"IF(AR170>AQ170,\" * El número de Exámenes TRAN Masculino/Confirmados positivos por ISP NO PUEDE Superar al número de TRAN Masculino/Procesados. \",\"\")","v":""},{"$f":"IF(AND(C170>0,AS170=\"\"),\" * No olvide digitar los exámenes de Pueblos Originarios/Procesados (Digite Cero si no tiene).\",IF(AS170>C170,\" * Los exámenes Procesados de  Pueblos Originarios no pueden ser mayor que el Total de exámenes Procesados.\",\"\"))","v":""},{"$f":"IF(AND(D170>0,AT170=\"\"),\" * No olvide digitar los exámenes de Pueblos Originarios/Confirmados positivos por ISP (Digite Cero si no tiene.)\",IF(AT170>D170,\" * Los exámenes de  Pueblos Originarios/Confirmados positivos por ISP  no pueden ser mayor que el Total de Confirmados por ISP.\",\"\"))","v":""},{"$f":"IF(AND(C170>0,AU170=\"\"),\" * No olvide digitar los exámenes de Migrantes/Procesados (Digite Cero si no tiene).\",IF(AU170>C170,\" * Los exámenes Procesados de Migrantes no pueden ser mayor que el Total de exámenes Procesados.\",\"\"))","v":""},{"$f":"IF(AND(D170>0,AV170=\"\"),\" * No olvide digitar los exámenes de Migrantes/Confirmados positivos por ISP (Digite Cero si no tiene.)\",IF(AV170>D170,\" * Los exámenes de Migrantes/Confirmados positivos por ISP  no pueden ser mayor que el Total de Confirmados por ISP.\",\"\"))","v":""},{"$f":"IF(AND((M170+O170)<>0,AW170=\"\"),\" *No olvide digitar los Exámenes Procesados de 14-18 años (Digite cero si no tiene.)\",IF(AW170>(M170+O170),\" * El Total de Procesados de 14-18 años NO DEBE ser mayor al Total deProcesados registrados en los grupos de edad 10 a 14 y 15 a 19 años. \",\"\"))","v":""},{"$f":"IF(AND((N170+P170)<>0,AX170=\"\"),\" *No olvide digitar los Exámenes Confirmados Positivos por ISP de 14-18 años (Digite cero si no tiene.)\",IF(AX170>(N170+P170),\" * El Total de Confirmados Positivos por ISP de 14-18 años NO DEBE ser mayor al Total de Confirmados Positivos por ISP registrados en los grupos de edad 10 a 14 y 15 a 19 años. \",\"\"))","v":""},null,null,null,null,null,null,null,null,null,null,null,null,{"$f":"IF(C170<>(AK170+ AM170),1,0)","v":0},{"$f":"IF(D170<>(AL170+ AN170),1,0)","v":0},null,{"$f":"IF(AN170>AM170,1,0)","v":0},{"$f":"IF(AND(C170>0,AND(AO170=\"\"),AQ170=\"\"),1,IF((AO170+AQ170)>C170,1,0))","v":0},{"$f":"IF(AND(D170>0,AND(AP170=\"\",AR170=\"\")),1,IF((AP170+AR170)>D170,1,0))","v":0},{"$f":"IF(AP170>AO170,1,0)","v":0},{"$f":"IF(AR170>AQ170,1,0)","v":0},{"$f":"IF(AND(C170>0,AS170=\"\"),1,IF(AS170>C170,1,0))","v":0},{"$f":"IF(AND(D170>0,AT170=\"\"),1,IF(AT170>D170,1,0))","v":0},{"$f":"IF(AND(C170>0,AU170=\"\"),1,IF(AU170>C170,1,0))","v":0},{"$f":"IF(AND(D170>0,AV170=\"\"),1,IF(AV170>D170,1,0))","v":0},{"$f":"IF(AND((M170+O170)<>0,AW170=\"\"),1,IF(AW170>(M170+O170),1,0))","v":0},{"$f":"IF(AND((N170+P170)<>0,AX170=\"\"),1,IF(AX170>(N170+P170),1,0))","v":0}]
["GESTANTES SEGUNDO EXAMEN",null,0,0,null,null,null,null,null,null,null,null,null,null,null,null,null,null,null,null,null,null,null,null,null,null,null,null,null,null,null,null,null,null,null,null,null,null,null,null,null,null,null,null,null,null,null,null,null,null,{"$f":"$CA171&CB171&$CD171&$CE171&$CF171&$CG171&$CH171&$CI171&CJ171&$CK171&$CL171&$CM171&$CN171","v":""},null,null,null,null,null,null,null,null,null,null,null,null,null,null,null,null,null,null,null,null,null,null,null,null,null,null,null,{"$f":"IF(C171<>(AK171+ AM171),\"* La suma de las columnas POR SEXO (Procesados) DEBE SER IGUAL al Total Procesados. \",\"\")","v":""},{"$f":"IF(D171<>(AL171+ AN171),\"* La suma de las columnas POR SEXO (Confirmados) DEBE SER IGUAL al Total Confirmados \",\"\")","v":""},{"$f":"IF(AN171>AM171,\" * El número de Exámenes por Sexo Mujeres Confirmados positivos por ISP NO PUEDE Superar al número de Procesados. \",\"\")","v":""},{"$f":"IF(AN171>AM171,\" * El número de Exámenes por Sexo Mujeres/Confirmados positivos por ISP NO PUEDE Superar al número por Sexo Mujeres/Procesados. \",\"\")","v":""},{"$f":"IF(AND(C171>0,AND(AO171=\"\",AQ171=\"\")),\" * No olvide digitar los exámenes Procesados TRANS (Femenino y Masculino) Digite Cero si no tiene.\",IF((AO171+AQ171)>C171,\" * Los exámenes Procesados en Trans (Femenino y Masculino) no pueden ser mayor que el Total de exámenes Procesados.\",\"\"))","v":""},{"$f":"IF(AND(D171>0,AND(AP171=\"\",AR171=\"\")),\" * No olvide digitar los exámenes TRANS Confirmados Positivos por ISP (Femenino y Masculino) Digite Cero si no tiene.\",IF((AP171+AR171)>D171,\" * Los exámenes Procesados en Trans (Femenino y Masculino) no pueden ser mayor que el Total de exámenes Procesados.\",\"\"))","v":""},{"$f":"IF(AP171>AO171,\" * El número de Exámenes TRAN Femenino/Confirmados positivos por ISP NO PUEDE Superar al número de TRAN Femenino/Procesados. \",\"\")","v":""},{"$f":"IF(AR171>AQ171,\" * El número de Exámenes TRAN Masculino/Confirmados positivos por ISP NO PUEDE Superar al número de TRAN Masculino/Procesados. \",\"\")","v":""},{"$f":"IF(AND(C171>0,AS171=\"\"),\" * No olvide digitar los exámenes de Pueblos Originarios/Procesados (Digite Cero si no tiene).\",IF(AS171>C171,\" * Los exámenes Procesados de  Pueblos Originarios no pueden ser mayor que el Total de exámenes Procesados.\",\"\"))","v":""},{"$f":"IF(AND(D171>0,AT171=\"\"),\" * No olvide digitar los exámenes de Pueblos Originarios/Confirmados positivos por ISP (Digite Cero si no tiene.)\",IF(AT171>D171,\" * Los exámenes de  Pueblos Originarios/Confirmados positivos por ISP  no pueden ser mayor que el Total de Confirmados por ISP.\",\"\"))","v":""},{"$f":"IF(AND(C171>0,AU171=\"\"),\" * No olvide digitar los exámenes de Migrantes/Procesados (Digite Cero si no tiene).\",IF(AU171>C171,\" * Los exámenes Procesados de Migrantes no pueden ser mayor que el Total de exámenes Procesados.\",\"\"))","v":""},{"$f":"IF(AND(D171>0,AV171=\"\"),\" * No olvide digitar los exámenes de Migrantes/Confirmados positivos por ISP (Digite Cero si no tiene.)\",IF(AV171>D171,\" * Los exámenes de Migrantes/Confirmados positivos por ISP  no pueden ser mayor que el Total de Confirmados por ISP.\",\"\"))","v":""},{"$f":"IF(AND((M171+O171)<>0,AW171=\"\"),\" *No olvide digitar los Exámenes Procesados de 14-18 años (Digite cero si no tiene.)\",IF(AW171>(M171+O171),\" * El Total de Procesados de 14-18 años NO DEBE ser mayor al Total deProcesados registrados en los grupos de edad 10 a 14 y 15 a 19 años. \",\"\"))","v":""},{"$f":"IF(AND((N171+P171)<>0,AX171=\"\"),\" *No olvide digitar los Exámenes Confirmados Positivos por ISP de 14-18 años (Digite cero si no tiene.)\",IF(AX171>(N171+P171),\" * El Total de Confirmados Positivos por ISP de 14-18 años NO DEBE ser mayor al Total de Confirmados Positivos por ISP registrados en los grupos de edad 10 a 14 y 15 a 19 años. \",\"\"))","v":""},null,null,null,null,null,null,null,null,null,null,null,null,{"$f":"IF(C171<>(AK171+ AM171),1,0)","v":0},{"$f":"IF(D171<>(AL171+ AN171),1,0)","v":0},null,{"$f":"IF(AN171>AM171,1,0)","v":0},{"$f":"IF(AND(C171>0,AND(AO171=\"\"),AQ171=\"\"),1,IF((AO171+AQ171)>C171,1,0))","v":0},{"$f":"IF(AND(D171>0,AND(AP171=\"\",AR171=\"\")),1,IF((AP171+AR171)>D171,1,0))","v":0},{"$f":"IF(AP171>AO171,1,0)","v":0},{"$f":"IF(AR171>AQ171,1,0)","v":0},{"$f":"IF(AND(C171>0,AS171=\"\"),1,IF(AS171>C171,1,0))","v":0},{"$f":"IF(AND(D171>0,AT171=\"\"),1,IF(AT171>D171,1,0))","v":0},{"$f":"IF(AND(C171>0,AU171=\"\"),1,IF(AU171>C171,1,0))","v":0},{"$f":"IF(AND(D171>0,AV171=\"\"),1,IF(AV171>D171,1,0))","v":0},{"$f":"IF(AND((M171+O171)<>0,AW171=\"\"),1,IF(AW171>(M171+O171),1,0))","v":0},{"$f":"IF(AND((N171+P171)<>0,AX171=\"\"),1,IF(AX171>(N171+P171),1,0))","v":0}]
["MUJER EN TRABAJO DE PRE PARTO O PARTO",null,0,0,null,null,null,null,null,null,null,null,null,null,null,null,null,null,null,null,null,null,null,null,null,null,null,null,null,null,null,null,null,null,null,null,null,null,null,null,null,null,null,null,null,null,null,null,null,null,"",null,null,null,null,null,null,null,null,null,null,null,null,null,null,null,null,null,null,null,null,null,null,null,null,null,null,null,"","","","","","","","","","","","","","",null,null,null,null,null,null,null,null,null,null,null,null,0,0,null,0,0,0,0,0,0,0,0,0,0,0]
["PERSONAS EN CONTROL POR COMERCIO SEXUAL",null,{"$f":"+O173+Q173+S173+U173+W173+Y173+AA173+AC173+AE173+AG173+AI173","v":0},{"$f":"+P173+R173+T173+V173+X173+Z173+AB173+AD173+AF173+AH173+AJ173","v":0},null,null,null,null,null,null,null,null,null,null,null,null,null,null,null,null,null,null,null,null,null,null,null,null,null,null,null,null,null,null,null,null,null,null,null,null,null,null,null,null,null,null,null,null,null,null,{"$f":"$CA173&CB173&CC173&$CD173&$CE173&$CF173&$CG173&$CH173&$CI173&CJ173&$CK173&$CL173&$CM173&$CN173","v":""},null,null,null,null,null,null,null,null,null,null,null,null,null,null,null,null,null,null,null,null,null,null,null,null,null,null,null,"","",{"$f":"IF(AL173>AK173,\" * El número de Exámenes por Sexo Hombres/Confirmados positivos por ISP NO PUEDE Superar al número por Sexo Hombres/Procesados. \",\"\")","v":""},"",{"$f":"IF(AND(C173>0,AND(AO173=\"\",AQ173=\"\")),\" * No olvide digitar los exámenes Procesados TRANS (Femenino y Masculino) Digite Cero si no tiene.\",IF((AO173+AQ173)>C173,\" * Los exámenes Procesados en Trans (Femenino y Masculino) no pueden ser mayor que el Total de exámenes Procesados.\",\"\"))","v":""},{"$f":"IF(AND(D173>0,AND(AP173=\"\",AR173=\"\")),\" * No olvide digitar los exámenes TRANS Confirmados Positivos por ISP (Femenino y Masculino) Digite Cero si no tiene.\",IF((AP173+AR173)>D173,\" * Los exámenes Procesados en Trans (Femenino y Masculino) no pueden ser mayor que el Total de exámenes Procesados.\",\"\"))","v":""},{"$f":"IF(AP173>AO173,\" * El número de Exámenes TRAN Femenino/Confirmados positivos por ISP NO PUEDE Superar al número de TRAN Femenino/Procesados. \",\"\")","v":""},{"$f":"IF(AR173>AQ173,\" * El número de Exámenes TRAN Masculino/Confirmados positivos por ISP NO PUEDE Superar al número de TRAN Masculino/Procesados. \",\"\")","v":""},{"$f":"IF(AND(C173>0,AS173=\"\"),\" * No olvide digitar los exámenes de Pueblos Originarios/Procesados (Digite Cero si no tiene).\",IF(AS173>C173,\" * Los exámenes Procesados de  Pueblos Originarios no pueden ser mayor que el Total de exámenes Procesados.\",\"\"))","v":""},{"$f":"IF(AND(D173>0,AT173=\"\"),\" * No olvide digitar los exámenes de Pueblos Originarios/Confirmados positivos por ISP (Digite Cero si no tiene.)\",IF(AT173>D173,\" * Los exámenes de  Pueblos Originarios/Confirmados positivos por ISP  no pueden ser mayor que el Total de Confirmados por ISP.\",\"\"))","v":""},{"$f":"IF(AND(C173>0,AU173=\"\"),\" * No olvide digitar los exámenes de Migrantes/Procesados (Digite Cero si no tiene).\",IF(AU173>C173,\" * Los exámenes Procesados de Migrantes no pueden ser mayor que el Total de exámenes Procesados.\",\"\"))","v":""},{"$f":"IF(AND(D173>0,AV173=\"\"),\" * No olvide digitar los exámenes de Migrantes/Confirmados positivos por ISP (Digite Cero si no tiene.)\",IF(AV173>D173,\" * Los exámenes de Migrantes/Confirmados positivos por ISP  no pueden ser mayor que el Total de Confirmados por ISP.\",\"\"))","v":""},"","",null,null,null,null,null,null,null,null,null,null,null,null,{"$f":"IF(C173<>(AK173+ AM173),1,0)","v":0},{"$f":"IF(D173<>(AL173+ AN173),1,0)","v":0},{"$f":"IF(AL173>AK173,1,0)","v":0},{"$f":"IF(AN173>AM173,1,0)","v":0},{"$f":"IF(AND(C173>0,AND(AO173=\"\"),AQ173=\"\"),1,IF((AO173+AQ173)>C173,1,0))","v":0},{"$f":"IF(AND(D173>0,AND(AP173=\"\",AR173=\"\")),1,IF((AP173+AR173)>D173,1,0))","v":0},{"$f":"IF(AP173>AO173,1,0)","v":0},0,{"$f":"IF(AND(C173>0,AS173=\"\"),1,IF(AS173>C173,1,0))","v":0},{"$f":"IF(AND(D173>0,AT173=\"\"),1,IF(AT173>D173,1,0))","v":0},{"$f":"IF(AND(C173>0,AU173=\"\"),1,IF(AU173>C173,1,0))","v":0},{"$f":"IF(AND(D173>0,AV173=\"\"),1,IF(AV173>D173,1,0))","v":0},{"$f":"IF(AND((M173+O173)<>0,AW173=\"\"),1,IF(AW173>(M173+O173),1,0))","v":0},{"$f":"IF(AND((N173+P173)<>0,AX173=\"\"),1,IF(AX173>(N173+P173),1,0))","v":0}]
["PACIENTES EN DIÁLISIS",null,{"$f":"+E174+G174+I174+K174+M174+O174+Q174+S174+U174+W174+Y174+AA174+AC174+AE174+AG174+AI174","v":0},{"$f":"+F174+H174+J174+L174+N174+P174+R174+T174+V174+X174+Z174+AB174+AD174+AF174+AH174+AJ174","v":0},null,null,null,null,null,null,null,null,null,null,null,null,null,null,null,null,null,null,null,null,null,null,null,null,null,null,null,null,null,null,null,null,null,null,null,null,null,null,null,null,null,null,null,null,null,null,{"$f":"$CA174&CB174&CC174&$CD174&$CE174&$CF174&$CG174&$CH174&$CI174&CJ174&$CK174&$CL174&$CM174&$CN174","v":""},null,null,null,null,null,null,null,null,null,null,null,null,null,null,null,null,null,null,null,null,null,null,null,null,null,null,null,"","",{"$f":"IF(AL174>AK174,\" * El número de Exámenes por Sexo Hombres/Confirmados positivos por ISP NO PUEDE Superar al número por Sexo Hombres/Procesados. \",\"\")","v":""},"","","","","","","","","","","",null,null,null,null,null,null,null,null,null,null,null,null,0,0,{"$f":"IF(AL174>AK174,1,0)","v":0},0,0,0,0,0,0,0,0,0,0,0]
["POR CONSULTA ITS",null,{"$f":"+E175+G175+I175+K175+M175+O175+Q175+S175+U175+W175+Y175+AA175+AC175+AE175+AG175+AI175","v":0},{"$f":"+F175+H175+J175+L175+N175+P175+R175+T175+V175+X175+Z175+AB175+AD175+AF175+AH175+AJ175","v":0},null,null,null,null,null,null,null,null,null,null,null,null,null,null,null,null,null,null,null,null,null,null,null,null,null,null,null,null,null,null,null,null,null,null,null,null,null,null,null,null,null,null,null,null,null,null,"",null,null,null,null,null,null,null,null,null,null,null,null,null,null,null,null,null,null,null,null,null,null,null,null,null,null,null,"","","","","","","","","","","","","","",null,null,null,null,null,null,null,null,null,null,null,null,0,0,0,0,0,0,0,0,0,0,0,0,0,0]
["PERSONAS EN CONTROL DE REGULACIÓN FECUNDIDAD, GINECOLOGICO, CLIMATERIO",null,{"$f":"+O176+Q176+S176+U176+W176+Y176+AA176+AC176+AE176+AG176+AI176","v":0},{"$f":"+P176+R176+T176+V176+X176+Z176+AB176+AD176+AF176+AH176+AJ176","v":0},null,null,null,null,null,null,null,null,null,null,null,null,null,null,null,null,null,null,null,null,null,null,null,null,null,null,null,null,null,null,null,null,null,null,null,null,null,null,null,null,null,null,null,null,null,null,"",null,null,null,null,null,null,null,null,null,null,null,null,null,null,null,null,null,null,null,null,null,null,null,null,null,null,null,"","","","","","","","","","","","","","",null,null,null,null,null,null,null,null,null,null,null,null,0,0,0,0,0,0,0,0,0,0,0,0,0,0]
["PERSONAS EMP/EMPAM ",null,{"$f":"+O177+Q177+S177+U177+W177+Y177+AA177+AC177+AE177+AG177+AI177","v":0},{"$f":"+P177+R177+T177+V177+X177+Z177+AB177+AD177+AF177+AH177+AJ177","v":0},null,null,null,null,null,null,null,null,null,null,null,null,null,null,null,null,null,null,null,null,null,null,null,null,null,null,null,null,null,null,null,null,null,null,null,null,null,null,null,null,null,null,null,null,null,null,"",null,null,null,null,null,null,null,null,null,null,null,null,null,null,null,null,null,null,null,null,null,null,null,null,null,null,null,"","","","","","","","","","","","","","",null,null,null,null,null,null,null,null,null,null,null,null,0,0,0,0,0,0,0,0,0,0,0,0,0,0]
["PERSONAS EN CONTROL DE SALUD SEGÚN CICLO VITAL",null,{"$f":"+E178+G178+I178+K178+M178+O178+Q178+S178+U178+W178+Y178+AA178+AC178+AE178+AG178+AI178","v":0},{"$f":"+F178+H178+J178+L178+N178+P178+R178+T178+V178+X178+Z178+AB178+AD178+AF178+AH178+AJ178","v":0},null,null,null,null,null,null,null,null,null,null,null,null,null,null,null,null,null,null,null,null,null,null,null,null,null,null,null,null,null,null,null,null,null,null,null,null,null,null,null,null,null,null,null,null,null,null,"",null,null,null,null,null,null,null,null,null,null,null,null,null,null,null,null,null,null,null,null,null,null,null,null,null,null,null,"","","","","","","","","","","","","","",null,null,null,null,null,null,null,null,null,null,null,null,0,0,0,0,0,0,0,0,0,0,0,0,0,0]
["DONANTES DE SANGRE","ALTRUISTA NUEVO",{"$f":"+O179+Q179+S179+U179+W179+Y179+AA179+AC179+AE179+AG179","v":0},0,null,null,null,null,null,null,null,null,null,null,null,null,null,null,null,null,null,null,null,null,null,null,null,null,null,null,null,null,null,null,null,null,null,null,null,null,null,null,null,null,null,null,null,null,null,null,{"$f":"$CA179&CB179&CC179&$CD179&$CE179&$CF179&$CG179&$CH179&$CI179&CJ179&$CK179&$CL179","v":""},null,null,null,null,null,null,null,null,null,null,null,null,null,null,null,null,null,null,null,null,null,null,null,null,null,null,null,"","","","",{"$f":"IF(AND(C179>0,AND(AO179=\"\",AQ179=\"\")),\" * No olvide digitar los exámenes Procesados TRANS (Femenino y Masculino) Digite Cero si no tiene.\",IF((AO179+AQ179)>C179,\" * Los exámenes Procesados en Trans (Femenino y Masculino) no pueden ser mayor que el Total de exámenes Procesados.\",\"\"))","v":""},{"$f":"IF(AND(D179>0,AND(AP179=\"\",AR179=\"\")),\" * No olvide digitar los exámenes TRANS Confirmados Positivos por ISP (Femenino y Masculino) Digite Cero si no tiene.\",IF((AP179+AR179)>D179,\" * Los exámenes Procesados en Trans (Femenino y Masculino) no pueden ser mayor que el Total de exámenes Procesados.\",\"\"))","v":""},{"$f":"IF(AP179>AO179,\" * El número de Exámenes TRAN Femenino/Confirmados positivos por ISP NO PUEDE Superar al número de TRAN Femenino/Procesados. \",\"\")","v":""},{"$f":"IF(AR179>AQ179,\" * El número de Exámenes TRAN Masculino/Confirmados positivos por ISP NO PUEDE Superar al número de TRAN Masculino/Procesados. \",\"\")","v":""},{"$f":"IF(AND(C179>0,AS179=\"\"),\" * No olvide digitar los exámenes de Pueblos Originarios/Procesados (Digite Cero si no tiene).\",IF(AS179>C179,\" * Los exámenes Procesados de  Pueblos Originarios no pueden ser mayor que el Total de exámenes Procesados.\",\"\"))","v":""},{"$f":"IF(AND(D179>0,AT179=\"\"),\" * No olvide digitar los exámenes de Pueblos Originarios/Confirmados positivos por ISP (Digite Cero si no tiene.)\",IF(AT179>D179,\" * Los exámenes de  Pueblos Originarios/Confirmados positivos por ISP  no pueden ser mayor que el Total de Confirmados por ISP.\",\"\"))","v":""},{"$f":"IF(AND(C179>0,AU179=\"\"),\" * No olvide digitar los exámenes de Migrantes/Procesados (Digite Cero si no tiene).\",IF(AU179>C179,\" * Los exámenes Procesados de Migrantes no pueden ser mayor que el Total de exámenes Procesados.\",\"\"))","v":""},"",null,null,null,null,null,null,null,null,null,null,null,null,null,null,0,0,0,{"$f":"IF(AN179>AM179,1,0)","v":0},{"$f":"IF(AND(C179>0,AND(AO179=\"\"),AQ179=\"\"),1,IF((AO179+AQ179)>C179,1,0))","v":0},{"$f":"IF(AND(D179>0,AND(AP179=\"\",AR179=\"\")),1,IF((AP179+AR179)>D179,1,0))","v":0},{"$f":"IF(AP179>AO179,1,0)","v":0},0,{"$f":"IF(AND(C179>0,AS179=\"\"),1,IF(AS179>C179,1,0))","v":0},{"$f":"IF(AND(D179>0,AT179=\"\"),1,IF(AT179>D179,1,0))","v":0},{"$f":"IF(AND(C179>0,AU179=\"\"),1,IF(AU179>C179,1,0))","v":0},{"$f":"IF(AND(D179>0,AV179=\"\"),1,IF(AV179>D179,1,0))","v":0}]
[null,"ALTRUISTA REPETIDO",0,0,null,null,null,null,null,null,null,null,null,null,null,null,null,null,null,null,null,null,null,null,null,null,null,null,null,null,null,null,null,null,null,null,null,null,null,null,null,null,null,null,null,null,null,null,null,null,{"$f":"$CA180&CB180&CC180&$CD180&$CE180&$CF180&$CG180&$CH180&$CI180&CJ180&$CK180&$CL180","v":""},null,null,null,null,null,null,null,null,null,null,null,null,null,null,null,null,null,null,null,null,null,null,null,null,null,null,null,"","","","","","","","","","","","",null,null,null,null,null,null,null,null,null,null,null,null,null,null,0,0,0,0,0,0,0,0,0,0,0,0]
[null,"FAMILIAR O REPOSICIÓN",0,0,null,null,null,null,null,null,null,null,null,null,null,null,null,null,null,null,null,null,null,null,null,null,null,null,null,null,null,null,null,null,null,null,null,null,null,null,null,null,null,null,null,null,null,null,null,null,"",null,null,null,null,null,null,null,null,null,null,null,null,null,null,null,null,null,null,null,null,null,null,null,null,null,null,null,"","","","","","","","","","","","",null,null,null,null,null,null,null,null,null,null,null,null,null,null,0,0,0,0,0,0,0,0,0,0,0,0]
["DONANTES DE ÓRGANOS Y/O TEJIDOS",null,{"$f":"+E182+G182+I182+K182+M182+O182+Q182+S182+U182+W182+Y182+AA182+AC182+AE182+AG182+AI182","v":0},0,null,null,null,null,null,null,null,null,null,null,null,null,null,null,null,null,null,null,null,null,null,null,null,null,null,null,null,null,null,null,null,null,null,null,null,null,null,null,null,null,null,null,null,null,null,null,{"$f":"$CA182&CB182&CC182&$CD182&$CE182&$CF182&$CG182&$CH182&$CI182&CJ182&$CK182&$CL182&$CM182&$CN182","v":""},null,null,null,null,null,null,null,null,null,null,null,null,null,null,null,null,null,null,null,null,null,null,null,null,null,null,null,"","","","","","","","","","","",{"$f":"IF(AND(D182>0,AV182=\"\"),\" * No olvide digitar los exámenes de Migrantes/Confirmados positivos por ISP (Digite Cero si no tiene.)\",IF(AV182>D182,\" * Los exámenes de Migrantes/Confirmados positivos por ISP  no pueden ser mayor que el Total de Confirmados por ISP.\",\"\"))","v":""},{"$f":"IF(AND((M182+O182)<>0,AW182=\"\"),\" *No olvide digitar los Exámenes Procesados de 14-18 años (Digite cero si no tiene.)\",IF(AW182>(M182+O182),\" * El Total de Procesados de 14-18 años NO DEBE ser mayor al Total deProcesados registrados en los grupos de edad 10 a 14 y 15 a 19 años. \",\"\"))","v":""},{"$f":"IF(AND((N182+P182)<>0,AX182=\"\"),\" *No olvide digitar los Exámenes Confirmados Positivos por ISP de 14-18 años (Digite cero si no tiene.)\",IF(AX182>(N182+P182),\" * El Total de Confirmados Positivos por ISP de 14-18 años NO DEBE ser mayor al Total de Confirmados Positivos por ISP registrados en los grupos de edad 10 a 14 y 15 a 19 años. \",\"\"))","v":""},null,null,null,null,null,null,null,null,null,null,null,null,0,0,0,0,0,0,0,0,0,0,0,0,{"$f":"IF(AND((M182+O182)<>0,AW182=\"\"),1,IF(AW182>(M182+O182),1,0))","v":0},{"$f":"IF(AND((N182+P182)<>0,AX182=\"\"),1,IF(AX182>(N182+P182),1,0))","v":0}]
["PERSONA EN CONTROL POR TBC",null,0,0,null,null,null,null,null,null,null,null,null,null,null,null,null,null,null,null,null,null,null,null,null,null,null,null,null,null,null,null,null,null,null,null,null,null,null,null,null,null,null,null,null,null,null,null,null,null,"",null,null,null,null,null,null,null,null,null,null,null,null,null,null,null,null,null,null,null,null,null,null,null,null,null,null,null,"","","","","","","","","","","","",{"$f":"IF(AND((M183+O183)<>0,AW183=\"\"),\" *No olvide digitar los Exámenes Procesados de 14-18 años (Digite cero si no tiene.)\",IF(AW183>(M183+O183),\" * El Total de Procesados de 14-18 años NO DEBE ser mayor al Total deProcesados registrados en los grupos de edad 10 a 14 y 15 a 19 años. \",\"\"))","v":""},"",null,null,null,null,null,null,null,null,null,null,null,null,0,0,0,0,0,0,0,0,0,0,0,0,0,0]
["VÍCTIMA DE VIOLENCIA SEXUAL",null,0,{"$f":"+F184+H184+J184+L184+N184+P184+R184+T184+V184+X184+Z184+AB184+AD184+AF184+AH184+AJ184","v":0},null,null,null,null,null,null,null,null,null,null,null,null,null,null,null,null,null,null,null,null,null,null,null,null,null,null,null,null,null,null,null,null,null,null,null,null,null,null,null,null,null,null,null,null,null,null,"",null,null,null,null,null,null,null,null,null,null,null,null,null,null,null,null,null,null,null,null,null,null,null,null,null,null,null,"","","","","","","","","","","","","","",null,null,null,null,null,null,null,null,null,null,null,null,0,0,0,0,0,0,0,0,0,0,0,0,0,0]
["PAREJA SERODISCORDANTE",null,{"$f":"+O185+Q185+S185+U185+W185+Y185+AA185+AC185+AE185+AG185+AI185","v":0},0,null,null,null,null,null,null,null,null,null,null,null,null,null,null,null,null,null,null,null,null,null,null,null,null,null,null,null,null,null,null,null,null,null,null,null,null,null,null,null,null,null,null,null,null,null,null,"",null,null,null,null,null,null,null,null,null,null,null,null,null,null,null,null,null,null,null,null,null,null,null,null,null,null,null,"","","","","","","","","","","","","","",null,null,null,null,null,null,null,null,null,null,null,null,0,0,0,0,0,0,0,0,0,0,0,0,0,0]
["PAREJA DE GESTANTE VIH POSITIVO",null,0,0,null,null,null,null,null,null,null,null,null,null,null,null,null,null,null,null,null,null,null,null,null,null,null,null,null,null,null,null,null,null,null,null,null,null,null,null,null,null,null,null,null,null,null,null,null,null,"",null,null,null,null,null,null,null,null,null,null,null,null,null,null,null,null,null,null,null,null,null,null,null,null,null,null,null,"","","","","","","","","","","","","","",null,null,null,null,null,null,null,null,null,null,null,null,0,0,0,0,0,0,0,0,0,0,0,0,0,0]
["PERSONAL DE SALUD EXPUESTO A ACCIDENTE CORTOPUNZANTE",null,0,0,null,null,null,null,null,null,null,null,null,null,null,null,null,null,null,null,null,null,null,null,null,null,null,null,null,null,null,null,null,null,null,null,null,null,null,null,null,null,null,null,null,null,null,null,null,null,"",null,null,null,null,null,null,null,null,null,null,null,null,null,null,null,null,null,null,null,null,null,null,null,null,null,null,null,"","","","","","","","","","","","","","",null,null,null,null,null,null,null,null,null,null,null,null,0,0,0,0,0,0,0,0,0,0,0,0,0,0]
["PACIENTES FUENTE DE ACCIDENTE CORTOPUNZANTE",null,{"$f":"+E188+G188+I188+K188+M188+O188+Q188+S188+U188+W188+Y188+AA188+AC188+AE188+AG188+AI188","v":0},0,null,null,null,null,null,null,null,null,null,null,null,null,null,null,null,null,null,null,null,null,null,null,null,null,null,null,null,null,null,null,null,null,null,null,null,null,null,null,null,null,null,null,null,null,null,null,"",null,null,null,null,null,null,null,null,null,null,null,null,null,null,null,null,null,null,null,null,null,null,null,null,null,null,null,"","","","","","","","","","","","","","",null,null,null,null,null,null,null,null,null,null,null,null,0,0,0,0,0,0,0,0,0,0,0,0,0,0]
["PERSONA EN CONTROL POR HEPATITIS B",null,0,0,null,null,null,null,null,null,null,null,null,null,null,null,null,null,null,null,null,null,null,null,null,null,null,null,null,null,null,null,null,null,null,null,null,null,null,null,null,null,null,null,null,null,null,null,null,null,"",null,null,null,null,null,null,null,null,null,null,null,null,null,null,null,null,null,null,null,null,null,null,null,null,null,null,null,"","","","","","","","","","","","","","",null,null,null,null,null,null,null,null,null,null,null,null,0,0,0,0,0,0,0,0,0,0,0,0,0,0]
["PERSONA EN CONTROL POR HEPATITIS C",null,0,0,null,null,null,null,null,null,null,null,null,null,null,null,null,null,null,null,null,null,null,null,null,null,null,null,null,null,null,null,null,null,null,null,null,null,null,null,null,null,null,null,null,null,null,null,null,null,"",null,null,null,null,null,null,null,null,null,null,null,null,null,null,null,null,null,null,null,null,null,null,null,null,null,null,null,"","","","","","","","","","","","","","",null,null,null,null,null,null,null,null,null,null,null,null,0,0,0,0,0,0,0,0,0,0,0,0,0,0]
["CONSULTANTES POR MORBILIDAD",null,0,0,null,null,null,null,null,null,null,null,null,null,null,null,null,null,null,null,null,null,null,null,null,null,null,null,null,null,null,null,null,null,null,null,null,null,null,null,null,null,null,null,null,null,null,null,null,null,"",null,null,null,null,null,null,null,null,null,null,null,null,null,null,null,null,null,null,null,null,null,null,null,null,null,null,null,"","","","","","","","","","","","","","",null,null,null,null,null,null,null,null,null,null,null,null,0,0,0,0,0,0,0,0,0,0,0,0,0,0]
["POR CONSULTA ESPONTÁNEA",null,0,0,null,null,null,null,null,null,null,null,null,null,null,null,null,null,null,null,null,null,null,null,null,null,null,null,null,null,null,null,null,null,null,null,null,null,null,null,null,null,null,null,null,null,null,null,null,null,"",null,null,null,null,null,null,null,null,null,null,null,null,null,null,null,null,null,null,null,null,null,null,null,null,null,null,null,"","","","","","","","","","","","","","",null,null,null,null,null,null,null,null,null,null,null,null,0,0,0,0,0,0,0,0,0,0,0,0,0,0]
[]
["SECCIÓN C.2: EXÁMENES INSTRUMENTALES DE  VIH POR GRUPOS DE USUARIOS (Exámenes procesados por venta de servicios a sector público)"]
["GRUPO DE USUARIOS",null,"TOTAL",null,"GRUPO DE EDAD (En años)",null,null,null,null,null,null,null,null,null,null,null,null,null,null,null,null,null,null,null,null,null,null,null,null,null,null,null,null,null,null,null,"POR SEXO",null,null,null,"TRANS",null,null,null,"Pueblos originarios",null,"Migrantes",null,"14-18 años"]
[null,null,null,null,"Menor de 12 meses",null,"12-24 meses",null,"3 a 4 años",null,"5 a 9 años",null,"10 a 14 años",null,"15 a 19 años",null,"20 a 24 años",null,"25 a 29 años",null,"30 a 34 años",null,"35 a 39 años",null,"40 a 44 años",null,"45 a 49 años",null,"50 a 54 años",null,"55 a 59 años",null,"60 a 64 años",null," 65 y más años",null,"Hombres",null,"Mujeres",null,"Femenino",null,"Masculino"]
[null,null,"Procesados","Confirmados positivos por ISP","Procesados","Confirmados positivos por ISP","Procesados","Confirmados positivos por ISP","Procesados","Confirmados positivos por ISP","Procesados","Confirmados positivos por ISP","Procesados","Confirmados positivos por ISP","Procesados","Confirmados positivos por ISP","Procesados","Confirmados positivos por ISP","Procesados","Confirmados positivos por ISP","Procesados","Confirmados positivos por ISP","Procesados","Confirmados positivos por ISP","Procesados","Confirmados positivos por ISP","Procesados","Confirmados positivos por ISP","Procesados","Confirmados positivos por ISP","Procesados","Confirmados positivos por ISP","Procesados","Confirmados positivos por ISP","Procesados","Confirmados positivos por ISP","Procesados","Confirmados positivos por ISP","Procesados","Confirmados positivos por ISP","Procesados","Confirmados positivos por ISP","Procesados","Confirmados positivos por ISP","Procesados","Confirmados positivos por ISP","Procesados","Confirmados positivos por ISP","Procesados","Confirmados positivos por ISP"]
["GESTANTES PRIMER EXAMEN",null,{"$f":"+M198+O198+Q198+S198+U198+W198+Y198+AA198+AC198+AE198","v":0},0,null,null,null,null,null,null,null,null,null,null,null,null,null,null,null,null,null,null,null,null,null,null,null,null,null,null,null,null,null,null,null,null,null,null,null,null,null,null,null,null,null,null,null,null,null,null,{"$f":"$CA198&CB198&$CC198&$CD198&$CE198&$CF198&$CG198&$CH198&$CI198&$CJ198&$CK198&$CL198&$CM198&$CN198&CO198","v":""},null,null,null,null,null,null,null,null,null,null,null,null,null,null,null,null,null,null,null,null,null,null,null,null,null,null,null,{"$f":"IF(C198<>(AK198+ AM198),\"* La suma de las columnas POR SEXO (Procesados) DEBE SER IGUAL al Total Procesados. \",\"\")","v":""},{"$f":"IF(D198<>(AL198+ AN198),\"* La suma de las columnas POR SEXO (Confirmados) DEBE SER IGUAL al Total Confirmados \",\"\")","v":""},null,{"$f":"IF(AN198>AM198,\" * El número de Exámenes por Sexo Mujeres/Confirmados positivos por ISP NO PUEDE Superar al número por Sexo Mujeres/Procesados. \",\"\")","v":""},{"$f":"IF(AND(C198>0,AND(AO198=\"\",AQ198=\"\")),\" * No olvide digitar los exámenes Procesados TRANS (Femenino y Masculino) Digite Cero si no tiene.\",IF((AO198+AQ198)>C198,\" * Los exámenes Procesados en Trans (Femenino y Masculino) no pueden ser mayor que el Total de exámenes Procesados.\",\"\"))","v":""},{"$f":"IF(AND(D198>0,AND(AP198=\"\",AR198=\"\")),\" * No olvide digitar los exámenes TRANS Confirmados Positivos por ISP (Femenino y Masculino) Digite Cero si no tiene.\",IF((AP198+AR198)>D198,\" * Los exámenes de Trans Confirmados Positivos por ISP (Femenino y Masculino) no pueden ser mayor que el Total de exámenes Confirmados Positivos por ISP.\",\"\"))","v":""},{"$f":"IF(AP198>AO198,\" * El número de Exámenes TRAN Femenino/Confirmados positivos por ISP NO PUEDE Superar al número de TRAN Femenino/Procesados. \",\"\")","v":""},{"$f":"IF(AR198>AQ198,\" * El número de Exámenes TRAN Masculino/Confirmados positivos por ISP NO PUEDE Superar al número de TRAN Masculino/Procesados. \",\"\")","v":""},{"$f":"IF(AND(C198>0,AS198=\"\"),\" * No olvide digitar los exámenes de Pueblos Originarios/Procesados (Digite Cero si no tiene).\",IF(AS198>C198,\" * Los exámenes Procesados de  Pueblos Originarios no pueden ser mayor que el Total de exámenes Procesados.\",\"\"))","v":""},{"$f":"IF(AND(D198>0,AT198=\"\"),\" * No olvide digitar los exámenes de Pueblos Originarios/Confirmados positivos por ISP (Digite Cero si no tiene.)\",IF(AT198>D198,\" * Los exámenes de  Pueblos Originarios/Confirmados positivos por ISP  no pueden ser mayor que el Total de Confirmados por ISP.\",\"\"))","v":""},{"$f":"IF(AND(C198>0,AU198=\"\"),\" * No olvide digitar los exámenes de Migrantes/Procesados (Digite Cero si no tiene).\",IF(AU198>C198,\" * Los exámenes Procesados de Migrantes no pueden ser mayor que el Total de exámenes Procesados.\",\"\"))","v":""},{"$f":"IF(AND(D198>0,AV198=\"\"),\" * No olvide digitar los exámenes de Migrantes/Confirmados positivos por ISP (Digite Cero si no tiene.)\",IF(AV198>D198,\" * Los exámenes de Migrantes/Confirmados positivos por ISP  no pueden ser mayor que el Total de Confirmados por ISP.\",\"\"))","v":""},{"$f":"IF(AND((M198+O198)<>0,AW198=\"\"),\" *No olvide digitar los Exámenes Procesados de 14-18 años (Digite cero si no tiene.)\",IF(AW198>(M198+O198),\" * El Total de Procesados de 14-18 años NO DEBE ser mayor al Total deProcesados registrados en los grupos de edad 10 a 14 y 15 a 19 años. \",\"\"))","v":""},{"$f":"IF(AND((N198+P198)<>0,AX198=\"\"),\" *No olvide digitar los Exámenes Confirmados Positivos por ISP de 14-18 años (Digite cero si no tiene.)\",IF(AX198>(N198+P198),\" * El Total de Confirmados Positivos por ISP de 14-18 años NO DEBE ser mayor al Total de Confirmados Positivos por ISP registrados en los grupos de edad 10 a 14 y 15 a 19 años. \",\"\"))","v":""},{"$f":"IF(AND((AW198)<>0,AX198=\"\"),\" *No olvide digitar los Exámenes Confirmados Positivos por ISP de 14-18 años (Digite cero si no tiene.)\",IF(AX198>(AW198),\" * El Total de Confirmados Positivos por ISP de 14-18 años NO DEBE ser mayor al Total de Procesados de 14-18 años. \",\"\"))","v":""},null,null,null,null,null,null,null,null,null,null,null,{"$f":"IF(C198<>(AK198+ AM198),1,0)","v":0},{"$f":"IF(D198<>(AL198+ AN198),1,0)","v":0},null,{"$f":"IF(AN198>AM198,1,0)","v":0},{"$f":"IF(AND(C198>0,AND(AO198=\"\"),AQ198=\"\"),1,IF((AO198+AQ198)>C198,1,0))","v":0},{"$f":"IF(AND(D198>0,AND(AP198=\"\",AR198=\"\")),1,IF((AP198+AR198)>D198,1,0))","v":0},{"$f":"IF(AP198>AO198,1,0)","v":0},{"$f":"IF(AR198>AQ198,1,0)","v":0},{"$f":"IF(AND(C198>0,AS198=\"\"),1,IF(AS198>C198,1,0))","v":0},{"$f":"IF(AND(D198>0,AT198=\"\"),1,IF(AT198>D198,1,0))","v":0},{"$f":"IF(AND(C198>0,AU198=\"\"),1,IF(AU198>C198,1,0))","v":0},{"$f":"IF(AND(D198>0,AV198=\"\"),1,IF(AV198>D198,1,0))","v":0},{"$f":"IF(AND((M198+O198)<>0,AW198=\"\"),1,IF(AW198>(M198+O198),1,0))","v":0},{"$f":"IF(AND((N198+P198)<>0,AX198=\"\"),1,IF(AX198>(N198+P198),1,0))","v":0},{"$f":"IF(AND((AW198)<>0,AX198=\"\"),1,IF(AX198>(AW198),1,0))","v":0}]
["GESTANTES SEGUNDO EXAMEN",null,0,0,null,null,null,null,null,null,null,null,null,null,null,null,null,null,null,null,null,null,null,null,null,null,null,null,null,null,null,null,null,null,null,null,null,null,null,null,null,null,null,null,null,null,null,null,null,null,{"$f":"$CA199&CB199&$CC199&$CD199&$CE199&$CF199&$CG199&$CH199&$CI199&$CJ199&$CK199&$CL199&$CM199&$CN199&CO199","v":""},null,null,null,null,null,null,null,null,null,null,null,null,null,null,null,null,null,null,null,null,null,null,null,null,null,null,null,{"$f":"IF(C199<>(AK199+ AM199),\"* La suma de las columnas POR SEXO (Procesados) DEBE SER IGUAL al Total Procesados. \",\"\")","v":""},{"$f":"IF(D199<>(AL199+ AN199),\"* La suma de las columnas POR SEXO (Confirmados) DEBE SER IGUAL al Total Confirmados \",\"\")","v":""},null,{"$f":"IF(AN199>AM199,\" * El número de Exámenes por Sexo Mujeres/Confirmados positivos por ISP NO PUEDE Superar al número por Sexo Mujeres/Procesados. \",\"\")","v":""},{"$f":"IF(AND(C199>0,AND(AO199=\"\",AQ199=\"\")),\" * No olvide digitar los exámenes Procesados TRANS (Femenino y Masculino) Digite Cero si no tiene.\",IF((AO199+AQ199)>C199,\" * Los exámenes Procesados en Trans (Femenino y Masculino) no pueden ser mayor que el Total de exámenes Procesados.\",\"\"))","v":""},{"$f":"IF(AND(D199>0,AND(AP199=\"\",AR199=\"\")),\" * No olvide digitar los exámenes TRANS Confirmados Positivos por ISP (Femenino y Masculino) Digite Cero si no tiene.\",IF((AP199+AR199)>D199,\" * Los exámenes Procesados en Trans (Femenino y Masculino) no pueden ser mayor que el Total de exámenes Procesados.\",\"\"))","v":""},{"$f":"IF(AP199>AO199,\" * El número de Exámenes TRAN Femenino/Confirmados positivos por ISP NO PUEDE Superar al número de TRAN Femenino/Procesados. \",\"\")","v":""},{"$f":"IF(AR199>AQ199,\" * El número de Exámenes TRAN Masculino/Confirmados positivos por ISP NO PUEDE Superar al número de TRAN Masculino/Procesados. \",\"\")","v":""},{"$f":"IF(AND(C199>0,AS199=\"\"),\" * No olvide digitar los exámenes de Pueblos Originarios/Procesados (Digite Cero si no tiene).\",IF(AS199>C199,\" * Los exámenes Procesados de  Pueblos Originarios no pueden ser mayor que el Total de exámenes Procesados.\",\"\"))","v":""},{"$f":"IF(AND(D199>0,AT199=\"\"),\" * No olvide digitar los exámenes de Pueblos Originarios/Confirmados positivos por ISP (Digite Cero si no tiene.)\",IF(AT199>D199,\" * Los exámenes de  Pueblos Originarios/Confirmados positivos por ISP  no pueden ser mayor que el Total de Confirmados por ISP.\",\"\"))","v":""},{"$f":"IF(AND(C199>0,AU199=\"\"),\" * No olvide digitar los exámenes de Migrantes/Procesados (Digite Cero si no tiene).\",IF(AU199>C199,\" * Los exámenes Procesados de Migrantes no pueden ser mayor que el Total de exámenes Procesados.\",\"\"))","v":""},{"$f":"IF(AND(D199>0,AV199=\"\"),\" * No olvide digitar los exámenes de Migrantes/Confirmados positivos por ISP (Digite Cero si no tiene.)\",IF(AV199>D199,\" * Los exámenes de Migrantes/Confirmados positivos por ISP  no pueden ser mayor que el Total de Confirmados por ISP.\",\"\"))","v":""},{"$f":"IF(AND((M199+O199)<>0,AW199=\"\"),\" *No olvide digitar los Exámenes Procesados de 14-18 años (Digite cero si no tiene.)\",IF(AW199>(M199+O199),\" * El Total de Procesados de 14-18 años NO DEBE ser mayor al Total deProcesados registrados en los grupos de edad 10 a 14 y 15 a 19 años. \",\"\"))","v":""},{"$f":"IF(AND((N199+P199)<>0,AX199=\"\"),\" *No olvide digitar los Exámenes Confirmados Positivos por ISP de 14-18 años (Digite cero si no tiene.)\",IF(AX199>(N199+P199),\" * El Total de Confirmados Positivos por ISP de 14-18 años NO DEBE ser mayor al Total de Confirmados Positivos por ISP registrados en los grupos de edad 10 a 14 y 15 a 19 años. \",\"\"))","v":""},{"$f":"IF(AND((AW199)<>0,AX199=\"\"),\" *No olvide digitar los Exámenes Confirmados Positivos por ISP de 14-18 años (Digite cero si no tiene.)\",IF(AX199>(AW199),\" * El Total de Confirmados Positivos por ISP de 14-18 años NO DEBE ser mayor al Total de Procesados de 14-18 años. \",\"\"))","v":""},null,null,null,null,null,null,null,null,null,null,null,{"$f":"IF(C199<>(AK199+ AM199),1,0)","v":0},{"$f":"IF(D199<>(AL199+ AN199),1,0)","v":0},null,{"$f":"IF(AN199>AM199,1,0)","v":0},{"$f":"IF(AND(C199>0,AND(AO199=\"\"),AQ199=\"\"),1,IF((AO199+AQ199)>C199,1,0))","v":0},{"$f":"IF(AND(D199>0,AND(AP199=\"\",AR199=\"\")),1,IF((AP199+AR199)>D199,1,0))","v":0},{"$f":"IF(AP199>AO199,1,0)","v":0},{"$f":"IF(AR199>AQ199,1,0)","v":0},{"$f":"IF(AND(C199>0,AS199=\"\"),1,IF(AS199>C199,1,0))","v":0},{"$f":"IF(AND(D199>0,AT199=\"\"),1,IF(AT199>D199,1,0))","v":0},{"$f":"IF(AND(C199>0,AU199=\"\"),1,IF(AU199>C199,1,0))","v":0},{"$f":"IF(AND(D199>0,AV199=\"\"),1,IF(AV199>D199,1,0))","v":0},{"$f":"IF(AND((M199+O199)<>0,AW199=\"\"),1,IF(AW199>(M199+O199),1,0))","v":0},{"$f":"IF(AND((N199+P199)<>0,AX199=\"\"),1,IF(AX199>(N199+P199),1,0))","v":0},{"$f":"IF(AND((AW199)<>0,AX199=\"\"),1,IF(AX199>(AW199),1,0))","v":0}]
["MUJER EN TRABAJO DE PRE PARTO O PARTO",null,0,0,null,null,null,null,null,null,null,null,null,null,null,null,null,null,null,null,null,null,null,null,null,null,null,null,null,null,null,null,null,null,null,null,null,null,null,null,null,null,null,null,null,null,null,null,null,null,"",null,null,null,null,null,null,null,null,null,null,null,null,null,null,null,null,null,null,null,null,null,null,null,null,null,null,null,"","",null,{"$f":"IF(AN200>AM200,\" * El número de Exámenes por Sexo Mujeres/Confirmados positivos por ISP NO PUEDE Superar al número por Sexo Mujeres/Procesados. \",\"\")","v":""},"","","","","","","","","","","",null,null,null,null,null,null,null,null,null,null,null,0,0,null,0,0,0,0,0,0,0,0,0,0,0,0]
["PERSONAS EN CONTROL POR COMERCIO SEXUAL",null,{"$f":"+O201+Q201+S201+U201+W201+Y201+AA201+AC201+AE201+AG201+AI201","v":0},{"$f":"+P201+R201+T201+V201+X201+Z201+AB201+AD201+AF201+AH201+AJ201","v":0},null,null,null,null,null,null,null,null,null,null,null,null,null,null,null,null,null,null,null,null,null,null,null,null,null,null,null,null,null,null,null,null,null,null,null,null,null,null,null,null,null,null,null,null,null,null,"",null,null,null,null,null,null,null,null,null,null,null,null,null,null,null,null,null,null,null,null,null,null,null,null,null,null,null,"","",{"$f":"IF(AL201>AK201,\" * El número de Exámenes por Sexo Hombres/Confirmados positivos por ISP NO PUEDE Superar al número por Sexo Hombres/Procesados. \",\"\")","v":""},"","","","","","","","","","","","",null,null,null,null,null,null,null,null,null,null,null,0,0,{"$f":"IF(AL201>AK201,1,0)","v":0},0,0,0,0,0,0,0,0,0,0,0,0]
["PACIENTES EN DIÁLISIS",null,{"$f":"+E202+G202+I202+K202+M202+O202+Q202+S202+U202+W202+Y202+AA202+AC202+AE202+AG202+AI202","v":0},{"$f":"+F202+H202+J202+L202+N202+P202+R202+T202+V202+X202+Z202+AB202+AD202+AF202+AH202+AJ202","v":0},null,null,null,null,null,null,null,null,null,null,null,null,null,null,null,null,null,null,null,null,null,null,null,null,null,null,null,null,null,null,null,null,null,null,null,null,null,null,null,null,null,null,null,null,null,null,"",null,null,null,null,null,null,null,null,null,null,null,null,null,null,null,null,null,null,null,null,null,null,null,null,null,null,null,"","",{"$f":"IF(AL202>AK202,\" * El número de Exámenes por Sexo Hombres/Confirmados positivos por ISP NO PUEDE Superar al número por Sexo Hombres/Procesados. \",\"\")","v":""},"","","","","","","","","","","","",null,null,null,null,null,null,null,null,null,null,null,0,0,{"$f":"IF(AL202>AK202,1,0)","v":0},0,0,0,0,0,0,0,0,0,0,0,0]
["POR CONSULTA ITS",null,{"$f":"+E203+G203+I203+K203+M203+O203+Q203+S203+U203+W203+Y203+AA203+AC203+AE203+AG203+AI203","v":0},{"$f":"+F203+H203+J203+L203+N203+P203+R203+T203+V203+X203+Z203+AB203+AD203+AF203+AH203+AJ203","v":0},null,null,null,null,null,null,null,null,null,null,null,null,null,null,null,null,null,null,null,null,null,null,null,null,null,null,null,null,null,null,null,null,null,null,null,null,null,null,null,null,null,null,null,null,null,null,"",null,null,null,null,null,null,null,null,null,null,null,null,null,null,null,null,null,null,null,null,null,null,null,null,null,null,null,"","","","","","","","","","","","","","","",null,null,null,null,null,null,null,null,null,null,null,0,0,0,0,0,0,0,0,0,0,0,0,0,0,0]
["PERSONAS EN CONTROL DE REGULACIÓN FECUNDIDAD, GINECOLOGICO, CLIMATERIO",null,{"$f":"+O204+Q204+S204+U204+W204+Y204+AA204+AC204+AE204+AG204+AI204","v":0},{"$f":"+P204+R204+T204+V204+X204+Z204+AB204+AD204+AF204+AH204+AJ204","v":0},null,null,null,null,null,null,null,null,null,null,null,null,null,null,null,null,null,null,null,null,null,null,null,null,null,null,null,null,null,null,null,null,null,null,null,null,null,null,null,null,null,null,null,null,null,null,"",null,null,null,null,null,null,null,null,null,null,null,null,null,null,null,null,null,null,null,null,null,null,null,null,null,null,null,"","","","",{"$f":"IF(AND(C204>0,AND(AO204=\"\",AQ204=\"\")),\" * No olvide digitar los exámenes Procesados TRANS (Femenino y Masculino) Digite Cero si no tiene.\",IF((AO204+AQ204)>C204,\" * Los exámenes Procesados en Trans (Femenino y Masculino) no pueden ser mayor que el Total de exámenes Procesados.\",\"\"))","v":""},"","","","","","","","","","",null,null,null,null,null,null,null,null,null,null,null,0,0,0,0,{"$f":"IF(AND(C204>0,AND(AO204=\"\"),AQ204=\"\"),1,IF((AO204+AQ204)>C204,1,0))","v":0},0,0,0,0,0,0,0,0,0,0]
["PERSONAS EMP/EMPAM ",null,{"$f":"+O205+Q205+S205+U205+W205+Y205+AA205+AC205+AE205+AG205+AI205","v":0},{"$f":"+P205+R205+T205+V205+X205+Z205+AB205+AD205+AF205+AH205+AJ205","v":0},null,null,null,null,null,null,null,null,null,null,null,null,null,null,null,null,null,null,null,null,null,null,null,null,null,null,null,null,null,null,null,null,null,null,null,null,null,null,null,null,null,null,null,null,null,null,"",null,null,null,null,null,null,null,null,null,null,null,null,null,null,null,null,null,null,null,null,null,null,null,null,null,null,null,"","","","","","","","","","","","","","","",null,null,null,null,null,null,null,null,null,null,null,0,0,0,0,0,0,0,0,0,0,0,0,0,0,0]
["PERSONAS EN CONTROL DE SALUD SEGÚN CICLO VITAL",null,{"$f":"+E206+G206+I206+K206+M206+O206+Q206+S206+U206+W206+Y206+AA206+AC206+AE206+AG206+AI206","v":0},{"$f":"+F206+H206+J206+L206+N206+P206+R206+T206+V206+X206+Z206+AB206+AD206+AF206+AH206+AJ206","v":0},null,null,null,null,null,null,null,null,null,null,null,null,null,null,null,null,null,null,null,null,null,null,null,null,null,null,null,null,null,null,null,null,null,null,null,null,null,null,null,null,null,null,null,null,null,null,"",null,null,null,null,null,null,null,null,null,null,null,null,null,null,null,null,null,null,null,null,null,null,null,null,null,null,null,"","","","","","","","","","","","","","","",null,null,null,null,null,null,null,null,null,null,null,0,0,0,0,0,0,0,0,0,0,0,0,0,0,0]
["DONANTES DE SANGRE","ALTRUISTA NUEVO",{"$f":"+O207+Q207+S207+U207+W207+Y207+AA207+AC207+AE207+AG207","v":0},0,null,null,null,null,null,null,null,null,null,null,null,null,null,null,null,null,null,null,null,null,null,null,null,null,null,null,null,null,null,null,null,null,null,null,null,null,null,null,null,null,null,null,null,null,null,null,"",null,null,null,null,null,null,null,null,null,null,null,null,null,null,null,null,null,null,null,null,null,null,null,null,null,null,null,"","","","",{"$f":"IF(AND(C207>0,AND(AO207=\"\",AQ207=\"\")),\" * No olvide digitar los exámenes Procesados TRANS (Femenino y Masculino) Digite Cero si no tiene.\",IF((AO207+AQ207)>C207,\" * Los exámenes Procesados en Trans (Femenino y Masculino) no pueden ser mayor que el Total de exámenes Procesados.\",\"\"))","v":""},"","","","","","","",null,null,null,null,null,null,null,null,null,null,null,null,null,null,0,0,0,0,0,0,0,0,0,0,0,0]
[null,"ALTRUISTA REPETIDO",0,0,null,null,null,null,null,null,null,null,null,null,null,null,null,null,null,null,null,null,null,null,null,null,null,null,null,null,null,null,null,null,null,null,null,null,null,null,null,null,null,null,null,null,null,null,null,null,"",null,null,null,null,null,null,null,null,null,null,null,null,null,null,null,null,null,null,null,null,null,null,null,null,null,null,null,"","","","","","","","","","","","",null,null,null,null,null,null,null,null,null,null,null,null,null,null,0,0,0,0,0,0,0,0,0,0,0,0]
[null,"FAMILIAR O REPOSICIÓN",0,0,null,null,null,null,null,null,null,null,null,null,null,null,null,null,null,null,null,null,null,null,null,null,null,null,null,null,null,null,null,null,null,null,null,null,null,null,null,null,null,null,null,null,null,null,null,null,"",null,null,null,null,null,null,null,null,null,null,null,null,null,null,null,null,null,null,null,null,null,null,null,null,null,null,null,"","","","","","","","","","","","",null,null,null,null,null,null,null,null,null,null,null,null,null,null,0,0,0,0,0,0,0,0,0,0,0,0]
["DONANTES DE ÓRGANOS Y/O TEJIDOS",null,{"$f":"+E210+G210+I210+K210+M210+O210+Q210+S210+U210+W210+Y210+AA210+AC210+AE210+AG210+AI210","v":0},0,null,null,null,null,null,null,null,null,null,null,null,null,null,null,null,null,null,null,null,null,null,null,null,null,null,null,null,null,null,null,null,null,null,null,null,null,null,null,null,null,null,null,null,null,null,null,"",null,null,null,null,null,null,null,null,null,null,null,null,null,null,null,null,null,null,null,null,null,null,null,null,null,null,null,"","","","","","","","","","","","",{"$f":"IF(AND((M210+O210)<>0,AW210=\"\"),\" *No olvide digitar los Exámenes Procesados de 14-18 años (Digite cero si no tiene.)\",IF(AW210>(M210+O210),\" * El Total de Procesados de 14-18 años NO DEBE ser mayor al Total deProcesados registrados en los grupos de edad 10 a 14 y 15 a 19 años. \",\"\"))","v":""},{"$f":"IF(AND((N210+P210)<>0,AX210=\"\"),\" *No olvide digitar los Exámenes Confirmados Positivos por ISP de 14-18 años (Digite cero si no tiene.)\",IF(AX210>(N210+P210),\" * El Total de Confirmados Positivos por ISP de 14-18 años NO DEBE ser mayor al Total de Confirmados Positivos por ISP registrados en los grupos de edad 10 a 14 y 15 a 19 años. \",\"\"))","v":""},"",null,null,null,null,null,null,null,null,null,null,null,0,0,0,0,0,0,0,0,0,0,0,0,{"$f":"IF(AND((M210+O210)<>0,AW210=\"\"),1,IF(AW210>(M210+O210),1,0))","v":0},{"$f":"IF(AND((N210+P210)<>0,AX210=\"\"),1,IF(AX210>(N210+P210),1,0))","v":0},0]
["PERSONA EN CONTROL POR TBC",null,0,0,null,null,null,null,null,null,null,null,null,null,null,null,null,null,null,null,null,null,null,null,null,null,null,null,null,null,null,null,null,null,null,null,null,null,null,null,null,null,null,null,null,null,null,null,null,null,"",null,null,null,null,null,null,null,null,null,null,null,null,null,null,null,null,null,null,null,null,null,null,null,null,null,null,null,"","","","","","","","","","","","",{"$f":"IF(AND((M211+O211)<>0,AW211=\"\"),\" *No olvide digitar los Exámenes Procesados de 14-18 años (Digite cero si no tiene.)\",IF(AW211>(M211+O211),\" * El Total de Procesados de 14-18 años NO DEBE ser mayor al Total deProcesados registrados en los grupos de edad 10 a 14 y 15 a 19 años. \",\"\"))","v":""},"","",null,null,null,null,null,null,null,null,null,null,null,0,0,0,0,0,0,0,0,0,0,0,0,0,0,0]
["VÍCTIMA DE VIOLENCIA SEXUAL",null,0,0,null,null,null,null,null,null,null,null,null,null,null,null,null,null,null,null,null,null,null,null,null,null,null,null,null,null,null,null,null,null,null,null,null,null,null,null,null,null,null,null,null,null,null,null,null,null,"",null,null,null,null,null,null,null,null,null,null,null,null,null,null,null,null,null,null,null,null,null,null,null,null,null,null,null,"","","","","","","","","","","","","","","",null,null,null,null,null,null,null,null,null,null,null,0,0,0,0,0,0,0,0,0,0,0,0,0,0,0]
["PAREJA SERODISCORDANTE",null,{"$f":"+O213+Q213+S213+U213+W213+Y213+AA213+AC213+AE213+AG213+AI213","v":0},{"$f":"+P213+R213+T213+V213+X213+Z213+AB213+AD213+AF213+AH213+AJ213","v":0},null,null,null,null,null,null,null,null,null,null,null,null,null,null,null,null,null,null,null,null,null,null,null,null,null,null,null,null,null,null,null,null,null,null,null,null,null,null,null,null,null,null,null,null,null,null,"",null,null,null,null,null,null,null,null,null,null,null,null,null,null,null,null,null,null,null,null,null,null,null,null,null,null,null,"","","","","","","","","","","","","","","",null,null,null,null,null,null,null,null,null,null,null,0,0,0,0,0,0,0,0,0,0,0,0,0,0,0]
["PAREJA DE GESTANTE VIH POSITIVO",null,{"$f":"+O214+Q214+S214+U214+W214+Y214+AA214+AC214+AE214+AG214+AI214","v":0},{"$f":"+P214+R214+T214+V214+X214+Z214+AB214+AD214+AF214+AH214+AJ214","v":0},null,null,null,null,null,null,null,null,null,null,null,null,null,null,null,null,null,null,null,null,null,null,null,null,null,null,null,null,null,null,null,null,null,null,null,null,null,null,null,null,null,null,null,null,null,null,"",null,null,null,null,null,null,null,null,null,null,null,null,null,null,null,null,null,null,null,null,null,null,null,null,null,null,null,"","","","","","","","","","","","","","","",null,null,null,null,null,null,null,null,null,null,null,0,0,0,0,0,0,0,0,0,0,0,0,0,0,0]
["PERSONAL DE SALUD EXPUESTO A ACCIDENTE CORTOPUNZANTE",null,0,0,null,null,null,null,null,null,null,null,null,null,null,null,null,null,null,null,null,null,null,null,null,null,null,null,null,null,null,null,null,null,null,null,null,null,null,null,null,null,null,null,null,null,null,null,null,null,"",null,null,null,null,null,null,null,null,null,null,null,null,null,null,null,null,null,null,null,null,null,null,null,null,null,null,null,"","","","","","","","","","","","","","","",null,null,null,null,null,null,null,null,null,null,null,0,0,0,0,0,0,0,0,0,0,0,0,0,0,0]
["PACIENTES FUENTE DE ACCIDENTE CORTOPUNZANTE",null,{"$f":"+E216+G216+I216+K216+M216+O216+Q216+S216+U216+W216+Y216+AA216+AC216+AE216+AG216+AI216","v":0},0,null,null,null,null,null,null,null,null,null,null,null,null,null,null,null,null,null,null,null,null,null,null,null,null,null,null,null,null,null,null,null,null,null,null,null,null,null,null,null,null,null,null,null,null,null,null,"",null,null,null,null,null,null,null,null,null,null,null,null,null,null,null,null,null,null,null,null,null,null,null,null,null,null,null,"","","","","","","","","","","","","","","",null,null,null,null,null,null,null,null,null,null,null,0,0,0,0,0,0,0,0,0,0,0,0,0,0,0]
["PERSONA EN CONTROL POR HEPATITIS B",null,0,0,null,null,null,null,null,null,null,null,null,null,null,null,null,null,null,null,null,null,null,null,null,null,null,null,null,null,null,null,null,null,null,null,null,null,null,null,null,null,null,null,null,null,null,null,null,null,"",null,null,null,null,null,null,null,null,null,null,null,null,null,null,null,null,null,null,null,null,null,null,null,null,null,null,null,"","","","","","","","","","","","","","","",null,null,null,null,null,null,null,null,null,null,null,0,0,0,0,0,0,0,0,0,0,0,0,0,0,0]
["PERSONA EN CONTROL POR HEPATITIS C",null,0,0,null,null,null,null,null,null,null,null,null,null,null,null,null,null,null,null,null,null,null,null,null,null,null,null,null,null,null,null,null,null,null,null,null,null,null,null,null,null,null,null,null,null,null,null,null,null,"",null,null,null,null,null,null,null,null,null,null,null,null,null,null,null,null,null,null,null,null,null,null,null,null,null,null,null,"","","","","","","","","","","","","","","",null,null,null,null,null,null,null,null,null,null,null,0,0,0,0,0,0,0,0,0,0,0,0,0,0,0]
["CONSULTANTES POR MORBILIDAD",null,0,0,null,null,null,null,null,null,null,null,null,null,null,null,null,null,null,null,null,null,null,null,null,null,null,null,null,null,null,null,null,null,null,null,null,null,null,null,null,null,null,null,null,null,null,null,null,null,"",null,null,null,null,null,null,null,null,null,null,null,null,null,null,null,null,null,null,null,null,null,null,null,null,null,null,null,"","","","","","","","","","","","","","","",null,null,null,null,null,null,null,null,null,null,null,0,0,0,0,0,0,0,0,0,0,0,0,0,0,0]
["POR CONSULTA ESPONTÁNEA",null,0,0,null,null,null,null,null,null,null,null,null,null,null,null,null,null,null,null,null,null,null,null,null,null,null,null,null,null,null,null,null,null,null,null,null,null,null,null,null,null,null,null,null,null,null,null,null,null,"",null,null,null,null,null,null,null,null,null,null,null,null,null,null,null,null,null,null,null,null,null,null,null,null,null,null,null,"","",{"$f":"IF(AN220>AM220,\" * El número de Exámenes por Sexo Mujeres Confirmados positivos por ISP NO PUEDE Superar al número de Procesados. \",\"\")","v":""},"","","","","","","","","","","","",null,null,null,null,null,null,null,null,null,null,null,0,0,0,0,0,0,0,0,0,0,0,0,0,0,0]
[]
["SECCIÓN D: EXÁMENES DE GONORREA POR GRUPOS DE USUARIOS "]
["GRUPO DE USUARIOS","TOTAL",null,"GRUPO DE EDAD (En años)",null,null,null,null,null,null,null,null,null,null,null,null,null,null,null,null,null,null,null,null,null,null,null,null,null,null,null,null,null,null,null,null,null,"POR SEXO (Procesados)",null,"TRANS",null,"Beneficiarios FONASA","Pueblos Originarios","Migrantes"]
[null,null,null,"0 a 4 años",null,"5 a 9 años",null,"10 a 14 años",null,"15 a 19 años",null,"20 a 24 años",null,"25 a 29 años",null,"30 a 34 años",null,"35 a 39 años",null,"40 a 44 años",null,"45 a 49 años",null,"50 a 54 años",null,"55 a 59 años",null,"60 a 64 años",null,"65 a 69 años",null,"70 a 74 años",null,"75 a 79 años",null,"80 y más años",null,"Hombres","Mujeres","Masculino","Femenino"]
[null,"Procesados","Reactivos","Procesados","Reactivos","Procesados","Reactivos","Procesados","Reactivos","Procesados","Reactivos","Procesados","Reactivos","Procesados","Reactivos","Procesados","Reactivos","Procesados","Reactivos","Procesados","Reactivos","Procesados","Reactivos","Procesados","Reactivos","Procesados","Reactivos","Procesados","Reactivos","Procesados","Reactivos","Procesados","Reactivos","Procesados","Reactivos","Procesados","Reactivos"]
["GESTANTES",{"$f":"SUM(H226+J226+L226+N226+P226+R226+T226+V226+X226)","v":0},{"$f":"SUM(I226+K226+M226+O226+Q226+S226+U226+W226+Y226)","v":0},null,null,null,null,null,null,null,null,null,null,null,null,null,null,null,null,null,null,null,null,null,null,null,null,null,null,null,null,null,null,null,null,null,null,null,null,null,null,null,null,null,{"$f":"$CA226 & CB226& $CC226 & $CD226&CE226&CF226","v":""},null,null,null,null,null,null,null,null,null,null,null,null,null,null,null,null,null,null,null,null,null,null,null,null,null,null,null,null,null,null,null,null,null,{"$f":"IF(B226<>(AL226+ AM226),\"* La suma de la variable POR SEXO (Procesados) DEBE SER IGUAL al Total Procesados. \",\"\")","v":""},{"$f":"IF(C226>(B226),\"* La suma de la variable Reactivos NO DEBE ser mayor a la variable Procesados. \",\"\")","v":""},{"$f":"IF(AND(B226>0,AND(AN226=\"\",AO226=\"\")),\" * No olvide digitar la variable TRANS (Femenino y Masculino) Digite Cero si no tiene.\",IF((AN226+AO226)>B226,\" * La variable Trans (Femenino y Masculino) no pueden ser mayor que el Total de Procesados.\",\"\"))","v":""},{"$f":"IF(AND(B226>0,AP226=\"\"),\" * No olvide digitar la variable Beneficiarios FONASA. Digite Cero si no tiene.\",IF(AP226>B226,\" * La variable Beneficiarios FONASA no puede ser mayor al Total de Procesados.\",\"\"))","v":""},{"$f":"IF(AND(B226>0,AQ226=\"\"),\" * No olvide digitar la variable Pueblos Originarios. Digite Cero si no tiene.\",IF(AQ226>B226,\" * La variable Pueblos Originarios no puede ser mayor al Total de Procesados.\",\"\"))","v":""},{"$f":"IF(AND(B226>0,AR226=\"\"),\" * No olvide digitar la variable Migrantes. Digite Cero si no tiene.\",IF(AR226>B226,\" * La variable Migrantes no puede ser mayor al Total de Procesados.\",\"\"))","v":""},null,null,null,null,null,null,null,null,null,null,null,null,null,null,null,null,null,null,null,null,{"$f":"IF(B226<>(AL226+ AM226),1,0)","v":0},{"$f":"IF(B226<(C226),1,0)","v":0},{"$f":"IF(AND(B226>0,AND(AN226=\"\",AO226=\"\")),1,IF((AN226+AO226)>B226,1,0))","v":0},{"$f":"IF(AND(B226>0,AP226=\"\"),1,IF(AP226>B226,1,0))","v":0},{"$f":"IF(AND(B226>0,AQ226=\"\"),1,IF(AQ226>B226,1,0))","v":0},{"$f":"IF(AND(B226>0,AR226=\"\"),1,IF(AR226>B226,1,0))","v":0}]
["COMERCIO SEXUAL",{"$f":"SUM(J227+L227+N227+P227+R227+T227+V227+X227+Z227+AB227+AD227+AF227+AH227+AJ227)","v":0},{"$f":"SUM(K227+M227+O227+Q227+S227+U227+W227+Y227+AA227+AC227+AE227+AG227+AI227+AK227)","v":0},null,null,null,null,null,null,null,null,null,null,null,null,null,null,null,null,null,null,null,null,null,null,null,null,null,null,null,null,null,null,null,null,null,null,null,null,null,null,null,null,null,{"$f":"$CA227 & CB227& $CC227 & $CD227&CE227&CF227","v":""},null,null,null,null,null,null,null,null,null,null,null,null,null,null,null,null,null,null,null,null,null,null,null,null,null,null,null,null,null,null,null,null,null,{"$f":"IF(B227<>(AL227+ AM227),\"* La suma de la variable POR SEXO (Procesados) DEBE SER IGUAL al Total Procesados. \",\"\")","v":""},{"$f":"IF(C227>(B227),\"* La suma de la variable Reactivos NO DEBE ser mayor a la variable Procesados. \",\"\")","v":""},{"$f":"IF(AND(B227>0,AND(AN227=\"\",AO227=\"\")),\" * No olvide digitar la variable TRANS (Femenino y Masculino) Digite Cero si no tiene.\",IF((AN227+AO227)>B227,\" * La variable Trans (Femenino y Masculino) no pueden ser mayor que el Total de Procesados.\",\"\"))","v":""},{"$f":"IF(AND(B227>0,AP227=\"\"),\" * No olvide digitar la variable Beneficiarios FONASA. Digite Cero si no tiene.\",IF(AP227>B227,\" * La variable Beneficiarios FONASA no puede ser mayor al Total de Procesados.\",\"\"))","v":""},{"$f":"IF(AND(B227>0,AQ227=\"\"),\" * No olvide digitar la variable Pueblos Originarios. Digite Cero si no tiene.\",IF(AQ227>B227,\" * La variable Pueblos Originarios no puede ser mayor al Total de Procesados.\",\"\"))","v":""},{"$f":"IF(AND(B227>0,AR227=\"\"),\" * No olvide digitar la variable Migrantes. Digite Cero si no tiene.\",IF(AR227>B227,\" * La variable Migrantes no puede ser mayor al Total de Procesados.\",\"\"))","v":""},null,null,null,null,null,null,null,null,null,null,null,null,null,null,null,null,null,null,null,null,{"$f":"IF(B227<>(AL227+ AM227),1,0)","v":0},{"$f":"IF(B227<(C227),1,0)","v":0},{"$f":"IF(AND(B227>0,AND(AN227=\"\",AO227=\"\")),1,IF((AN227+AO227)>B227,1,0))","v":0},{"$f":"IF(AND(B227>0,AP227=\"\"),1,IF(AP227>B227,1,0))","v":0},{"$f":"IF(AND(B227>0,AQ227=\"\"),1,IF(AQ227>B227,1,0))","v":0},{"$f":"IF(AND(B227>0,AR227=\"\"),1,IF(AR227>B227,1,0))","v":0}]
["PERSONAS VIH (+)",{"$f":"SUM(D228+F228+H228+J228+L228+N228+P228+R228+T228+V228+X228+Z228+AB228+AD228+AF228+AH228+AJ228)","v":0},{"$f":"SUM(E228+G228+I228+K228+M228+O228+Q228+S228+U228+W228+Y228+AA228+AC228+AE228+AG228+AI228+AK228)","v":0},null,null,null,null,null,null,null,null,null,null,null,null,null,null,null,null,null,null,null,null,null,null,null,null,null,null,null,null,null,null,null,null,null,null,null,null,null,null,null,null,null,"",null,null,null,null,null,null,null,null,null,null,null,null,null,null,null,null,null,null,null,null,null,null,null,null,null,null,null,null,null,null,null,null,null,"","","","","","",null,null,null,null,null,null,null,null,null,null,null,null,null,null,null,null,null,null,null,null,0,0,0,0,0,0]
["CONSULTANTE ITS AMBULATORIO (nivel1º y 2º)",{"$f":"SUM(D229+F229+H229+J229+L229+N229+P229+R229+T229+V229+X229+Z229+AB229+AD229+AF229+AH229+AJ229)","v":0},{"$f":"SUM(E229+G229+I229+K229+M229+O229+Q229+S229+U229+W229+Y229+AA229+AC229+AE229+AG229+AI229+AK229)","v":0},null,null,null,null,null,null,null,null,null,null,null,null,null,null,null,null,null,null,null,null,null,null,null,null,null,null,null,null,null,null,null,null,null,null,null,null,null,null,null,null,null,"",null,null,null,null,null,null,null,null,null,null,null,null,null,null,null,null,null,null,null,null,null,null,null,null,null,null,null,null,null,null,null,null,null,"","","","","","",null,null,null,null,null,null,null,null,null,null,null,null,null,null,null,null,null,null,null,null,0,0,0,0,0,0]
["CONSULTANTE ITS HOSPITALARIO (nivel 3º y urgencia)",{"$f":"SUM(D230+F230+H230+J230+L230+N230+P230+R230+T230+V230+X230+Z230+AB230+AD230+AF230+AH230+AJ230)","v":0},{"$f":"SUM(E230+G230+I230+K230+M230+O230+Q230+S230+U230+W230+Y230+AA230+AC230+AE230+AG230+AI230+AK230)","v":0},null,null,null,null,null,null,null,null,null,null,null,null,null,null,null,null,null,null,null,null,null,null,null,null,null,null,null,null,null,null,null,null,null,null,null,null,null,null,null,null,null,"",null,null,null,null,null,null,null,null,null,null,null,null,null,null,null,null,null,null,null,null,null,null,null,null,null,null,null,null,null,null,null,null,null,"","","","","","",null,null,null,null,null,null,null,null,null,null,null,null,null,null,null,null,null,null,null,null,0,0,0,0,0,0]
["VICTIMA DE VIOLENCIA SEXUAL",{"$f":"SUM(D231+F231+H231+J231+L231+N231+P231+R231+T231+V231+X231+Z231+AB231+AD231+AF231+AH231+AJ231)","v":0},0,null,null,null,null,null,null,null,null,null,null,null,null,null,null,null,null,null,null,null,null,null,null,null,null,null,null,null,null,null,null,null,null,null,null,null,null,null,null,null,null,null,"",null,null,null,null,null,null,null,null,null,null,null,null,null,null,null,null,null,null,null,null,null,null,null,null,null,null,null,null,null,null,null,null,null,"","","","","","",null,null,null,null,null,null,null,null,null,null,null,null,null,null,null,null,null,null,null,null,0,0,0,0,0,0]
["OTROS",{"$f":"SUM(D232+F232+H232+J232+L232+N232+P232+R232+T232+V232+X232+Z232+AB232+AD232+AF232+AH232+AJ232)","v":0},0,null,null,null,null,null,null,null,null,null,null,null,null,null,null,null,null,null,null,null,null,null,null,null,null,null,null,null,null,null,null,null,null,null,null,null,null,null,null,null,null,null,"",null,null,null,null,null,null,null,null,null,null,null,null,null,null,null,null,null,null,null,null,null,null,null,null,null,null,null,null,null,null,null,null,null,"","","","","","",null,null,null,null,null,null,null,null,null,null,null,null,null,null,null,null,null,null,null,null,0,0,0,0,0,0]
[]
["SECCIÓN E: EXÁMENES DE CHLAMYIDIA TRACHOMATIS POR GRUPOS DE USUARIOS "]
["GRUPO DE USUARIOS","TOTAL",null,"GRUPO DE EDAD (En años)",null,null,null,null,null,null,null,null,null,null,null,null,null,null,null,null,null,null,null,null,null,null,null,null,null,null,null,null,null,null,null,null,null,"POR SEXO (Procesados)",null,"TRANS",null,"Beneficiarios FONASA","Pueblos Originarios","Migrantes"]
[null,null,null,"0 a 4 años",null,"5 a 9 años",null,"10 a 14 años",null,"15 a 19 años",null,"20 a 24 años",null,"25 a 29 años",null,"30 a 34 años",null,"35 a 39 años",null,"40 a 44 años",null,"45 a 49 años",null,"50 a 54 años",null,"55 a 59 años",null,"60 a 64 años",null,"65 a 69 años",null,"70 a 74 años",null,"75 a 79 años",null,"80 y más años",null,"Hombres","Mujeres","Masculino","Femenino"]
[null,"Procesados","Reactivos","Procesados","Reactivos","Procesados","Reactivos","Procesados","Reactivos","Procesados","Reactivos","Procesados","Reactivos","Procesados","Reactivos","Procesados","Reactivos","Procesados","Reactivos","Procesados","Reactivos","Procesados","Reactivos","Procesados","Reactivos","Procesados","Reactivos","Procesados","Reactivos","Procesados","Reactivos","Procesados","Reactivos","Procesados","Reactivos","Procesados","Reactivos"]
["GESTANTES",{"$f":"SUM(H238+J238+L238+N238+P238+R238+T238+V238+X238)","v":0},{"$f":"SUM(I238+K238+M238+O238+Q238+S238+U238+W238+Y238)","v":0},null,null,null,null,null,null,null,null,null,null,null,null,null,null,null,null,null,null,null,null,null,null,null,null,null,null,null,null,null,null,null,null,null,null,null,null,null,null,null,null,null,{"$f":"$CA238 & CB238& $CC238 & $CD238&CE238&CF238","v":""},null,null,null,null,null,null,null,null,null,null,null,null,null,null,null,null,null,null,null,null,null,null,null,null,null,null,null,null,null,null,null,null,null,{"$f":"IF(B238<>(AL238+ AM238),\"* La suma de la variable POR SEXO (Procesados) DEBE SER IGUAL al Total Procesados. \",\"\")","v":""},{"$f":"IF(C238>(B238),\"* La suma de la variable Reactivos NO DEBE ser mayor a la variable Procesados. \",\"\")","v":""},{"$f":"IF(AND(B238>0,AND(AN238=\"\",AO238=\"\")),\" * No olvide digitar la variable TRANS (Femenino y Masculino) Digite Cero si no tiene.\",IF((AN238+AO238)>B238,\" * La variable Trans (Femenino y Masculino) no pueden ser mayor que el Total de Procesados.\",\"\"))","v":""},{"$f":"IF(AND(B238>0,AP238=\"\"),\" * No olvide digitar la variable Beneficiarios FONASA. Digite Cero si no tiene.\",IF(AP238>B238,\" * La variable Beneficiarios FONASA no puede ser mayor al Total de Procesados.\",\"\"))","v":""},{"$f":"IF(AND(B238>0,AQ238=\"\"),\" * No olvide digitar la variable Pueblos Originarios. Digite Cero si no tiene.\",IF(AQ238>B238,\" * La variable Pueblos Originarios no puede ser mayor al Total de Procesados.\",\"\"))","v":""},{"$f":"IF(AND(B238>0,AR238=\"\"),\" * No olvide digitar la variable Migrantes. Digite Cero si no tiene.\",IF(AR238>B238,\" * La variable Migrantes no puede ser mayor al Total de Procesados.\",\"\"))","v":""},null,null,null,null,null,null,null,null,null,null,null,null,null,null,null,null,null,null,null,null,{"$f":"IF(B238<>(AL238+ AM238),1,0)","v":0},{"$f":"IF(B238<(C238),1,0)","v":0},{"$f":"IF(AND(B238>0,AND(AN238=\"\",AO238=\"\")),1,IF((AN238+AO238)>B238,1,0))","v":0},{"$f":"IF(AND(B238>0,AP238=\"\"),1,IF(AP238>B238,1,0))","v":0},{"$f":"IF(AND(B238>0,AQ238=\"\"),1,IF(AQ238>B238,1,0))","v":0},{"$f":"IF(AND(B238>0,AR238=\"\"),1,IF(AR238>B238,1,0))","v":0}]
["COMERCIO SEXUAL",{"$f":"SUM(J239+L239+N239+P239+R239+T239+V239+X239+Z239+AB239+AD239+AF239+AH239+AJ239)","v":0},{"$f":"SUM(K239+M239+O239+Q239+S239+U239+W239+Y239+AA239+AC239+AE239+AG239+AI239+AK239)","v":0},null,null,null,null,null,null,null,null,null,null,null,null,null,null,null,null,null,null,null,null,null,null,null,null,null,null,null,null,null,null,null,null,null,null,null,null,null,null,null,null,null,"",null,null,null,null,null,null,null,null,null,null,null,null,null,null,null,null,null,null,null,null,null,null,null,null,null,null,null,null,null,null,null,null,null,"","","","","","",null,null,null,null,null,null,null,null,null,null,null,null,null,null,null,null,null,null,null,null,{"$f":"IF(B239<>(AL239+ AM239),1,0)","v":0},0,{"$f":"IF(AND(B239>0,AND(AN239=\"\",AO239=\"\")),1,IF((AN239+AO239)>B239,1,0))","v":0},{"$f":"IF(AND(B239>0,AP239=\"\"),1,IF(AP239>B239,1,0))","v":0},{"$f":"IF(AND(B239>0,AQ239=\"\"),1,IF(AQ239>B239,1,0))","v":0},{"$f":"IF(AND(B239>0,AR239=\"\"),1,IF(AR239>B239,1,0))","v":0}]
["PERSONAS VIH (+)",{"$f":"SUM(D240+F240+H240+J240+L240+N240+P240+R240+T240+V240+X240+Z240+AB240+AD240+AF240+AH240+AJ240)","v":0},0,null,null,null,null,null,null,null,null,null,null,null,null,null,null,null,null,null,null,null,null,null,null,null,null,null,null,null,null,null,null,null,null,null,null,null,null,null,null,null,null,null,"",null,null,null,null,null,null,null,null,null,null,null,null,null,null,null,null,null,null,null,null,null,null,null,null,null,null,null,null,null,null,null,null,null,"","","","","","",null,null,null,null,null,null,null,null,null,null,null,null,null,null,null,null,null,null,null,null,0,0,0,0,0,0]
["CONSULTANTE ITS AMBULATORIO (nivel1º y 2º)",0,0,null,null,null,null,null,null,null,null,null,null,null,null,null,null,null,null,null,null,null,null,null,null,null,null,null,null,null,null,null,null,null,null,null,null,null,null,null,null,null,null,null,"",null,null,null,null,null,null,null,null,null,null,null,null,null,null,null,null,null,null,null,null,null,null,null,null,null,null,null,null,null,null,null,null,null,"","","","","","",null,null,null,null,null,null,null,null,null,null,null,null,null,null,null,null,null,null,null,null,0,0,0,0,0,0]
["CONSULTANTE ITS HOSPITALARIO (nivel 3º y urgencia)",0,0,null,null,null,null,null,null,null,null,null,null,null,null,null,null,null,null,null,null,null,null,null,null,null,null,null,null,null,null,null,null,null,null,null,null,null,null,null,null,null,null,null,"",null,null,null,null,null,null,null,null,null,null,null,null,null,null,null,null,null,null,null,null,null,null,null,null,null,null,null,null,null,null,null,null,null,"","","","","","",null,null,null,null,null,null,null,null,null,null,null,null,null,null,null,null,null,null,null,null,0,0,0,0,0,0]
["VICTIMA DE VIOLENCIA SEXUAL",0,0,null,null,null,null,null,null,null,null,null,null,null,null,null,null,null,null,null,null,null,null,null,null,null,null,null,null,null,null,null,null,null,null,null,null,null,null,null,null,null,null,null,"",null,null,null,null,null,null,null,null,null,null,null,null,null,null,null,null,null,null,null,null,null,null,null,null,null,null,null,null,null,null,null,null,null,"","","","","","",null,null,null,null,null,null,null,null,null,null,null,null,null,null,null,null,null,null,null,null,0,0,0,0,0,0]
["OTROS",0,0,null,null,null,null,null,null,null,null,null,null,null,null,null,null,null,null,null,null,null,null,null,null,null,null,null,null,null,null,null,null,null,null,null,null,null,null,null,null,null,null,null,"",null,null,null,null,null,null,null,null,null,null,null,null,null,null,null,null,null,null,null,null,null,null,null,null,null,null,null,null,null,null,null,null,null,"","","","","","",null,null,null,null,null,null,null,null,null,null,null,null,null,null,null,null,null,null,null,null,0,0,0,0,0,0]
[]
["SECCIÓN F: EXÁMENES DE VIH POR TÉCNICA VISUAL/RÁPIDA Y GRUPOS DE USUARIOS"]
["GRUPOS DE USUARIOS POR INSTANCIA",null,"TOTAL",null,null,null,null,null,null,null,null,null,null,null,null,null,null,null,null,null,null,null,null,null,null,null,null,null,null,null,null,null,null,null,null,null,"POR SEXO",null,null,null,"TRANS",null,null,null,"Pueblos originarios",null,"Migrantes",null,"14-18 años"]
[null,null,null,null,"Menor de 12 meses",null,"12-24 meses",null,"3 a 4 años",null,"5 a 9 años",null,"10 a 14 años",null,"15 a 19 años",null,"20 a 24 años",null,"25 a 29 años",null,"30 a 34 años",null,"35 a 39 años",null,"40 a 44 años",null,"45 a 49 años",null,"50 a 54 años",null,"55 a 59 años",null,"60 a 64 años",null,"65 y Mas años",null,"Hombres",null,"Mujeres",null,"Femenino",null,"Masculino"]
[null,null,"Procesados","Confirmados positivos por ISP","Procesados","Confirmados positivos por ISP","Procesados","Confirmados positivos por ISP","Procesados","Confirmados positivos por ISP","Procesados","Confirmados positivos por ISP","Procesados","Confirmados positivos por ISP","Procesados","Confirmados positivos por ISP","Procesados","Confirmados positivos por ISP","Procesados","Confirmados positivos por ISP","Procesados","Confirmados positivos por ISP","Procesados","Confirmados positivos por ISP","Procesados","Confirmados positivos por ISP","Procesados","Confirmados positivos por ISP","Procesados","Confirmados positivos por ISP","Procesados","Confirmados positivos por ISP","Procesados","Confirmados positivos por ISP","Procesados","Confirmados positivos por ISP","Procesados","Confirmados positivos por ISP","Procesados","Confirmados positivos por ISP","Procesados","Confirmados positivos por ISP","Procesados","Confirmados positivos por ISP","Procesados","Confirmados positivos por ISP","Procesados","Confirmados positivos por ISP","Procesados","Confirmados positivos por ISP"]
["INTERIOR ESTABLECIMIENTO SALUD (INTRAMURO)","GESTANTES PRIMER EXAMEN",{"$f":"+M250+O250+Q250+S250+U250+W250+Y250+AA250+AC250","v":0},{"$f":"+N250+P250+R250+T250+V250+X250+Z250+AB250+AD250","v":0},null,null,null,null,null,null,null,null,null,null,null,null,null,null,null,null,null,null,null,null,null,null,null,null,null,null,null,null,null,null,null,null,null,null,null,null,null,null,null,null,null,null,null,null,null,null,{"$f":"$CA250&$CB250&$CC250&$CD250&$CE250&$CF250&$CG250&$CH250&$CI250&$CJ250&$CK250&$CL250&$CM250&$CN250&$CO250","v":""},null,null,null,null,null,null,null,null,null,null,null,null,null,null,null,null,null,null,null,null,null,null,null,null,null,null,null,{"$f":"IF(C250<>(AK250+ AM250),\"* La suma de las columnas POR SEXO (Procesados) DEBE SER IGUAL al Total Procesados. \",\"\")","v":""},{"$f":"IF(D250<>(AL250+ AN250),\"* La suma de las columnas POR SEXO (Confirmados) DEBE SER IGUAL al Total Confirmados \",\"\")","v":""},null,{"$f":"IF(AN250>AM250,\" * El número de Exámenes por Sexo Mujeres/Confirmados positivos por ISP NO PUEDE Superar al número por Sexo Mujeres/Procesados. \",\"\")","v":""},{"$f":"IF(AND(C250>0,AND(AO250=\"\",AQ250=\"\")),\" * No olvide digitar los exámenes Procesados TRANS (Femenino y Masculino) Digite Cero si no tiene.\",IF((AO250+AQ250)>C250,\" * Los exámenes Procesados en Trans (Femenino y Masculino) no pueden ser mayor que el Total de exámenes Procesados.\",\"\"))","v":""},{"$f":"IF(AND(D250>0,AND(AP250=\"\",AR250=\"\")),\" * No olvide digitar los exámenes TRANS Confirmados Positivos por ISP (Femenino y Masculino) Digite Cero si no tiene.\",IF((AP250+AR250)>D250,\" * Los exámenes de Trans Confirmados Positivos por ISP (Femenino y Masculino) no pueden ser mayor que el Total de exámenes Confirmados Positivos por ISP.\",\"\"))","v":""},{"$f":"IF(AP250>AO250,\" * El número de Exámenes TRAN Femenino/Confirmados positivos por ISP NO PUEDE Superar al número de TRAN Femenino/Procesados. \",\"\")","v":""},{"$f":"IF(AR250>AQ250,\" * El número de Exámenes TRAN Masculino/Confirmados positivos por ISP NO PUEDE Superar al número de TRAN Masculino/Procesados. \",\"\")","v":""},{"$f":"IF(AND(C250>0,AS250=\"\"),\" * No olvide digitar los exámenes de Pueblos Originarios/Procesados (Digite Cero si no tiene).\",IF(AS250>C250,\" * Los exámenes Procesados de Pueblos Originarios no pueden ser mayor que el Total de exámenes Procesados.\",\"\"))","v":""},{"$f":"IF(AND(D250>0,AT250=\"\"),\" * No olvide digitar los exámenes de Pueblos Originarios/Confirmados positivos por ISP (Digite Cero si no tiene.)\",IF(AT250>D250,\" * Los exámenes de Pueblos Originarios/Confirmados positivos por ISP  no pueden ser mayor que el Total de Confirmados por ISP.\",\"\"))","v":""},{"$f":"IF(AND(C250>0,AU250=\"\"),\" * No olvide digitar los exámenes de Migrantes/Procesados (Digite Cero si no tiene).\",IF(AU250>C250,\" * Los exámenes Procesados de Migrantes no pueden ser mayor que el Total de exámenes Procesados.\",\"\"))","v":""},{"$f":"IF(AND(D250>0,AV250=\"\"),\" * No olvide digitar los exámenes de Migrantes/Confirmados positivos por ISP (Digite Cero si no tiene.)\",IF(AV250>D250,\" * Los exámenes de Migrantes/Confirmados positivos por ISP  no pueden ser mayor que el Total de Confirmados por ISP.\",\"\"))","v":""},{"$f":"IF(AND((M250+O250)<>0,AW250=\"\"),\" *No olvide digitar los Exámenes Procesados de 14-18 años (Digite cero si no tiene.)\",IF(AW250>(M250+O250),\" * El Total de Procesados de 14-18 años NO DEBE ser mayor al Total deProcesados registrados en los grupos de edad 10 a 14 y 15 a 19 años. \",\"\"))","v":""},{"$f":"IF(AND((N250+P250)<>0,AX250=\"\"),\" *No olvide digitar los Exámenes Confirmados Positivos por ISP de 14-18 años (Digite cero si no tiene.)\",IF(AX250>(N250+P250),\" * El Total de Confirmados Positivos por ISP de 14-18 años NO DEBE ser mayor al Total de Confirmados Positivos por ISP registrados en los grupos de edad 10 a 14 y 15 a 19 años. \",\"\"))","v":""},{"$f":"IF(AND((N250+P250)>0,AX250=\"\"),\"*No olvide digitar los Exámenes Confirmados Positivos por ISP de 14-18 años. Digite cero si no tiene.\",\"\")","v":""},null,null,null,null,null,null,null,null,null,null,null,{"$f":"IF(C250<>(AK250+ AM250),1,0)","v":0},{"$f":"IF(D250<>(AL250+ AN250),1,0)","v":0},null,{"$f":"IF(AN250>AM250,1,0)","v":0},{"$f":"IF(AND(C250>0,AND(AO250=\"\"),AQ250=\"\"),1,IF((AO250+AQ250)>C250,1,0))","v":0},{"$f":"IF(AND(D250>0,AND(AP250=\"\",AR250=\"\")),1,IF((AP250+AR250)>D250,1,0))","v":0},{"$f":"IF(AP250>AO250,1,0)","v":0},{"$f":"IF(AR250>AQ250,1,0)","v":0},{"$f":"IF(AND(C250>0,AS250=\"\"),1,IF(AS250>C250,1,0))","v":0},{"$f":"IF(AND(D250>0,AT250=\"\"),1,IF(AT250>D250,1,0))","v":0},{"$f":"IF(AND(C250>0,AU250=\"\"),1,IF(AU250>C250,1,0))","v":0},{"$f":"IF(AND(D250>0,AV250=\"\"),1,IF(AV250>D250,1,0))","v":0},{"$f":"IF(AND((M250+O250)<>0,AW250=\"\"),1,IF(AW250>(M250+O250),1,0))","v":0},{"$f":"IF(AND((N250+P250)<>0,AX250=\"\"),1,IF(AX250>(N250+P250),1,0))","v":0}]
[null,"GESTANTES SEGUNDO EXAMEN",{"$f":"+M251+O251+Q251+S251+U251+W251+Y251+AA251+AC251","v":0},0,null,null,null,null,null,null,null,null,null,null,null,null,null,null,null,null,null,null,null,null,null,null,null,null,null,null,null,null,null,null,null,null,null,null,null,null,null,null,null,null,null,null,null,null,null,null,{"$f":"$CA251&$CB251&$CC251&$CD251&$CE251&$CF251&$CG251&$CH251&$CI251&$CJ251&$CK251&$CL251&$CM251&$CN251&$CO251","v":""},null,null,null,null,null,null,null,null,null,null,null,null,null,null,null,null,null,null,null,null,null,null,null,null,null,null,null,{"$f":"IF(C251<>(AK251+ AM251),\"* La suma de las columnas POR SEXO (Procesados) DEBE SER IGUAL al Total Procesados. \",\"\")","v":""},{"$f":"IF(D251<>(AL251+ AN251),\"* La suma de las columnas POR SEXO (Confirmados) DEBE SER IGUAL al Total Confirmados \",\"\")","v":""},null,{"$f":"IF(AN251>AM251,\" * El número de Exámenes por Sexo Mujeres/Confirmados positivos por ISP NO PUEDE Superar al número por Sexo Mujeres/Procesados. \",\"\")","v":""},{"$f":"IF(AND(C251>0,AND(AO251=\"\",AQ251=\"\")),\" * No olvide digitar los exámenes Procesados TRANS (Femenino y Masculino) Digite Cero si no tiene.\",IF((AO251+AQ251)>C251,\" * Los exámenes Procesados en Trans (Femenino y Masculino) no pueden ser mayor que el Total de exámenes Procesados.\",\"\"))","v":""},{"$f":"IF(AND(D251>0,AND(AP251=\"\",AR251=\"\")),\" * No olvide digitar los exámenes TRANS Confirmados Positivos por ISP (Femenino y Masculino) Digite Cero si no tiene.\",IF((AP251+AR251)>D251,\" * Los exámenes de Trans Confirmados Positivos por ISP (Femenino y Masculino) no pueden ser mayor que el Total de exámenes Confirmados Positivos por ISP.\",\"\"))","v":""},{"$f":"IF(AP251>AO251,\" * El número de Exámenes TRAN Femenino/Confirmados positivos por ISP NO PUEDE Superar al número de TRAN Femenino/Procesados. \",\"\")","v":""},{"$f":"IF(AR251>AQ251,\" * El número de Exámenes TRAN Masculino/Confirmados positivos por ISP NO PUEDE Superar al número de TRAN Masculino/Procesados. \",\"\")","v":""},{"$f":"IF(AND(C251>0,AS251=\"\"),\" * No olvide digitar los exámenes de Pueblos Originarios/Procesados (Digite Cero si no tiene).\",IF(AS251>C251,\" * Los exámenes Procesados de Pueblos Originarios no pueden ser mayor que el Total de exámenes Procesados.\",\"\"))","v":""},{"$f":"IF(AND(D251>0,AT251=\"\"),\" * No olvide digitar los exámenes de Pueblos Originarios/Confirmados positivos por ISP (Digite Cero si no tiene.)\",IF(AT251>D251,\" * Los exámenes de Pueblos Originarios/Confirmados positivos por ISP  no pueden ser mayor que el Total de Confirmados por ISP.\",\"\"))","v":""},{"$f":"IF(AND(C251>0,AU251=\"\"),\" * No olvide digitar los exámenes de Migrantes/Procesados (Digite Cero si no tiene).\",IF(AU251>C251,\" * Los exámenes Procesados de Migrantes no pueden ser mayor que el Total de exámenes Procesados.\",\"\"))","v":""},{"$f":"IF(AND(D251>0,AV251=\"\"),\" * No olvide digitar los exámenes de Migrantes/Confirmados positivos por ISP (Digite Cero si no tiene.)\",IF(AV251>D251,\" * Los exámenes de Migrantes/Confirmados positivos por ISP  no pueden ser mayor que el Total de Confirmados por ISP.\",\"\"))","v":""},{"$f":"IF(AND((M251+O251)<>0,AW251=\"\"),\" *No olvide digitar los Exámenes Procesados de 14-18 años (Digite cero si no tiene.)\",IF(AW251>(M251+O251),\" * El Total de Procesados de 14-18 años NO DEBE ser mayor al Total deProcesados registrados en los grupos de edad 10 a 14 y 15 a 19 años. \",\"\"))","v":""},{"$f":"IF(AND((N251+P251)<>0,AX251=\"\"),\" *No olvide digitar los Exámenes Confirmados Positivos por ISP de 14-18 años (Digite cero si no tiene.)\",IF(AX251>(N251+P251),\" * El Total de Confirmados Positivos por ISP de 14-18 años NO DEBE ser mayor al Total de Confirmados Positivos por ISP registrados en los grupos de edad 10 a 14 y 15 a 19 años. \",\"\"))","v":""},{"$f":"IF(AND((N251+P251)>0,AX251=\"\"),\"*No olvide digitar los Exámenes Confirmados Positivos por ISP de 14-18 años. Digite cero si no tiene.\",\"\")","v":""},null,null,null,null,null,null,null,null,null,null,null,{"$f":"IF(C251<>(AK251+ AM251),1,0)","v":0},{"$f":"IF(D251<>(AL251+ AN251),1,0)","v":0},null,{"$f":"IF(AN251>AM251,1,0)","v":0},{"$f":"IF(AND(C251>0,AND(AO251=\"\"),AQ251=\"\"),1,IF((AO251+AQ251)>C251,1,0))","v":0},{"$f":"IF(AND(D251>0,AND(AP251=\"\",AR251=\"\")),1,IF((AP251+AR251)>D251,1,0))","v":0},{"$f":"IF(AP251>AO251,1,0)","v":0},{"$f":"IF(AR251>AQ251,1,0)","v":0},{"$f":"IF(AND(C251>0,AS251=\"\"),1,IF(AS251>C251,1,0))","v":0},{"$f":"IF(AND(D251>0,AT251=\"\"),1,IF(AT251>D251,1,0))","v":0},{"$f":"IF(AND(C251>0,AU251=\"\"),1,IF(AU251>C251,1,0))","v":0},{"$f":"IF(AND(D251>0,AV251=\"\"),1,IF(AV251>D251,1,0))","v":0},{"$f":"IF(AND((M251+O251)<>0,AW251=\"\"),1,IF(AW251>(M251+O251),1,0))","v":0},{"$f":"IF(AND((N251+P251)<>0,AX251=\"\"),1,IF(AX251>(N251+P251),1,0))","v":0}]
[null,"MUJER EN TRABAJO DE PRE PARTO O PARTO",0,0,null,null,null,null,null,null,null,null,null,null,null,null,null,null,null,null,null,null,null,null,null,null,null,null,null,null,null,null,null,null,null,null,null,null,null,null,null,null,null,null,null,null,null,null,null,null,"",null,null,null,null,null,null,null,null,null,null,null,null,null,null,null,null,null,null,null,null,null,null,null,null,null,null,null,"","",null,"","","","","","","","","","","","",null,null,null,null,null,null,null,null,null,null,null,0,0,null,0,0,0,0,0,0,0,0,0,0,0]
[null,"PERSONAS EN CONTROL POR COMERCIO SEXUAL",{"$f":"+O253+Q253+S253+U253+W253+Y253+AA253+AC253+AE253+AG253+AI253","v":0},{"$f":"+P253+R253+T253+V253+X253+Z253+AB253+AD253+AF253+AH253+AJ253","v":0},null,null,null,null,null,null,null,null,null,null,null,null,null,null,null,null,null,null,null,null,null,null,null,null,null,null,null,null,null,null,null,null,null,null,null,null,null,null,null,null,null,null,null,null,null,null,"",null,null,null,null,null,null,null,null,null,null,null,null,null,null,null,null,null,null,null,null,null,null,null,null,null,null,null,{"$f":"IF(C253<>(AK253+ AM253),\"* La suma de las columnas POR SEXO (Procesados) DEBE SER IGUAL al Total Procesados. \",\"\")","v":""},{"$f":"IF(D253<>(AL253+ AN253),\"* La suma de las columnas POR SEXO (Confirmados) DEBE SER IGUAL al Total Confirmados \",\"\")","v":""},{"$f":"IF(AL253>AK253,\" * El número de Exámenes por Sexo Hombres/Confirmados positivos por ISP NO PUEDE Superar al número por Sexo Hombres/Procesados. \",\"\")","v":""},{"$f":"IF(AN253>AM253,\" * El número de Exámenes por Sexo Mujeres/Confirmados positivos por ISP NO PUEDE Superar al número por Sexo Mujeres/Procesados. \",\"\")","v":""},{"$f":"IF(AND(C253>0,AND(AO253=\"\",AQ253=\"\")),\" * No olvide digitar los exámenes Procesados TRANS (Femenino y Masculino) Digite Cero si no tiene.\",IF((AO253+AQ253)>C253,\" * Los exámenes Procesados en Trans (Femenino y Masculino) no pueden ser mayor que el Total de exámenes Procesados.\",\"\"))","v":""},{"$f":"IF(AND(D253>0,AND(AP253=\"\",AR253=\"\")),\" * No olvide digitar los exámenes TRANS Confirmados Positivos por ISP (Femenino y Masculino) Digite Cero si no tiene.\",IF((AP253+AR253)>D253,\" * Los exámenes de Trans Confirmados Positivos por ISP (Femenino y Masculino) no pueden ser mayor que el Total de exámenes Confirmados Positivos por ISP.\",\"\"))","v":""},{"$f":"IF(AP253>AO253,\" * El número de Exámenes TRAN Femenino/Confirmados positivos por ISP NO PUEDE Superar al número de TRAN Femenino/Procesados. \",\"\")","v":""},{"$f":"IF(AR253>AQ253,\" * El número de Exámenes TRAN Masculino/Confirmados positivos por ISP NO PUEDE Superar al número de TRAN Masculino/Procesados. \",\"\")","v":""},{"$f":"IF(AND(C253>0,AS253=\"\"),\" * No olvide digitar los exámenes de Pueblos Originarios/Procesados (Digite Cero si no tiene).\",IF(AS253>C253,\" * Los exámenes Procesados de Pueblos Originarios no pueden ser mayor que el Total de exámenes Procesados.\",\"\"))","v":""},{"$f":"IF(AND(D253>0,AT253=\"\"),\" * No olvide digitar los exámenes de Pueblos Originarios/Confirmados positivos por ISP (Digite Cero si no tiene.)\",IF(AT253>D253,\" * Los exámenes de Pueblos Originarios/Confirmados positivos por ISP  no pueden ser mayor que el Total de Confirmados por ISP.\",\"\"))","v":""},{"$f":"IF(AND(C253>0,AU253=\"\"),\" * No olvide digitar los exámenes de Migrantes/Procesados (Digite Cero si no tiene).\",IF(AU253>C253,\" * Los exámenes Procesados de Migrantes no pueden ser mayor que el Total de exámenes Procesados.\",\"\"))","v":""},{"$f":"IF(AND(D253>0,AV253=\"\"),\" * No olvide digitar los exámenes de Migrantes/Confirmados positivos por ISP (Digite Cero si no tiene.)\",IF(AV253>D253,\" * Los exámenes de Migrantes/Confirmados positivos por ISP  no pueden ser mayor que el Total de Confirmados por ISP.\",\"\"))","v":""},{"$f":"IF(AND((M253+O253)<>0,AW253=\"\"),\" *No olvide digitar los Exámenes Procesados de 14-18 años (Digite cero si no tiene.)\",IF(AW253>(M253+O253),\" * El Total de Procesados de 14-18 años NO DEBE ser mayor al Total deProcesados registrados en los grupos de edad 10 a 14 y 15 a 19 años. \",\"\"))","v":""},{"$f":"IF(AND((N253+P253)<>0,AX253=\"\"),\" *No olvide digitar los Exámenes Confirmados Positivos por ISP de 14-18 años (Digite cero si no tiene.)\",IF(AX253>(N253+P253),\" * El Total de Confirmados Positivos por ISP de 14-18 años NO DEBE ser mayor al Total de Confirmados Positivos por ISP registrados en los grupos de edad 10 a 14 y 15 a 19 años. \",\"\"))","v":""},{"$f":"IF(AND((N253+P253)>0,AX253=\"\"),\"*No olvide digitar los Exámenes Confirmados Positivos por ISP de 14-18 años. Digite cero si no tiene.\",\"\")","v":""},null,null,null,null,null,null,null,null,null,null,null,0,0,{"$f":"IF(AL253>AK253,1,0)","v":0},0,0,0,0,0,0,0,0,0,0,0]
[null,"POR CONSULTA ITS",{"$f":"+E254+G254+I254+K254+M254+O254+Q254+S254+U254+W254+Y254+AA254+AC254+AE254+AG254+AI254","v":0},{"$f":"+F254+H254+J254+L254+N254+P254+R254+T254+V254+X254+Z254+AB254+AD254+AF254+AH254+AJ254","v":0},null,null,null,null,null,null,null,null,null,null,null,null,null,null,null,null,null,null,null,null,null,null,null,null,null,null,null,null,null,null,null,null,null,null,null,null,null,null,null,null,null,null,null,null,null,null,"",null,null,null,null,null,null,null,null,null,null,null,null,null,null,null,null,null,null,null,null,null,null,null,null,null,null,null,{"$f":"IF(C254<>(AK254+ AM254),\"* La suma de las columnas POR SEXO (Procesados) DEBE SER IGUAL al Total Procesados. \",\"\")","v":""},{"$f":"IF(D254<>(AL254+ AN254),\"* La suma de las columnas POR SEXO (Confirmados) DEBE SER IGUAL al Total Confirmados \",\"\")","v":""},{"$f":"IF(AL254>AK254,\" * El número de Exámenes por Sexo Hombres/Confirmados positivos por ISP NO PUEDE Superar al número por Sexo Hombres/Procesados. \",\"\")","v":""},{"$f":"IF(AN254>AM254,\" * El número de Exámenes por Sexo Mujeres/Confirmados positivos por ISP NO PUEDE Superar al número por Sexo Mujeres/Procesados. \",\"\")","v":""},{"$f":"IF(AND(C254>0,AND(AO254=\"\",AQ254=\"\")),\" * No olvide digitar los exámenes Procesados TRANS (Femenino y Masculino) Digite Cero si no tiene.\",IF((AO254+AQ254)>C254,\" * Los exámenes Procesados en Trans (Femenino y Masculino) no pueden ser mayor que el Total de exámenes Procesados.\",\"\"))","v":""},{"$f":"IF(AND(D254>0,AND(AP254=\"\",AR254=\"\")),\" * No olvide digitar los exámenes TRANS Confirmados Positivos por ISP (Femenino y Masculino) Digite Cero si no tiene.\",IF((AP254+AR254)>D254,\" * Los exámenes de Trans Confirmados Positivos por ISP (Femenino y Masculino) no pueden ser mayor que el Total de exámenes Confirmados Positivos por ISP.\",\"\"))","v":""},{"$f":"IF(AP254>AO254,\" * El número de Exámenes TRAN Femenino/Confirmados positivos por ISP NO PUEDE Superar al número de TRAN Femenino/Procesados. \",\"\")","v":""},{"$f":"IF(AR254>AQ254,\" * El número de Exámenes TRAN Masculino/Confirmados positivos por ISP NO PUEDE Superar al número de TRAN Masculino/Procesados. \",\"\")","v":""},{"$f":"IF(AND(C254>0,AS254=\"\"),\" * No olvide digitar los exámenes de Pueblos Originarios/Procesados (Digite Cero si no tiene).\",IF(AS254>C254,\" * Los exámenes Procesados de Pueblos Originarios no pueden ser mayor que el Total de exámenes Procesados.\",\"\"))","v":""},{"$f":"IF(AND(D254>0,AT254=\"\"),\" * No olvide digitar los exámenes de Pueblos Originarios/Confirmados positivos por ISP (Digite Cero si no tiene.)\",IF(AT254>D254,\" * Los exámenes de Pueblos Originarios/Confirmados positivos por ISP  no pueden ser mayor que el Total de Confirmados por ISP.\",\"\"))","v":""},{"$f":"IF(AND(C254>0,AU254=\"\"),\" * No olvide digitar los exámenes de Migrantes/Procesados (Digite Cero si no tiene).\",IF(AU254>C254,\" * Los exámenes Procesados de Migrantes no pueden ser mayor que el Total de exámenes Procesados.\",\"\"))","v":""},{"$f":"IF(AND(D254>0,AV254=\"\"),\" * No olvide digitar los exámenes de Migrantes/Confirmados positivos por ISP (Digite Cero si no tiene.)\",IF(AV254>D254,\" * Los exámenes de Migrantes/Confirmados positivos por ISP  no pueden ser mayor que el Total de Confirmados por ISP.\",\"\"))","v":""},{"$f":"IF(AND((M254+O254)<>0,AW254=\"\"),\" *No olvide digitar los Exámenes Procesados de 14-18 años (Digite cero si no tiene.)\",IF(AW254>(M254+O254),\" * El Total de Procesados de 14-18 años NO DEBE ser mayor al Total deProcesados registrados en los grupos de edad 10 a 14 y 15 a 19 años. \",\"\"))","v":""},{"$f":"IF(AND((N254+P254)<>0,AX254=\"\"),\" *No olvide digitar los Exámenes Confirmados Positivos por ISP de 14-18 años (Digite cero si no tiene.)\",IF(AX254>(N254+P254),\" * El Total de Confirmados Positivos por ISP de 14-18 años NO DEBE ser mayor al Total de Confirmados Positivos por ISP registrados en los grupos de edad 10 a 14 y 15 a 19 años. \",\"\"))","v":""},{"$f":"IF(AND((N254+P254)>0,AX254=\"\"),\"*No olvide digitar los Exámenes Confirmados Positivos por ISP de 14-18 años. Digite cero si no tiene.\",\"\")","v":""},null,null,null,null,null,null,null,null,null,null,null,0,0,{"$f":"IF(AL254>AK254,1,0)","v":0},0,0,0,0,0,0,0,0,0,0,0]
[null,"PERSONAS EN CONTROL DE REGULACIÓN FECUNDIDAD, GINECOLOGICO, CLIMATERIO",{"$f":"+M255+O255+Q255+S255+U255+W255+Y255+AA255+AC255+AE255+AG255+AI255","v":0},{"$f":"+N255+P255+R255+T255+V255+X255+Z255+AB255+AD255+AF255+AH255+AJ255","v":0},null,null,null,null,null,null,null,null,null,null,null,null,null,null,null,null,null,null,null,null,null,null,null,null,null,null,null,null,null,null,null,null,null,null,null,null,null,null,null,null,null,null,null,null,null,null,"",null,null,null,null,null,null,null,null,null,null,null,null,null,null,null,null,null,null,null,null,null,null,null,null,null,null,null,"","","","","","","","","","","","","","","",null,null,null,null,null,null,null,null,null,null,null,0,0,0,0,0,0,0,0,0,0,0,0,0,0]
[null,"PERSONAS EMP/EMPAM ",{"$f":"+O256+Q256+S256+U256+W256+Y256+AA256+AC256+AE256+AG256+AI256","v":0},{"$f":"+P256+R256+T256+V256+X256+Z256+AB256+AD256+AF256+AH256+AJ256","v":0},null,null,null,null,null,null,null,null,null,null,null,null,null,null,null,null,null,null,null,null,null,null,null,null,null,null,null,null,null,null,null,null,null,null,null,null,null,null,null,null,null,null,null,null,null,null,"",null,null,null,null,null,null,null,null,null,null,null,null,null,null,null,null,null,null,null,null,null,null,null,null,null,null,null,"","","","","","","","","","","","","","","",null,null,null,null,null,null,null,null,null,null,null,0,0,0,0,{"$f":"IF(AND(C256>0,AND(AO256=\"\"),AQ256=\"\"),1,IF((AO256+AQ256)>C256,1,0))","v":0},0,0,0,0,0,0,0,0,0]
[null,"PERSONAS EN CONTROL DE SALUD SEGÚN CICLO VITAL",{"$f":"+E257+G257+I257+K257+M257+O257+Q257+S257+U257+W257+Y257+AA257+AC257+AE257+AG257+AI257","v":0},{"$f":"+F257+H257+J257+L257+N257+P257+R257+T257+V257+X257+Z257+AB257+AD257+AF257+AH257+AJ257","v":0},null,null,null,null,null,null,null,null,null,null,null,null,null,null,null,null,null,null,null,null,null,null,null,null,null,null,null,null,null,null,null,null,null,null,null,null,null,null,null,null,null,null,null,null,null,null,"",null,null,null,null,null,null,null,null,null,null,null,null,null,null,null,null,null,null,null,null,null,null,null,null,null,null,null,"","","","","","","","","","","","","","","",null,null,null,null,null,null,null,null,null,null,null,0,0,0,0,{"$f":"IF(AND(C257>0,AND(AO257=\"\"),AQ257=\"\"),1,IF((AO257+AQ257)>C257,1,0))","v":0},0,0,0,0,0,0,0,0,0]
[null,"DONANTES DE ÓRGANOS Y/O TEJIDOS",{"$f":"+M258+O258+Q258+S258+U258+W258+Y258+AA258+AC258+AE258+AG258+AI258","v":0},{"$f":"+N258+P258+R258+T258+V258+X258+Z258+AB258+AD258+AF258+AH258+AJ258","v":0},null,null,null,null,null,null,null,null,null,null,null,null,null,null,null,null,null,null,null,null,null,null,null,null,null,null,null,null,null,null,null,null,null,null,null,null,null,null,null,null,null,null,null,null,null,null,"",null,null,null,null,null,null,null,null,null,null,null,null,null,null,null,null,null,null,null,null,null,null,null,null,null,null,null,"","","","","","","","","","","","","","","",null,null,null,null,null,null,null,null,null,null,null,0,0,0,0,0,0,0,0,0,0,0,0,0,0]
[null,"PERSONA EN CONTROL POR TBC",{"$f":"+M259+O259+Q259+S259+U259+W259+Y259+AA259+AC259+AE259+AG259+AI259","v":0},{"$f":"+N259+P259+R259+T259+V259+X259+Z259+AB259+AD259+AF259+AH259+AJ259","v":0},null,null,null,null,null,null,null,null,null,null,null,null,null,null,null,null,null,null,null,null,null,null,null,null,null,null,null,null,null,null,null,null,null,null,null,null,null,null,null,null,null,null,null,null,null,null,"",null,null,null,null,null,null,null,null,null,null,null,null,null,null,null,null,null,null,null,null,null,null,null,null,null,null,null,"","","","","","","","","","","","","","","",null,null,null,null,null,null,null,null,null,null,null,{"$f":"IF(C259<>(AK259+ AM259),1,0)","v":0},{"$f":"IF(D259<>(AL259+ AN259),1,0)","v":0},{"$f":"IF(AL259>AK259,1,0)","v":0},{"$f":"IF(AN259>AM259,1,0)","v":0},{"$f":"IF(AND(C259>0,AND(AO259=\"\"),AQ259=\"\"),1,IF((AO259+AQ259)>C259,1,0))","v":0},{"$f":"IF(AND(D259>0,AND(AP259=\"\",AR259=\"\")),1,IF((AP259+AR259)>D259,1,0))","v":0},{"$f":"IF(AP259>AO259,1,0)","v":0},{"$f":"IF(AR259>AQ259,1,0)","v":0},{"$f":"IF(AND(C259>0,AS259=\"\"),1,IF(AS259>C259,1,0))","v":0},{"$f":"IF(AND(D259>0,AT259=\"\"),1,IF(AT259>D259,1,0))","v":0},{"$f":"IF(AND(C259>0,AU259=\"\"),1,IF(AU259>C259,1,0))","v":0},{"$f":"IF(AND(D259>0,AV259=\"\"),1,IF(AV259>D259,1,0))","v":0},{"$f":"IF(AND((M259+O259)<>0,AW259=\"\"),1,IF(AW259>(M259+O259),1,0))","v":0},{"$f":"IF(AND((N259+P259)<>0,AX259=\"\"),1,IF(AX259>(N259+P259),1,0))","v":0}]
[null,"VÍCTIMA DE VIOLENCIA SEXUAL",{"$f":"+E260+G260+I260+K260+M260+O260+Q260+S260+U260+W260+Y260+AA260+AC260+AE260+AG260+AI260","v":0},{"$f":"+F260+H260+J260+L260+N260+P260+R260+T260+V260+X260+Z260+AB260+AD260+AF260+AH260+AJ260","v":0},null,null,null,null,null,null,null,null,null,null,null,null,null,null,null,null,null,null,null,null,null,null,null,null,null,null,null,null,null,null,null,null,null,null,null,null,null,null,null,null,null,null,null,null,null,null,"",null,null,null,null,null,null,null,null,null,null,null,null,null,null,null,null,null,null,null,null,null,null,null,null,null,null,null,"","","","","","","","","","","","","","","",null,null,null,null,null,null,null,null,null,null,null,0,0,0,0,0,0,0,0,0,0,0,0,0,0]
[null,"PAREJA SERODISCORDANTE",{"$f":"+O261+Q261+S261+U261+W261+Y261+AA261+AC261+AE261+AG261+AI261","v":0},{"$f":"+P261+R261+T261+V261+X261+Z261+AB261+AD261+AF261+AH261+AJ261","v":0},null,null,null,null,null,null,null,null,null,null,null,null,null,null,null,null,null,null,null,null,null,null,null,null,null,null,null,null,null,null,null,null,null,null,null,null,null,null,null,null,null,null,null,null,null,null,"",null,null,null,null,null,null,null,null,null,null,null,null,null,null,null,null,null,null,null,null,null,null,null,null,null,null,null,"","","","","","","","","","","","","","","",null,null,null,null,null,null,null,null,null,null,null,0,0,0,0,0,0,0,0,0,0,0,0,0,0]
[null,"PAREJA DE GESTANTE VIH POSITIVO",{"$f":"+M262+O262+Q262+S262+U262+W262+Y262+AA262+AC262+AE262+AG262+AI262","v":0},{"$f":"+N262+P262+R262+T262+V262+X262+Z262+AB262+AD262+AF262+AH262+AJ262","v":0},null,null,null,null,null,null,null,null,null,null,null,null,null,null,null,null,null,null,null,null,null,null,null,null,null,null,null,null,null,null,null,null,null,null,null,null,null,null,null,null,null,null,null,null,null,null,"",null,null,null,null,null,null,null,null,null,null,null,null,null,null,null,null,null,null,null,null,null,null,null,null,null,null,null,"","","","","","","","","","","","","","","",null,null,null,null,null,null,null,null,null,null,null,0,0,0,0,0,0,0,0,0,0,0,0,0,0]
[null,"PERSONAL DE SALUD EXPUESTO A ACCIDENTE CORTOPUNZANTE",{"$f":"+O263+Q263+S263+U263+W263+Y263+AA263+AC263+AE263+AG263+AI263","v":0},{"$f":"+P263+R263+T263+V263+X263+Z263+AB263+AD263+AF263+AH263+AJ263","v":0},null,null,null,null,null,null,null,null,null,null,null,null,null,null,null,null,null,null,null,null,null,null,null,null,null,null,null,null,null,null,null,null,null,null,null,null,null,null,null,null,null,null,null,null,null,null,"",null,null,null,null,null,null,null,null,null,null,null,null,null,null,null,null,null,null,null,null,null,null,null,null,null,null,null,"","","","","","","","","","","","","","","",null,null,null,null,null,null,null,null,null,null,null,0,0,0,0,0,0,0,0,0,0,0,0,0,0]
[null,"PACIENTES FUENTE DE ACCIDENTE CORTOPUNZANTE",{"$f":"+M264+O264+Q264+S264+U264+W264+Y264+AA264+AC264+AE264+AG264+AI264","v":0},0,null,null,null,null,null,null,null,null,null,null,null,null,null,null,null,null,null,null,null,null,null,null,null,null,null,null,null,null,null,null,null,null,null,null,null,null,null,null,null,null,null,null,null,null,null,null,"",null,null,null,null,null,null,null,null,null,null,null,null,null,null,null,null,null,null,null,null,null,null,null,null,null,null,null,"","","","","","","","","","","","","","","",null,null,null,null,null,null,null,null,null,null,null,0,0,0,0,0,0,0,0,0,0,0,0,0,0]
[null,"PERSONA EN CONTROL POR HEPATITIS B",0,0,null,null,null,null,null,null,null,null,null,null,null,null,null,null,null,null,null,null,null,null,null,null,null,null,null,null,null,null,null,null,null,null,null,null,null,null,null,null,null,null,null,null,null,null,null,null,"",null,null,null,null,null,null,null,null,null,null,null,null,null,null,null,null,null,null,null,null,null,null,null,null,null,null,null,"","","","","","","","","","","","","","","",null,null,null,null,null,null,null,null,null,null,null,0,0,0,0,0,0,0,0,0,0,0,0,0,0]
[null,"PERSONA EN CONTROL POR HEPATITIS C",0,0,null,null,null,null,null,null,null,null,null,null,null,null,null,null,null,null,null,null,null,null,null,null,null,null,null,null,null,null,null,null,null,null,null,null,null,null,null,null,null,null,null,null,null,null,null,null,"",null,null,null,null,null,null,null,null,null,null,null,null,null,null,null,null,null,null,null,null,null,null,null,null,null,null,null,"","","","","","","","","","","","","","","",null,null,null,null,null,null,null,null,null,null,null,0,0,0,0,0,0,0,0,0,0,0,0,0,0]
[null,"CONSULTANTES POR MORBILIDAD",0,0,null,null,null,null,null,null,null,null,null,null,null,null,null,null,null,null,null,null,null,null,null,null,null,null,null,null,null,null,null,null,null,null,null,null,null,null,null,null,null,null,null,null,null,null,null,null,"",null,null,null,null,null,null,null,null,null,null,null,null,null,null,null,null,null,null,null,null,null,null,null,null,null,null,null,"","","","","","","","","","","","","","","",null,null,null,null,null,null,null,null,null,null,null,0,0,0,0,0,0,0,0,0,0,0,0,0,0]
[null,"POR CONSULTA ESPONTÁNEA",0,0,null,null,null,null,null,null,null,null,null,null,null,null,null,null,null,null,null,null,null,null,null,null,null,null,null,null,null,null,null,null,null,null,null,null,null,null,null,null,null,null,null,null,null,null,null,null,"",null,null,null,null,null,null,null,null,null,null,null,null,null,null,null,null,null,null,null,null,null,null,null,null,null,null,null,"","","","","","","","","","","","","","","",null,null,null,null,null,null,null,null,null,null,null,0,0,0,0,0,0,0,0,0,0,0,0,0,0]
["EXTERIOR ESTABLECIMIENTO DE SALUD (EXTRAMURO)","CENTROS PENITENCIARIOS",{"$f":"+E269+G269+I269+K269+M269+O269+Q269+S269+U269+W269+Y269+AA269+AC269+AE269+AG269+AI269","v":0},0,null,null,null,null,null,null,null,null,null,null,null,null,null,null,null,null,null,null,null,null,null,null,null,null,null,null,null,null,null,null,null,null,null,null,null,null,null,null,null,null,null,null,null,null,null,null,"",null,null,null,null,null,null,null,null,null,null,null,null,null,null,null,null,null,null,null,null,null,null,null,null,null,null,null,"","","","","","","","","","","","","","","",null,null,null,null,null,null,null,null,null,null,null,0,0,0,0,0,0,0,0,0,0,0,0,0,0]
[null,"CENTROS SENAME",0,0,null,null,null,null,null,null,null,null,null,null,null,null,null,null,null,null,null,null,null,null,null,null,null,null,null,null,null,null,null,null,null,null,null,null,null,null,null,null,null,null,null,null,null,null,null,null,"",null,null,null,null,null,null,null,null,null,null,null,null,null,null,null,null,null,null,null,null,null,null,null,null,null,null,null,"","","","","","","","","","","","","","","",null,null,null,null,null,null,null,null,null,null,null,0,0,0,0,0,0,0,0,0,0,0,0,0,0]
[null,"CENTROS EDUCACIONALES",0,0,null,null,null,null,null,null,null,null,null,null,null,null,null,null,null,null,null,null,null,null,null,null,null,null,null,null,null,null,null,null,null,null,null,null,null,null,null,null,null,null,null,null,null,null,null,null,"",null,null,null,null,null,null,null,null,null,null,null,null,null,null,null,null,null,null,null,null,null,null,null,null,null,null,null,"","","","","","","","","","","","","","","",null,null,null,null,null,null,null,null,null,null,null,0,0,0,0,0,0,0,0,0,0,0,0,0,0]
[null,"OTROS ",0,0,null,null,null,null,null,null,null,null,null,null,null,null,null,null,null,null,null,null,null,null,null,null,null,null,null,null,null,null,null,null,null,null,null,null,null,null,null,null,null,null,null,null,null,null,null,null,"",null,null,null,null,null,null,null,null,null,null,null,null,null,null,null,null,null,null,null,null,null,null,null,null,null,null,null,"","","","","","","","","","","","","","","",null,null,null,null,null,null,null,null,null,null,null,0,0,0,0,0,0,0,0,0,0,0,0,0,0]
[]
["SECCIÓN G: SCREENING ENFERMEDAD DE CHAGAS PARA EMBARAZADAS, PUÉRPERAS Y MUJERES EN EDAD FÉRTIL",null,null,null,null,null,null,null,null,null,null,null,null,null,null,null,null,null,null,null,null,null,null,null,null,null,null,null,null,null,null,null,null,null,null,null,null,null,null,null,null,null,null,null,null,null,null,null,null,null,null,null,null,null,null,null,null,null,null,null,null,null,null,null,null,null,null,null,null,null,null,null,null,null,null,null,null,null,{"$f":"IF(DE274=1,\"* El total de Confirmados Positivos por ISP NO DEBE ser mayor que el total de Procesados. \",\"\")","v":""},{"$f":"IF((AK274+AM274)<>C274,\"* El Total de Procesados por sexo DEBE ser igual al Total de Procesados. \",IF((AL274+AN274)<>D274,\"* El Total de Confirmados por sexo DEBE ser igual al Total de Confirmados. \",\"\"))","v":""},{"$f":"IF((AO274+AQ274)>C274,\"* El Total de Procesados Trans NO DEBE ser mayor al Total de Procesados. \",IF((AP274+AR274)>D274,\"* El Total de Confirmados Trans NO DEBE ser mayor al Total de Confirmados. \",\"\"))","v":""},{"$f":"IF(AS274>C274,\"* El Total de Pueblos Originarios Procesados NO DEBE ser mayor al Total de Procesados. \",IF(AT274>D274,\"* El Total de Pueblos Originarios Confirmados NO DEBE ser mayor al Total de Confirmados. \",\"\"))","v":""}]
["CONDICIÓN","TOTAL","GRUPO DE EDAD ",null,null,null,null,null,null,null,null,null,"Pueblos Originarios","Migrantes"]
[null,null,"10 a 14 años","15 a 19 años","20 a 24 años","25 a 29 años","30 a 34 años","35 a 39 años","40 a 44 años","45 a 49 años","50 a 54 años","55 y más años"]
["Gestantes con examen de Chagas solicitado",{"$f":"SUM(C277:L277)","v":0},null,null,null,null,null,null,null,null,null,null,null,null,{"$f":"$CA277&CB277","v":""},null,null,null,null,null,null,null,null,null,null,null,null,null,null,null,null,null,null,null,null,null,null,null,null,null,null,null,null,null,null,null,null,null,null,null,null,null,null,null,null,null,null,null,null,null,null,null,null,null,null,null,null,null,null,null,null,null,null,null,null,null,null,null,{"$f":"IF(AND(B277>0,M277=\"\"),\" * No olvide digitar la variable Pueblos Originarios. Digite Cero si no tiene.\",IF(M277>B277,\" * La variable Pueblos Originarios No puede ser mayor al Total.\",\"\"))","v":""},{"$f":"IF(AND(B277>0,N277=\"\"),\" * No olvide digitar la variable Migrantes. Digite Cero si no tiene.\",IF(N277>B277,\" * La variable Migrantes No puede ser mayor al Total.\",\"\"))","v":""},null,null,null,null,null,null,null,null,null,null,null,null,null,null,null,null,null,null,null,null,null,null,null,null,{"$f":"IF(AND(B277>0,M277=\"\"),1,IF(M277>B277,1,0))","v":0},{"$f":"IF(AND(B277>0,N277=\"\"),1,IF(N277>B277,1,0))","v":0}]
["Gestantes con examen de Chagas informado",{"$f":"SUM(C278:L278)","v":0},null,null,null,null,null,null,null,null,null,null,null,null,{"$f":"$CA278&CB278","v":""},null,null,null,null,null,null,null,null,null,null,null,null,null,null,null,null,null,null,null,null,null,null,null,null,null,null,null,null,null,null,null,null,null,null,null,null,null,null,null,null,null,null,null,null,null,null,null,null,null,null,null,null,null,null,null,null,null,null,null,null,null,null,null,{"$f":"IF(AND(B278>0,M278=\"\"),\" * No olvide digitar la variable Pueblos Originarios. Digite Cero si no tiene.\",IF(M278>B278,\" * La variable Pueblos Originarios No puede ser mayor al Total.\",\"\"))","v":""},{"$f":"IF(AND(B278>0,N278=\"\"),\" * No olvide digitar la variable Migrantes. Digite Cero si no tiene.\",IF(N278>B278,\" * La variable Migrantes No puede ser mayor al Total.\",\"\"))","v":""},null,null,null,null,null,null,null,null,null,null,null,null,null,null,null,null,null,null,null,null,null,null,null,null,{"$f":"IF(AND(B278>0,M278=\"\"),1,IF(M278>B278,1,0))","v":0},{"$f":"IF(AND(B278>0,N278=\"\"),1,IF(N278>B278,1,0))","v":0}]
["Gestantes con examen de Chagas confirmado",0,null,null,null,null,null,null,null,null,null,null,null,null,"",null,null,null,null,null,null,null,null,null,null,null,null,null,null,null,null,null,null,null,null,null,null,null,null,null,null,null,null,null,null,null,null,null,null,null,null,null,null,null,null,null,null,null,null,null,null,null,null,null,null,null,null,null,null,null,null,null,null,null,null,null,null,null,"","",null,null,null,null,null,null,null,null,null,null,null,null,null,null,null,null,null,null,null,null,null,null,null,null,0,0]
["Gestantes que ingresan a maternidad con examen de enfermedad de Chagas",0,null,null,null,null,null,null,null,null,null,null,null,null,"",null,null,null,null,null,null,null,null,null,null,null,null,null,null,null,null,null,null,null,null,null,null,null,null,null,null,null,null,null,null,null,null,null,null,null,null,null,null,null,null,null,null,null,null,null,null,null,null,null,null,null,null,null,null,null,null,null,null,null,null,null,null,null,"","",null,null,null,null,null,null,null,null,null,null,null,null,null,null,null,null,null,null,null,null,null,null,null,null,0,0]
["Mujeres en Control Preconcepcional",0,null,null,null,null,null,null,null,null,null,null,null,null,"",null,null,null,null,null,null,null,null,null,null,null,null,null,null,null,null,null,null,null,null,null,null,null,null,null,null,null,null,null,null,null,null,null,null,null,null,null,null,null,null,null,null,null,null,null,null,null,null,null,null,null,null,null,null,null,null,null,null,null,null,null,null,null,"","",null,null,null,null,null,null,null,null,null,null,null,null,null,null,null,null,null,null,null,null,null,null,null,null,0,0]
[]
["SECCIÓN H: DIAGNÓSTICO TRANSMISIÓN VERTICAL MADRE HIJO/A CON ENFERMEDAD DE CHAGAS "]
[" CONDICIÓN","TOTAL","GRUPO DE EDAD",null,null,null,null,null,null,null,null,null,null,null,null,null,null,null,"Pueblos Originarios","Migrantes"]
[null,null,"Menos de 1 mes","1 mes","2 meses","3 meses","4 meses","5 meses","6 meses","7 meses","8 meses","9 meses","10 meses","11 meses","12 meses","13 meses","14 meses","15 meses"]
["Hijos/as de Madre con Enfermedad de Chagas nacidos en el periodo ",{"$f":"SUM(C286:R286)","v":0},null,null,null,null,null,null,null,null,null,null,null,null,null,null,null,null,null,null,{"$f":"$CA286&$CB286","v":""},null,null,null,null,null,null,null,null,null,null,null,null,null,null,null,null,null,null,null,null,null,null,null,null,null,null,null,null,null,null,null,null,null,null,null,null,null,null,null,null,null,null,null,null,null,null,null,null,null,null,null,null,null,null,null,null,null,{"$f":"IF(AND(B286>0,S286=\"\"),\" * No olvide digitar la variable Pueblos Originarios. Digite Cero si no tiene.\",IF(S286>B286,\" * La variable Pueblos Originarios No puede ser mayor al Total.\",\"\"))","v":""},{"$f":"IF(AND(B286>0,T286=\"\"),\" * No olvide digitar la variable migrantes. Digite Cero si no tiene.\",IF(T286>B286,\" * La variable Migrantes No puede ser mayor al Total.\",\"\"))","v":""},null,null,null,null,null,null,null,null,null,null,null,null,null,null,null,null,null,null,null,null,null,null,null,null,{"$f":"IF(AND(B286>0,S286=\"\"),1,IF(S286>B286,1,0))","v":0},{"$f":"IF(AND(B286>0,T286=\"\"),1,IF(T286>B286,1,0))","v":0}]
["Hijos/as de Madre con Enfermedad de Chagas con diagnóstico directo realizado",{"$f":"SUM(C287:R287)","v":0},null,null,null,null,null,null,null,null,null,null,null,null,null,null,null,null,null,null,{"$f":"$CA287&$CB287","v":""},null,null,null,null,null,null,null,null,null,null,null,null,null,null,null,null,null,null,null,null,null,null,null,null,null,null,null,null,null,null,null,null,null,null,null,null,null,null,null,null,null,null,null,null,null,null,null,null,null,null,null,null,null,null,null,null,null,{"$f":"IF(AND(B287>0,S287=\"\"),\" * No olvide digitar la variable Pueblos Originarios. Digite Cero si no tiene.\",IF(S287>B287,\" * La variable Pueblos Originarios No puede ser mayor al Total.\",\"\"))","v":""},{"$f":"IF(AND(B287>0,T287=\"\"),\" * No olvide digitar la variable migrantes. Digite Cero si no tiene.\",IF(T287>B287,\" * La variable Migrantes No puede ser mayor al Total.\",\"\"))","v":""},null,null,null,null,null,null,null,null,null,null,null,null,null,null,null,null,null,null,null,null,null,null,null,null,{"$f":"IF(AND(B287>0,S287=\"\"),1,IF(S287>B287,1,0))","v":0},0]
["Hijos/as de Madre con Enfermedad de Chagas con diagnóstico finalizado e informado (1° muestra) ",0,null,null,null,null,null,null,null,null,null,null,null,null,null,null,null,null,null,null,"",null,null,null,null,null,null,null,null,null,null,null,null,null,null,null,null,null,null,null,null,null,null,null,null,null,null,null,null,null,null,null,null,null,null,null,null,null,null,null,null,null,null,null,null,null,null,null,null,null,null,null,null,null,null,null,null,null,"","",null,null,null,null,null,null,null,null,null,null,null,null,null,null,null,null,null,null,null,null,null,null,null,null,0,0]
["Hijos/as de Madre con Enfermedad de Chagas con diagnóstico finalizado e informado (2° muestra) ",0,null,null,null,null,null,null,null,null,null,null,null,null,null,null,null,null,null,null,"",null,null,null,null,null,null,null,null,null,null,null,null,null,null,null,null,null,null,null,null,null,null,null,null,null,null,null,null,null,null,null,null,null,null,null,null,null,null,null,null,null,null,null,null,null,null,null,null,null,null,null,null,null,null,null,null,null,{"$f":"IF(AND(B289>0,S289=\"\"),\" * No olvide digitar la variable Pueblos Originarios. Digite Cero si no tiene.\",IF(S289>B289,\" * La variable Pueblos Originarios No puede ser mayor al Total.\",\"\"))","v":""},"",null,null,null,null,null,null,null,null,null,null,null,null,null,null,null,null,null,null,null,null,null,null,null,null,0,0]
["Hijos/as de Madre con enfermedad de Chagas con diagnóstico finalizado e informado (3° muestra) ",0,null,null,null,null,null,null,null,null,null,null,null,null,null,null,null,null,null,null,"",null,null,null,null,null,null,null,null,null,null,null,null,null,null,null,null,null,null,null,null,null,null,null,null,null,null,null,null,null,null,null,null,null,null,null,null,null,null,null,null,null,null,null,null,null,null,null,null,null,null,null,null,null,null,null,null,null,{"$f":"IF(AND(B290>0,S290=\"\"),\" * No olvide digitar la variable Pueblos Originarios. Digite Cero si no tiene.\",IF(S290>B290,\" * La variable Pueblos Originarios No puede ser mayor al Total.\",\"\"))","v":""},{"$f":"IF(AND(B290>0,T290=\"\"),\" * No olvide digitar la variable migrantes. Digite Cero si no tiene.\",IF(T290>B290,\" * La variable Migrantes No puede ser mayor al Total.\",\"\"))","v":""},null,null,null,null,null,null,null,null,null,null,null,null,null,null,null,null,null,null,null,null,null,null,null,null,{"$f":"IF(AND(B290>0,S290=\"\"),1,IF(S290>B290,1,0))","v":0},{"$f":"IF(AND(B290>0,T290=\"\"),1,IF(T290>B290,1,0))","v":0}]
[]
["SECCION I: TRATAMIENTOS FARMACOLÓGICOS"]
["CONDICIÓN","TOTAL",null,null,"GRUPO DE EDAD Y SEXO"]
[null,"Ambos sexos","Hombres","Mujeres","menor 1 año",null,"1 - 4 años",null,"5 - 9 años",null,"10 - 14 años",null,"15 - 19 años",null,"20 - 24 años",null,"25 - 29 años",null,"30 - 34 años",null,"35 - 39 años",null,"40 - 44 años",null,"45 - 49 años",null,"50 - 54 años",null,"55 - 59 años",null,"60 - 64 años",null,"65 - 69 años",null,"Mayor de70 años"]
[null,null,null,null,"Hombres","Mujeres","Hombres","Mujeres","Hombres","Mujeres","Hombres","Mujeres","Hombres","Mujeres","Hombres","Mujeres","Hombres","Mujeres","Hombres","Mujeres","Hombres","Mujeres","Hombres","Mujeres","Hombres","Mujeres","Hombres","Mujeres","Hombres","Mujeres","Hombres","Mujeres","Hombres","Mujeres","Hombres","Mujeres"]
["Personas con enfermedad de Chagas que ingresan a tratamiento farmacológico en el periodo (nifurtimox)",{"$f":"SUM(C296:D296)","v":0},{"$f":"SUM(E296+G296+I296+K296+M296+O296+Q296+S296+U296+W296+Y296+AA296+AC296+AE296+AG296+AI296)","v":0},{"$f":"SUM(F296+H296+J296+L296+N296+P296+R296+T296+V296+X296+Z296+AB296+AD296+AF296+AH296+AJ296)","v":0}]
["Personas con enfermedad de Chagas que suspenden o rechazan tratamiento farmacológico en el periodo (nifurtimox)",{"$f":"SUM(C297:D297)","v":0},{"$f":"SUM(E297+G297+I297+K297+M297+O297+Q297+S297+U297+W297+Y297+AA297+AC297+AE297+AG297+AI297)","v":0},0]
["Personas con enfermedad de Chagas que finalizan tratamiento farmacológico en el periodo (nifurtimox)",0,0,0]
["Personas con enfermedad de Chagas que ingresan a tratamiento farmacológico en el periodo (benznidazol)",0,0,0]
["Personas con enfermedad de Chagas que suspenden o rechazan tratamiento farmacológico en el periodo (benznidazol)",0,0,0]
["Personas con enfermedad de Chagas que finalizan tratamiento farmacológico en el periodo (benznidazol)",0,0,0]
[]
["SECCIÓN J: DONANTES CONFIRMADOS ENFERMEDAD DE CHAGAS"]
["CONDICIÓN","TOTAL",null,null,"GRUPO DE EDAD y SEXO",null,null,null,null,null,null,null,null,null,null,null,null,null,null,null,null,null,null,null,null,null,null,null,"Pueblos Originarios","Migrantes"]
[null,null,null,null,"18 - 20 años",null,"20 - 24 años",null,"25 - 29 años",null,"30 - 34 años",null,"35 - 39 años",null,"40 - 44 años",null,"45 - 49 años",null,"50 - 54 años",null,"55 - 59 años",null,"60 - 64 años",null,"65 - 69 años",null,"Mayor de 70 años"]
[null,"Ambos sexos","Hombres","Mujeres","Hombres","Mujeres","Hombres","Mujeres","Hombres","Mujeres","Hombres","Mujeres","Hombres","Mujeres","Hombres","Mujeres","Hombres","Mujeres","Hombres","Mujeres","Hombres","Mujeres","Hombres","Mujeres","Hombres","Mujeres","Hombres","Mujeres"]
["Donantes confirmados con enfermedad de Chagas en el periodo",{"$f":"SUM(C307:D307)","v":0},{"$f":"+E307+G307+I307+K307+M307+O307+Q307+S307+U307+W307+Y307+AA307","v":0},{"$f":"+F307+H307+J307+L307+N307+P307+R307+T307+V307+X307+Z307+AB307","v":0},null,null,null,null,null,null,null,null,null,null,null,null,null,null,null,null,null,null,null,null,null,null,null,null,null,null,{"$f":"$CA307&$CB307&$CC307&$CD307&$CE307&$CF307&$CG307&$CH307&$CI307&$CJ307&$CK307&$CL307&$CM307&$CN307&$CO307&$CP307&$CQ307&$CR307&$CS307&$CT307&$CU307&$CV307&$CW307&$CX307&$CY307&$CZ307","v":""},null,null,null,null,null,null,null,null,null,null,null,null,null,null,null,null,null,null,null,null,null,null,null,null,null,null,null,null,null,null,null,null,null,null,null,null,null,null,null,null,null,null,null,null,null,null,null,{"$f":"IF(AND(B307>0,AC307=\"\"),\" * No olvide digitar la variable Pueblos Originarios. Digite Cero si no tiene.\",IF(AC307>B307,\" * La variable Pueblos Originarios No puede ser mayor al Total.\",\"\"))","v":""},{"$f":"IF(AND(B307>0,AD307=\"\"),\" * No olvide digitar la variable Migrantes. Digite Cero si no tiene.\",IF(AD307>B307,\" * La variable Migrantes No puede ser mayor al Total.\",\"\"))","v":""},null,null,null,null,null,null,null,null,null,null,null,null,null,null,null,null,null,null,null,null,null,null,null,null,{"$f":"IF(AND(B307>0,AC307=\"\"),1,IF(AC307>B307,1,0))","v":0},{"$f":"IF(AND(B307>0,AD307=\"\"),1,IF(AD307>B307,1,0))","v":0}]
["Donantes confirmados e informados de su condición serológica para enfermedad de Chagas",{"$f":"SUM(C308:D308)","v":0},{"$f":"+E308+G308+I308+K308+M308+O308+Q308+S308+U308+W308+Y308+AA308","v":0},{"$f":"+F308+H308+J308+L308+N308+P308+R308+T308+V308+X308+Z308+AB308","v":0},null,null,null,null,null,null,null,null,null,null,null,null,null,null,null,null,null,null,null,null,null,null,null,null,null,null,"",null,null,null,null,null,null,null,null,null,null,null,null,null,null,null,null,null,null,null,null,null,null,null,null,null,null,null,null,null,null,null,null,null,null,null,null,null,null,null,null,null,null,null,null,null,null,null,{"$f":"IF(AND(B308>0,AC308=\"\"),\" * No olvide digitar la variable Pueblos Originarios. Digite Cero si no tiene.\",IF(AC308>B308,\" * La variable Pueblos Originarios No puede ser mayor al Total.\",\"\"))","v":""},{"$f":"IF(AND(B308>0,AD308=\"\"),\" * No olvide digitar la variable Migrantes. Digite Cero si no tiene.\",IF(AD308>B308,\" * La variable Migrantes No puede ser mayor al Total.\",\"\"))","v":""},null,null,null,null,null,null,null,null,null,null,null,null,null,null,null,null,null,null,null,null,null,null,null,null,{"$f":"IF(AND(B308>0,AC308=\"\"),1,IF(AC308>B308,1,0))","v":0},{"$f":"IF(AND(B308>0,AD308=\"\"),1,IF(AD308>B308,1,0))","v":0}]
[]
["SECCIÓN K: SEGUIMIENTO DE CASOS"]
["CONDICIÓN","TOTAL",null,null,"GRUPO DE EDAD y SEXO",null,null,null,null,null,null,null,null,null,null,null,null,null,null,null,null,null,null,null,null,null,null,null,null,null,null,null,null,null,null,null,"Pueblos Originarios","Migrantes"]
[null,null,null,null,"menor 1 año",null,"1 - 4 años",null,"5 - 9 años",null,"10 - 14 años",null,"15 - 19 años",null,"20 - 24 años",null,"25 - 29 años",null,"30 - 34 años",null,"35 - 39 años",null,"40 - 44 años",null,"45 - 49 años",null,"50 - 54 años",null,"55 - 59 años",null,"60 - 64 años",null,"65 - 69 años",null,"Mayor de 70 años"]
[null,"Ambos sexos","Hombres","Mujeres","Hombres","Mujeres","Hombres","Mujeres","Hombres","Mujeres","Hombres","Mujeres","Hombres","Mujeres","Hombres","Mujeres","Hombres","Mujeres","Hombres","Mujeres","Hombres","Mujeres","Hombres","Mujeres","Hombres","Mujeres","Hombres","Mujeres","Hombres","Mujeres","Hombres","Mujeres","Hombres","Mujeres","Hombres","Mujeres"]
["Control de las personas con Chagas crónico",{"$f":"SUM(C314:D314)","v":0},{"$f":"+E314+G314+I314+K314+M314+O314+Q314+S314+U314+W314+Y314+AA314+AC314+AE314+AG314+AI314","v":0},{"$f":"+F314+H314+J314+L314+N314+P314+R314+T314+V314+X314+Z314+AB314+AD314+AF314+AH314+AJ314","v":0},null,null,null,null,null,null,null,null,null,null,null,null,null,null,null,null,null,null,null,null,null,null,null,null,null,null,null,null,null,null,null,null,null,null,{"$f":"$CA315&$CB315&$CC315&$CD315&$CE315&$CF315&$CG315&$CH315&$CI315&$CJ315&$CK315&$CL315&$CM315&$CN315&$CO315&$CP315&$CQ315&$CR315&$CS315&$CT315&$CU315&$CV315&$CW315&$CX315&$CY315&$CZ315","v":""}]
["Estudio de contactos familiares de un caso por Infección por T cruzi",{"$f":"SUM(C315:D315)","v":0},{"$f":"+E315+G315+I315+K315+M315+O315+Q315+S315+U315+W315+Y315+AA315+AC315+AE315+AG315+AI315","v":0},0,null,null,null,null,null,null,null,null,null,null,null,null,null,null,null,null,null,null,null,null,null,null,null,null,null,null,null,null,null,null,null,null,null,null,{"$f":"$CA316&$CB316&$CC316&$CD316&$CE316&$CF316&$CG316&$CH316&$CI316&$CJ316&$CK316&$CL316&$CM316&$CN316&$CO316&$CP316&$CQ316&$CR316&$CS316&$CT316&$CU316&$CV316&$CW316&$CX316&$CY316&$CZ316","v":""},null,null,null,null,null,null,null,null,null,null,null,null,null,null,null,null,null,null,null,null,null,null,null,null,null,null,null,null,null,null,null,null,null,null,null,null,null,null,null,{"$f":"IF(AND(B314>0,AK314=\"\"),\" * No olvide digitar la variable Pueblos Originarios. Digite Cero si no tiene.\",IF(AK314>B314,\" * La variable Pueblos Originarios No puede ser mayor al Total.\",\"\"))","v":""},{"$f":"IF(AND(B314>0,AL314=\"\"),\" * No olvide digitar la variable Migrantes. Digite Cero si no tiene.\",IF(AL314>B314,\" * La variable Migrantes No puede ser mayor al Total.\",\"\"))","v":""},null,null,null,null,null,null,null,null,null,null,null,null,null,null,null,null,null,null,null,null,null,null,null,null,{"$f":"IF(AND(B314>0,AK314=\"\"),1,IF(AK314>B314,1,0))","v":0},{"$f":"IF(AND(B314>0,AL314=\"\"),1,IF(AL314>B314,1,0))","v":0}]
["Casos contactos familiares confirmados por Infección por T cruzi",0,0,{"$f":"+F316+H316+J316+L316+N316+P316+R316+T316+V316+X316+Z316+AB316+AD316+AF316+AH316+AJ316","v":0},null,null,null,null,null,null,null,null,null,null,null,null,null,null,null,null,null,null,null,null,null,null,null,null,null,null,null,null,null,null,null,null,null,null,"",null,null,null,null,null,null,null,null,null,null,null,null,null,null,null,null,null,null,null,null,null,null,null,null,null,null,null,null,null,null,null,null,null,null,null,null,null,null,null,{"$f":"IF(AND(B315>0,AK315=\"\"),\" * No olvide digitar la variable Pueblos Originarios. Digite Cero si no tiene.\",IF(AK315>B315,\" * La variable Pueblos Originarios No puede ser mayor al Total.\",\"\"))","v":""},{"$f":"IF(AND(B315>0,AL315=\"\"),\" * No olvide digitar la variable Migrantes. Digite Cero si no tiene.\",IF(AL315>B315,\" * La variable Migrantes No puede ser mayor al Total.\",\"\"))","v":""},null,null,null,null,null,null,null,null,null,null,null,null,null,null,null,null,null,null,null,null,null,null,null,null,{"$f":"IF(AND(B315>0,AK315=\"\"),1,IF(AK315>B315,1,0))","v":0},{"$f":"IF(AND(B315>0,AL315=\"\"),1,IF(AL315>B315,1,0))","v":0}]
[null,null,null,null,null,null,null,null,null,null,null,null,null,null,null,null,null,null,null,null,null,null,null,null,null,null,null,null,null,null,null,null,null,null,null,null,null,null,null,null,null,null,null,null,null,null,null,null,null,null,null,null,null,null,null,null,null,null,null,null,null,null,null,null,null,null,null,null,null,null,null,null,null,null,null,null,null,null,{"$f":"IF(AND(B316>0,AK316=\"\"),\" * No olvide digitar la variable Pueblos Originarios. Digite Cero si no tiene.\",IF(AK316>B316,\" * La variable Pueblos Originarios No puede ser mayor al Total.\",\"\"))","v":""},"",null,null,null,null,null,null,null,null,null,null,null,null,null,null,null,null,null,null,null,null,null,null,null,null,0,0]
[]
[]
[]
[]
[]
[]
[]
[]
[]
[]
[]
[]
[{"$f":"+SUM(D12:AX29,D35:AW52,D58:AW75,D81:AW98,D104:AW121,D127:AW144,C150:P154,C159:P163,E170:AX192,E198:AX220, D226:AR232,D238:AR244, E250:AX272,C277:N281,C286:T290, E296:AJ301, E307:AD308,E314:AL316)","v":0},{"$f":"+SUM(DA12:DY319)","v":0}]

{"sheet":"TV_MI","index":7,"n_rows":101,"n_cols":86,"rows_kept":101,"cut":false,"hidden":false,"merged":[[7,0,7,2],[8,0,9,0],[8,1,9,1],[8,2,8,10],[5,0,5,12],[8,12,9,12],[38,12,39,12],[23,11,24,11],[23,12,24,12],[8,11,9,11],[32,0,32,6],[37,0,37,8],[17,0,17,4],[17,7,17,10],[22,0,22,6],[23,0,24,0],[23,1,24,1],[23,2,23,10],[56,7,56,10],[63,0,63,6],[63,7,63,10],[38,11,39,11],[38,0,39,0],[38,1,39,1],[38,2,38,10],[56,0,56,3],[49,0,49,3],[76,12,77,12],[87,0,87,12],[64,0,65,0],[64,1,65,1],[64,2,64,10],[64,11,65,11],[64,12,65,12],[75,0,75,6],[92,0,92,3],[76,0,77,0],[76,1,77,1],[76,2,76,10],[76,11,77,11]]}
[{"$f":"CONCATENATE(\"SEREMI: \",NOMBRE!B2,\" \",NOMBRE!C2,,NOMBRE!D2,NOMBRE!E2,NOMBRE!F2,NOMBRE!G2,NOMBRE!H2,\"\")","v":"SEREMI:  "}]
[{"$f":"CONCATENATE(\"Establecimiento: \", NOMBRE!B3,\" \", NOMBRE!C3, NOMBRE!D3,NOMBRE!E3,NOMBRE!F3,NOMBRE!G3,NOMBRE!H3,\"\")","v":"Establecimiento:  "}]
[{"$f":"CONCATENATE(\"Comuna: \",NOMBRE!B4,\" \",NOMBRE!C4,NOMBRE!D4,NOMBRE!E4,NOMBRE!F4,NOMBRE!G4)","v":"Comuna:  "}]
[{"$f":"CONCATENATE(\"Mes: \",NOMBRE!B5, \" \",  \"(\",NOMBRE!C5,NOMBRE!D5,\")\")","v":"Mes:  ()"}]
[{"$f":"CONCATENATE(\"Año: \",NOMBRE!B6)","v":"Año: 2024"}]
["ENFERMEDADES TRASMISIBLES: TRANSMISIÓN VERTICAL MATERNO INFANTIL"]
[]
["SECCION A: TRATAMIENTO DE SIFILIS EN GESTANTES"]
[null,"Total","GRUPO DE EDAD (En años)",null,null,null,null,null,null,null,null,"Pueblos Originarios","Migrantes"]
[null,null,"10 a 14 años","15 a 19 años","20 a 24 años","25 a 29 años","30 a 34 años","35 a 39 años","40 a 44 años","45 a 49 años","50 a 54 años"]
["TRATAMIENTO DE SIFILIS EN GESTANTES DURANTE CONTROL PRENATAL"]
["Gestantes con 1° test no treponémico reactivo en este embarazo con penicilina administrada durante el embarazo",{"$f":"SUM(C12:K12)","v":0},null,null,null,null,null,null,null,null,null,null,null,{"$f":"CONCATENATE($CA12,$CB12)","v":""},null,null,null,null,null,null,null,null,null,null,null,null,null,null,null,null,null,null,null,null,null,null,null,null,null,null,null,null,null,null,null,null,null,null,null,null,null,null,null,null,null,null,null,null,null,null,null,null,null,null,null,null,null,null,null,null,null,null,null,null,null,null,null,null,{"$f":"IF(AND($B12<>0,L12=\"\"),\"* No olvide digitar la variable Pueblos Originarios (Digite CERO si no tiene). \",IF(L12>$B12,\"* La variable Pueblos Originarios no puede no puede ser mayor al Total. \",\"\"))","v":""},{"$f":"IF(AND($B12<>0,M12=\"\"),\"* No olvide digitar la variable Migrantes (Digite CERO si no tiene). \",IF(M12>$B12,\"* La variable Migrantes no puede no puede ser mayor al Total. \",\"\"))","v":""},null,null,null,null,{"$f":"IF(AND($B12<>0,L12=\"\"),1,IF(L12>$B12,1,0))","v":0},{"$f":"IF(AND($B12<>0,M12=\"\"),1,IF(M12>$B12,1,0))","v":0}]
["Gestantes con 1° test no treponémico reactivo durante el embarazo",{"$f":"SUM(C13:K13)","v":0},null,null,null,null,null,null,null,null,null,null,null,{"$f":"CONCATENATE($CA13,$CB13)","v":""},null,null,null,null,null,null,null,null,null,null,null,null,null,null,null,null,null,null,null,null,null,null,null,null,null,null,null,null,null,null,null,null,null,null,null,null,null,null,null,null,null,null,null,null,null,null,null,null,null,null,null,null,null,null,null,null,null,null,null,null,null,null,null,null,{"$f":"IF(AND($B13<>0,L13=\"\"),\"* No olvide digitar la variable Pueblos Originarios (Digite CERO si no tiene). \",IF(L13>$B13,\"* La variable Pueblos Originarios no puede no puede ser mayor al Total. \",\"\"))","v":""},{"$f":"IF(AND($B13<>0,M13=\"\"),\"* No olvide digitar la variable Migrantes (Digite CERO si no tiene). \",IF(M13>$B13,\"* La variable Migrantes no puede no puede ser mayor al Total. \",\"\"))","v":""},null,null,null,null,{"$f":"IF(AND($B13<>0,L13=\"\"),1,IF(L13>$B13,1,0))","v":0},0]
["TRATAMIENTO SIFILIS EN GESTANTES AL MOMENTO DEL PARTO",null,null,null,null,null,null,null,null,null,null,null,null,null,null,null,null,null,null,null,null,null,null,null,null,null,null,null,null,null,null,null,null,null,null,null,null,null,null,null,null,null,null,null,null,null,null,null,null,null,null,null,null,null,null,null,null,null,null,null,null,null,null,null,null,null,null,null,null,null,null,null,null,null,null,null,null,null,"","",null,null,null,null,0,0]
["Gestantes con 1° test no treponémico reactivo en el parto con penicilina administrada al parto",{"$f":"SUM(C15:K15)","v":0},null,null,null,null,null,null,null,null,null,null,null,"",null,null,null,null,null,null,null,null,null,null,null,null,null,null,null,null,null,null,null,null,null,null,null,null,null,null,null,null,null,null,null,null,null,null,null,null,null,null,null,null,null,null,null,null,null,null,null,null,null,null,null,null,null,null,null,null,null,null,null,null,null,null,null,null,"","",null,null,null,null,{"$f":"IF(AND($B15<>0,L15=\"\"),1,IF(L15>$B15,1,0))","v":0},{"$f":"IF(AND($B15<>0,M15=\"\"),1,IF(M15>$B15,1,0))","v":0}]
["Gestantes con 1° test no treponémico reactivo en el parto",{"$f":"SUM(C16:K16)","v":0},null,null,null,null,null,null,null,null,null,null,null,"",null,null,null,null,null,null,null,null,null,null,null,null,null,null,null,null,null,null,null,null,null,null,null,null,null,null,null,null,null,null,null,null,null,null,null,null,null,null,null,null,null,null,null,null,null,null,null,null,null,null,null,null,null,null,null,null,null,null,null,null,null,null,null,null,{"$f":"IF(AND($B16<>0,L16=\"\"),\"* No olvide digitar la variable Pueblos Originarios (Digite CERO si no tiene). \",IF(L16>$B16,\"* La variable Pueblos Originarios no puede no puede ser mayor al Total. \",\"\"))","v":""},"",null,null,null,null,{"$f":"IF(AND($B16<>0,L16=\"\"),1,IF(L16>$B16,1,0))","v":0},0]
[]
["SECCIÓN B: NIÑOS Y NIÑAS EXPUESTOS A LA SIFILIS TRATADOS AL NACER"]
[null,"Total","Pueblos Originarios\n(Pertenencia de la madre)","Migrantes\n(Condición de la madre)"]
["Recién nacidos/as expuestos a sífilis (hijos de mujer con serología reactiva para sífilis al parto no tratada o inadecuadamente tratada), que reciben tratamiento para sífilis congénita al nacer",null,null,null,{"$f":"CONCATENATE($CA20,$CB20)","v":""},null,null,null,null,null,null,null,null,null,null,null,null,null,null,null,null,null,null,null,null,null,null,null,null,null,null,null,null,null,null,null,null,null,null,null,null,null,null,null,null,null,null,null,null,null,null,null,null,null,null,null,null,null,null,null,null,null,null,null,null,null,null,null,null,null,null,null,null,null,null,null,null,null,{"$f":"IF(AND($B20<>0,C20=\"\"),\"* No olvide digitar la variable Pueblos Originarios (Digite CERO si no tiene). \",IF(C20>$B20,\" * La variable Pueblos Originarios no puede no puede ser mayor al Total. \",\"\"))","v":""},{"$f":"IF(AND($B20<>0,D20=\"\"),\"* No olvide digitar la variable Migrantes (Digite CERO si no tiene). \",IF(D20>$B20,\"* La variable Migrantes no puede no puede ser mayor al Total.  \",\"\"))","v":""},null,null,null,null,{"$f":"IF(AND($B20<>0,C20=\"\"),1,IF(C20>$B20,1,0))","v":0},{"$f":"IF(AND($B20<>0,D20=\"\"),1,IF(D20>$B20,1,0))","v":0}]
["Recién nacidos/as expuestos a sífilis (hijos de mujer con serología reactiva para sífilis al parto no tratada o inadecuadamente tratada)",null,null,null,"",null,null,null,null,null,null,null,null,null,null,null,null,null,null,null,null,null,null,null,null,null,null,null,null,null,null,null,null,null,null,null,null,null,null,null,null,null,null,null,null,null,null,null,null,null,null,null,null,null,null,null,null,null,null,null,null,null,null,null,null,null,null,null,null,null,null,null,null,null,null,null,null,null,{"$f":"IF(AND($B21<>0,C21=\"\"),\"* No olvide digitar la variable Pueblos Originarios (Digite CERO si no tiene). \",IF(C21>$B21,\" * La variable Pueblos Originarios no puede no puede ser mayor al Total. \",\"\"))","v":""},{"$f":"IF(AND($B21<>0,D21=\"\"),\"* No olvide digitar la variable Migrantes (Digite CERO si no tiene). \",IF(D21>$B21,\" * La variable Migrantes no puede no puede ser mayor al Total.  \",\"\"))","v":""},null,null,null,null,{"$f":"IF(AND($B21<>0,C21=\"\"),1,IF(C21>$B21,1,0))","v":0},{"$f":"IF(AND($B21<>0,D21=\"\"),1,IF(D21>$B21,1,0))","v":0}]
[]
["SECCIÓN C: ABORTOS Y DEFUNCIONES FETALES ATRIBUIDAS A SIFILIS SEGÚN EDAD GESTACIONAL"]
[null,"Total","GRUPO DE EDAD (En años)",null,null,null,null,null,null,null,null,"Pueblos Originarios","Migrantes"]
[null,null,"10 a 14 años","15 a 19 años","20 a 24 años","25 a 29 años","30 a 34 años","35 a 39 años","40 a 44 años","45 a 49 años","50 a 54 años"]
["Mujeres con serología reactiva para sífilis con aborto menor o igual a 19+6 semanas o menor a 500 grs.",{"$f":"SUM(C26:K26)","v":0},null,null,null,null,null,null,null,null,null,null,null,{"$f":"CONCATENATE($CA26,$CB26)","v":""},null,null,null,null,null,null,null,null,null,null,null,null,null,null,null,null,null,null,null,null,null,null,null,null,null,null,null,null,null,null,null,null,null,null,null,null,null,null,null,null,null,null,null,null,null,null,null,null,null,null,null,null,null,null,null,null,null,null,null,null,null,null,null,null,{"$f":"IF(AND($B26<>0,L26=\"\"),\"* No olvide digitar la variable Pueblos Originarios (Digite CERO si no tiene). \",IF(L26>$B26,\"* La variable Pueblos Originarios no puede no puede ser mayor al Total. \",\"\"))","v":""},{"$f":"IF(AND($B26<>0,M26=\"\"),\"* No olvide digitar la variable Migrantes (Digite CERO si no tiene). \",IF(M26>$B26,\"* La variable Migrantes no puede no puede ser mayor al Total. \",\"\"))","v":""},null,null,null,null,{"$f":"IF(AND($B26<>0,L26=\"\"),1,IF(L26>$B26,1,0))","v":0},{"$f":"IF(AND($B26<>0,M26=\"\"),1,IF(M26>$B26,1,0))","v":0}]
["Mujeres con aborto menor o igual a 19+6 semanas o menor a 500 grs ",{"$f":"SUM(C27:K27)","v":0},null,null,null,null,null,null,null,null,null,null,null,"",null,null,null,null,null,null,null,null,null,null,null,null,null,null,null,null,null,null,null,null,null,null,null,null,null,null,null,null,null,null,null,null,null,null,null,null,null,null,null,null,null,null,null,null,null,null,null,null,null,null,null,null,null,null,null,null,null,null,null,null,null,null,null,null,{"$f":"IF(AND($B27<>0,L27=\"\"),\"* No olvide digitar la variable Pueblos Originarios (Digite CERO si no tiene). \",IF(L27>$B27,\"* La variable Pueblos Originarios no puede no puede ser mayor al Total. \",\"\"))","v":""},{"$f":"IF(AND($B27<>0,M27=\"\"),\"* No olvide digitar la variable Migrantes (Digite CERO si no tiene). \",IF(M27>$B27,\"* La variable Migrantes no puede no puede ser mayor al Total. \",\"\"))","v":""},null,null,null,null,0,0]
["Mujeres con serología reactiva para sífilis con aborto entre las 20 y las 21+6 semanas o mayor a 500 grs.",0,null,null,null,null,null,null,null,null,null,null,null,"",null,null,null,null,null,null,null,null,null,null,null,null,null,null,null,null,null,null,null,null,null,null,null,null,null,null,null,null,null,null,null,null,null,null,null,null,null,null,null,null,null,null,null,null,null,null,null,null,null,null,null,null,null,null,null,null,null,null,null,null,null,null,null,null,"","",null,null,null,null,0,0]
["Mujeres con aborto entre las 20 y las 21+6 semanas o mayor a 500 grs.",0,null,null,null,null,null,null,null,null,null,null,null,"",null,null,null,null,null,null,null,null,null,null,null,null,null,null,null,null,null,null,null,null,null,null,null,null,null,null,null,null,null,null,null,null,null,null,null,null,null,null,null,null,null,null,null,null,null,null,null,null,null,null,null,null,null,null,null,null,null,null,null,null,null,null,null,null,"","",null,null,null,null,0,0]
["Mujeres con serología reactiva para sífilis con mortinato mayor o igual a 22 semanas ",0,null,null,null,null,null,null,null,null,null,null,null,"",null,null,null,null,null,null,null,null,null,null,null,null,null,null,null,null,null,null,null,null,null,null,null,null,null,null,null,null,null,null,null,null,null,null,null,null,null,null,null,null,null,null,null,null,null,null,null,null,null,null,null,null,null,null,null,null,null,null,null,null,null,null,null,null,"","",null,null,null,null,0,0]
["Mujeres con mortinato mayor o igual a 22 semanas ",0,null,null,null,null,null,null,null,null,null,null,null,"",null,null,null,null,null,null,null,null,null,null,null,null,null,null,null,null,null,null,null,null,null,null,null,null,null,null,null,null,null,null,null,null,null,null,null,null,null,null,null,null,null,null,null,null,null,null,null,null,null,null,null,null,null,null,null,null,null,null,null,null,null,null,null,null,{"$f":"IF(AND($B31<>0,L31=\"\"),\"* No olvide digitar la variable Pueblos Originarios (Digite CERO si no tiene). \",IF(L31>$B31,\"* La variable Pueblos Originarios no puede no puede ser mayor al Total. \",\"\"))","v":""},{"$f":"IF(AND($B31<>0,M31=\"\"),\"* No olvide digitar la variable Migrantes (Digite CERO si no tiene). \",IF(M31>$B31,\"* La variable Migrantes no puede no puede ser mayor al Total. \",\"\"))","v":""},null,null,null,null,0,0]
[]
["SECCION D: APLICACIÓN DE PROFILAXIS OCULAR PARA GONORREA EN RECIEN NACIDOS"]
[null,"Total","Pueblos Originarios\n(Pertenencia de la madre)","Migrantes\n(Condición de la madre)"]
["Recién Nacidos vivos que reciben profilaxis ocular para gonorrea al nacer",null,null,null,{"$f":"CONCATENATE($CA35,$CB35)","v":""},null,null,null,null,null,null,null,null,null,null,null,null,null,null,null,null,null,null,null,null,null,null,null,null,null,null,null,null,null,null,null,null,null,null,null,null,null,null,null,null,null,null,null,null,null,null,null,null,null,null,null,null,null,null,null,null,null,null,null,null,null,null,null,null,null,null,null,null,null,null,null,null,null,{"$f":"IF(AND($B35<>0,C35=\"\"),\"* No olvide digitar la variable Pueblos Originarios (Digite CERO si no tiene). \",IF(C35>$B35,\"* La variable Pueblos Originarios no puede no puede ser mayor al Total. \",\"\"))","v":""},{"$f":"IF(AND($B35<>0,D35=\"\"),\"* No olvide digitar la variable Migrantes (Digite CERO si no tiene). \",IF(D35>$B35,\"* La variable Migrantes no puede no puede ser mayor al Total. \",\"\"))","v":""},null,null,null,null,{"$f":"IF(AND($B35<>0,C35=\"\"),1,IF(C35>$B35,1,0))","v":0},{"$f":"IF(AND($B35<>0,D35=\"\"),1,IF(D35>$B35,1,0))","v":0}]
["Recién nacidos vivos ",null,null,null,"",null,null,null,null,null,null,null,null,null,null,null,null,null,null,null,null,null,null,null,null,null,null,null,null,null,null,null,null,null,null,null,null,null,null,null,null,null,null,null,null,null,null,null,null,null,null,null,null,null,null,null,null,null,null,null,null,null,null,null,null,null,null,null,null,null,null,null,null,null,null,null,null,null,{"$f":"IF(AND($B36<>0,C36=\"\"),\"* No olvide digitar la variable Pueblos Originarios (Digite CERO si no tiene). \",IF(C36>$B36,\"* La variable Pueblos Originarios no puede no puede ser mayor al Total. \",\"\"))","v":""},{"$f":"IF(AND($B36<>0,D36=\"\"),\"* No olvide digitar la variable Migrantes (Digite CERO si no tiene). \",IF(D36>$B36,\"* La variable Migrantes no puede no puede ser mayor al Total. \",\"\"))","v":""},null,null,null,null,{"$f":"IF(AND($B36<>0,C36=\"\"),1,IF(C36>$B36,1,0))","v":0},{"$f":"IF(AND($B36<>0,D36=\"\"),1,IF(D36>$B36,1,0))","v":0}]
[]
["SECCIÓN E: MUJERES VIH QUE RECIBEN PROTOCOLO PREVENCIÓN TRANSMISIÓN VERTICAL AL PARTO (PTV)"]
[null,"Total","GRUPO DE EDAD (En años)",null,null,null,null,null,null,null,null,"Pueblos Originarios","Migrantes"]
[null,null,"10 a 14 años","15 a 19 años","20 a 24 años","25 a 29 años","30 a 34 años","35 a 39 años","40 a 44 años","45 a 49 años","50 a 54 años"]
["Mujeres VIH (+) confirmadas por ISP que recibieron protocolo PTV completo al parto",{"$f":"SUM(C41:K41)","v":0},null,null,null,null,null,null,null,null,null,null,null,{"$f":"CONCATENATE($CA41,$CB41)","v":""},null,null,null,null,null,null,null,null,null,null,null,null,null,null,null,null,null,null,null,null,null,null,null,null,null,null,null,null,null,null,null,null,null,null,null,null,null,null,null,null,null,null,null,null,null,null,null,null,null,null,null,null,null,null,null,null,null,null,null,null,null,null,null,null,{"$f":"IF(AND($B41<>0,L41=\"\"),\"* No olvide digitar la variable Pueblos Originarios (Digite CERO si no tiene). \",IF(L41>$B41,\"* La variable Pueblos Originarios no puede no puede ser mayor al Total. \",\"\"))","v":""},{"$f":"IF(AND($B41<>0,M41=\"\"),\"* No olvide digitar la variable Migrantes (Digite CERO si no tiene). \",IF(M41>$B41,\"* La variable Migrantes no puede no puede ser mayor al Total. \",\"\"))","v":""},null,null,null,null,{"$f":"IF(AND($B41<>0,L41=\"\"),1,IF(L41>$B41,1,0))","v":0},0]
["Mujeres VIH (+) confirmadas por ISP que recibieron protocolo PTV incompleto al parto",{"$f":"SUM(C42:K42)","v":0},null,null,null,null,null,null,null,null,null,null,null,"",null,null,null,null,null,null,null,null,null,null,null,null,null,null,null,null,null,null,null,null,null,null,null,null,null,null,null,null,null,null,null,null,null,null,null,null,null,null,null,null,null,null,null,null,null,null,null,null,null,null,null,null,null,null,null,null,null,null,null,null,null,null,null,null,{"$f":"IF(AND($B42<>0,L42=\"\"),\"* No olvide digitar la variable Pueblos Originarios (Digite CERO si no tiene). \",IF(L42>$B42,\"* La variable Pueblos Originarios no puede no puede ser mayor al Total. \",\"\"))","v":""},"",null,null,null,null,0,0]
["Mujeres VIH (+) confirmadas por ISP que no recibieron protocolo PTV al parto",0,null,null,null,null,null,null,null,null,null,null,null,"",null,null,null,null,null,null,null,null,null,null,null,null,null,null,null,null,null,null,null,null,null,null,null,null,null,null,null,null,null,null,null,null,null,null,null,null,null,null,null,null,null,null,null,null,null,null,null,null,null,null,null,null,null,null,null,null,null,null,null,null,null,null,null,null,"","",null,null,null,null,0,0]
["Mujeres VIH (+) confirmadas por ISP atendidas por parto ",0,null,null,null,null,null,null,null,null,null,null,null,"",null,null,null,null,null,null,null,null,null,null,null,null,null,null,null,null,null,null,null,null,null,null,null,null,null,null,null,null,null,null,null,null,null,null,null,null,null,null,null,null,null,null,null,null,null,null,null,null,null,null,null,null,null,null,null,null,null,null,null,null,null,null,null,null,"","",null,null,null,null,0,0]
["Mujeres con serología VIH (+) en proceso de confirmación por ISP que recibieron protocolo PTV completo al parto",0,null,null,null,null,null,null,null,null,null,null,null,"",null,null,null,null,null,null,null,null,null,null,null,null,null,null,null,null,null,null,null,null,null,null,null,null,null,null,null,null,null,null,null,null,null,null,null,null,null,null,null,null,null,null,null,null,null,null,null,null,null,null,null,null,null,null,null,null,null,null,null,null,null,null,null,null,"","",null,null,null,null,0,0]
["Mujeres con serología VIH (+) en proceso de confirmación por ISP que recibieron protocolo PTV incompleto al parto",0,null,null,null,null,null,null,null,null,null,null,null,"",null,null,null,null,null,null,null,null,null,null,null,null,null,null,null,null,null,null,null,null,null,null,null,null,null,null,null,null,null,null,null,null,null,null,null,null,null,null,null,null,null,null,null,null,null,null,null,null,null,null,null,null,null,null,null,null,null,null,null,null,null,null,null,null,"","",null,null,null,null,0,0]
["Mujeres con serología VIH (+) en proceso de confirmación por ISP que No recibieron protocolo PTV al parto",{"$f":"SUM(C47:K47)","v":0},null,null,null,null,null,null,null,null,null,null,null,"",null,null,null,null,null,null,null,null,null,null,null,null,null,null,null,null,null,null,null,null,null,null,null,null,null,null,null,null,null,null,null,null,null,null,null,null,null,null,null,null,null,null,null,null,null,null,null,null,null,null,null,null,null,null,null,null,null,null,null,null,null,null,null,null,"","",null,null,null,null,0,0]
["Mujeres con serología VIH (+) en proceso de confirmación por ISP atendidas por parto  ",0,null,null,null,null,null,null,null,null,null,null,null,"",null,null,null,null,null,null,null,null,null,null,null,null,null,null,null,null,null,null,null,null,null,null,null,null,null,null,null,null,null,null,null,null,null,null,null,null,null,null,null,null,null,null,null,null,null,null,null,null,null,null,null,null,null,null,null,null,null,null,null,null,null,null,null,null,{"$f":"IF(AND($B48<>0,L48=\"\"),\"* No olvide digitar la variable Pueblos Originarios (Digite CERO si no tiene). \",IF(L48>$B48,\"* La variable Pueblos Originarios no puede no puede ser mayor al Total. \",\"\"))","v":""},"",null,null,null,null,0,0]
[]
["SECCIÓN F: RECIEN NACIDOS EXPUESTOS AL VIH QUE RECIBE PROTOCOLO DE TRANSMISION VERTICAL"]
[null,"Total","Pueblos Originarios\n(Pertenencia de la madre)","Migrantes\n(Condición de la madre)"]
["Recién nacidos vivos hijos de mujer VIH (+) confirmada por ISP que iniciaron profilaxis para VIH durante las primeras 12 hrs. de vida ",null,null,null,{"$f":"CONCATENATE($CA52,$CB52)","v":""},null,null,null,null,null,null,null,null,null,null,null,null,null,null,null,null,null,null,null,null,null,null,null,null,null,null,null,null,null,null,null,null,null,null,null,null,null,null,null,null,null,null,null,null,null,null,null,null,null,null,null,null,null,null,null,null,null,null,null,null,null,null,null,null,null,null,null,null,null,null,null,null,null,{"$f":"IF(AND($B52<>0,C52=\"\"),\"* No olvide digitar la variable Pueblos Originarios (Digite CERO si no tiene). \",IF(C52>$B52,\"* La variable Pueblos Originarios no puede no puede ser mayor al Total. \",\"\"))","v":""},{"$f":"IF(AND($B52<>0,D52=\"\"),\"* No olvide digitar la variable Migrantes (Digite CERO si no tiene). \",IF(D52>$B52,\"* La variable Migrantes no puede no puede ser mayor al Total. \",\"\"))","v":""},null,null,null,null,{"$f":"IF(AND($B52<>0,C52=\"\"),1,IF(C52>$B52,1,0))","v":0},{"$f":"IF(AND($B52<>0,D52=\"\"),1,IF(D52>$B52,1,0))","v":0}]
["Recién nacidos vivos hijos de mujer VIH (+) confirmada por ISP",null,null,null,"",null,null,null,null,null,null,null,null,null,null,null,null,null,null,null,null,null,null,null,null,null,null,null,null,null,null,null,null,null,null,null,null,null,null,null,null,null,null,null,null,null,null,null,null,null,null,null,null,null,null,null,null,null,null,null,null,null,null,null,null,null,null,null,null,null,null,null,null,null,null,null,null,null,{"$f":"IF(AND($B53<>0,C53=\"\"),\"* No olvide digitar la variable Pueblos Originarios (Digite CERO si no tiene). \",IF(C53>$B53,\"* La variable Pueblos Originarios no puede no puede ser mayor al Total. \",\"\"))","v":""},{"$f":"IF(AND($B53<>0,D53=\"\"),\"* No olvide digitar la variable Migrantes (Digite CERO si no tiene). \",IF(D53>$B53,\"* La variable Migrantes no puede no puede ser mayor al Total. \",\"\"))","v":""},null,null,null,null,{"$f":"IF(AND($B53<>0,C53=\"\"),1,IF(C53>$B53,1,0))","v":0},0]
["Recién nacidos vivos hijos de mujer con serología VIH (+) en proceso de confirmación por ISP que iniciaron profilaxis para VIH durante las primeras 12 hrs. de vida ",null,null,null,"",null,null,null,null,null,null,null,null,null,null,null,null,null,null,null,null,null,null,null,null,null,null,null,null,null,null,null,null,null,null,null,null,null,null,null,null,null,null,null,null,null,null,null,null,null,null,null,null,null,null,null,null,null,null,null,null,null,null,null,null,null,null,null,null,null,null,null,null,null,null,null,null,null,"","",null,null,null,null,0,0]
["Recién nacidos vivos hijos de mujer con serología VIH (+) en proceso de confirmación por ISP",null,null,null,"",null,null,null,null,null,null,null,null,null,null,null,null,null,null,null,null,null,null,null,null,null,null,null,null,null,null,null,null,null,null,null,null,null,null,null,null,null,null,null,null,null,null,null,null,null,null,null,null,null,null,null,null,null,null,null,null,null,null,null,null,null,null,null,null,null,null,null,null,null,null,null,null,null,{"$f":"IF(AND($B55<>0,C55=\"\"),\"* No olvide digitar la variable Pueblos Originarios (Digite CERO si no tiene). \",IF(C55>$B55,\"* La variable Pueblos Originarios no puede no puede ser mayor al Total. \",\"\"))","v":""},"",null,null,null,null,0,0]
[]
["SECCÓN G: RECIEN NACIDOS EXPUESTOS AL VIH QUE RECIBEN LECHE MATERNIZADA AL ALTA"]
[null,"Total","Pueblos Originarios\n(Pertenencia de la madre)","Migrantes\n(Condición de la madre)"]
["Recién nacidos vivos hijos de mujer VIH (+) confirmada por ISP que recibieron leche maternizada al alta (para ser consumida en su casa)",null,null,null,{"$f":"CONCATENATE($CA59,$CB59)","v":""},null,null,null,null,null,null,null,null,null,null,null,null,null,null,null,null,null,null,null,null,null,null,null,null,null,null,null,null,null,null,null,null,null,null,null,null,null,null,null,null,null,null,null,null,null,null,null,null,null,null,null,null,null,null,null,null,null,null,null,null,null,null,null,null,null,null,null,null,null,null,null,null,null,{"$f":"IF(AND($B59<>0,C59=\"\"),\"* No olvide digitar la variable Pueblos Originarios (Digite CERO si no tiene). \",IF(C59>$B59,\"* La variable Pueblos Originarios no puede no puede ser mayor al Total. \",\"\"))","v":""},{"$f":"IF(AND($B59<>0,D59=\"\"),\"* No olvide digitar la variable Migrantes (Digite CERO si no tiene). \",IF(D59>$B59,\"* La variable Migrantes no puede no puede ser mayor al Total. \",\"\"))","v":""},null,null,null,null,{"$f":"IF(AND($B59<>0,C59=\"\"),1,IF(C59>$B59,1,0))","v":0},0]
["Recién nacidos vivos hijos de mujer VIH (+) confirmada por ISP",null,null,null,"",null,null,null,null,null,null,null,null,null,null,null,null,null,null,null,null,null,null,null,null,null,null,null,null,null,null,null,null,null,null,null,null,null,null,null,null,null,null,null,null,null,null,null,null,null,null,null,null,null,null,null,null,null,null,null,null,null,null,null,null,null,null,null,null,null,null,null,null,null,null,null,null,null,{"$f":"IF(AND($B60<>0,C60=\"\"),\"* No olvide digitar la variable Pueblos Originarios (Digite CERO si no tiene). \",IF(C60>$B60,\"* La variable Pueblos Originarios no puede no puede ser mayor al Total. \",\"\"))","v":""},{"$f":"IF(AND($B60<>0,D60=\"\"),\"* No olvide digitar la variable Migrantes (Digite CERO si no tiene). \",IF(D60>$B60,\"* La variable Migrantes no puede no puede ser mayor al Total. \",\"\"))","v":""},null,null,null,null,0,0]
["Recién nacidos vivos hijos de mujer con serología VIH (+) en proceso de confirmación por el ISP que recibieron leche maternizada al alta (para ser consumida en su casa)",null,null,null,"",null,null,null,null,null,null,null,null,null,null,null,null,null,null,null,null,null,null,null,null,null,null,null,null,null,null,null,null,null,null,null,null,null,null,null,null,null,null,null,null,null,null,null,null,null,null,null,null,null,null,null,null,null,null,null,null,null,null,null,null,null,null,null,null,null,null,null,null,null,null,null,null,null,"","",null,null,null,null,0,0]
["Recién nacidos vivos hijos de mujer con serología VIH (+) en proceso de confirmación por ISP",null,null,null,"",null,null,null,null,null,null,null,null,null,null,null,null,null,null,null,null,null,null,null,null,null,null,null,null,null,null,null,null,null,null,null,null,null,null,null,null,null,null,null,null,null,null,null,null,null,null,null,null,null,null,null,null,null,null,null,null,null,null,null,null,null,null,null,null,null,null,null,null,null,null,null,null,null,"","",null,null,null,null,0,0]
[]
["SECCION H: GESTANTES ESTUDIADAS PARA ESTREPTOCOCCUS GRUPO B (EGB) "]
[null,"Total","GRUPO DE EDAD (En años)",null,null,null,null,null,null,null,null,"Pueblos Originarios","Migrantes"]
[null,null,"10 a 14 años","15 a 19 años","20 a 24 años","25 a 29 años","30 a 34 años","35 a 39 años","40 a 44 años","45 a 49 años","50 a 54 años"]
["GESTANTES ESTUDIADAS PARA ESTREPTOCOCCUS GRUPO B (EGB)"]
["Gestantes estudiadas para EGB durante el control prenatal",{"$f":"SUM(C68:K68)","v":0},null,null,null,null,null,null,null,null,null,null,null,{"$f":"CONCATENATE($CA68,$CB68)","v":""},null,null,null,null,null,null,null,null,null,null,null,null,null,null,null,null,null,null,null,null,null,null,null,null,null,null,null,null,null,null,null,null,null,null,null,null,null,null,null,null,null,null,null,null,null,null,null,null,null,null,null,null,null,null,null,null,null,null,null,null,null,null,null,null,{"$f":"IF(AND($B68<>0,L68=\"\"),\"* No olvide digitar la variable Pueblos Originarios (Digite CERO si no tiene). \",IF(L68>$B68,\"* La variable Pueblos Originarios no puede no puede ser mayor al Total. \",\"\"))","v":""},{"$f":"IF(AND($B68<>0,M68=\"\"),\"* No olvide digitar la variable Migrantes (Digite CERO si no tiene). \",IF(M68>$B68,\"* La variable Migrantes no puede no puede ser mayor al Total. \",\"\"))","v":""},null,null,null,null,{"$f":"IF(AND($B68<>0,L68=\"\"),1,IF(L68>$B68,1,0))","v":0},{"$f":"IF(AND($B68<>0,M68=\"\"),1,IF(M68>$B68,1,0))","v":0}]
["Gestantes estudiadas para EGB con examen (+) durante el control prenatal",{"$f":"SUM(C69:K69)","v":0},null,null,null,null,null,null,null,null,null,null,null,"",null,null,null,null,null,null,null,null,null,null,null,null,null,null,null,null,null,null,null,null,null,null,null,null,null,null,null,null,null,null,null,null,null,null,null,null,null,null,null,null,null,null,null,null,null,null,null,null,null,null,null,null,null,null,null,null,null,null,null,null,null,null,null,null,"","",null,null,null,null,0,0]
["Total gestantes atendidas por parto en el centro que tienen antecedente de control prenatal",{"$f":"SUM(C70:K70)","v":0},null,null,null,null,null,null,null,null,null,null,null,"",null,null,null,null,null,null,null,null,null,null,null,null,null,null,null,null,null,null,null,null,null,null,null,null,null,null,null,null,null,null,null,null,null,null,null,null,null,null,null,null,null,null,null,null,null,null,null,null,null,null,null,null,null,null,null,null,null,null,null,null,null,null,null,null,"","",null,null,null,null,{"$f":"IF(AND($B70<>0,L70=\"\"),1,IF(L70>$B70,1,0))","v":0},{"$f":"IF(AND($B70<>0,M70=\"\"),1,IF(M70>$B70,1,0))","v":0}]
["GESTANTES CON PROFILAXIS PARA ESTREPTOCOCCUS GRUPO B (EGB) AL PARTO"]
["Gestantes con profilaxis para EGB (+) al parto.",{"$f":"SUM(C72:K72)","v":0},null,null,null,null,null,null,null,null,null,null,null,"",null,null,null,null,null,null,null,null,null,null,null,null,null,null,null,null,null,null,null,null,null,null,null,null,null,null,null,null,null,null,null,null,null,null,null,null,null,null,null,null,null,null,null,null,null,null,null,null,null,null,null,null,null,null,null,null,null,null,null,null,null,null,null,null,{"$f":"IF(AND($B72<>0,L72=\"\"),\"* No olvide digitar la variable Pueblos Originarios (Digite CERO si no tiene). \",IF(L72>$B72,\"* La variable Pueblos Originarios no puede no puede ser mayor al Total. \",\"\"))","v":""},{"$f":"IF(AND($B72<>0,M72=\"\"),\"* No olvide digitar la variable Migrantes (Digite CERO si no tiene). \",IF(M72>$B72,\"* La variable Migrantes no puede no puede ser mayor al Total. \",\"\"))","v":""},null,null,null,null,{"$f":"IF(AND($B72<>0,L72=\"\"),1,IF(L72>$B72,1,0))","v":0},{"$f":"IF(AND($B72<>0,M72=\"\"),1,IF(M72>$B72,1,0))","v":0}]
["Gestantes EGB (+) cuyo parto fue atendido en el centro",0,null,null,null,null,null,null,null,null,null,null,null,"",null,null,null,null,null,null,null,null,null,null,null,null,null,null,null,null,null,null,null,null,null,null,null,null,null,null,null,null,null,null,null,null,null,null,null,null,null,null,null,null,null,null,null,null,null,null,null,null,null,null,null,null,null,null,null,null,null,null,null,null,null,null,null,null,"","",null,null,null,null,{"$f":"IF(AND($B73<>0,L73=\"\"),1,IF(L73>$B73,1,0))","v":0},0]
["Total de mujeres atendidas por parto en el centro",{"$f":"SUM(C74:K74)","v":0},null,null,null,null,null,null,null,null,null,null,null,"",null,null,null,null,null,null,null,null,null,null,null,null,null,null,null,null,null,null,null,null,null,null,null,null,null,null,null,null,null,null,null,null,null,null,null,null,null,null,null,null,null,null,null,null,null,null,null,null,null,null,null,null,null,null,null,null,null,null,null,null,null,null,null,null,"","",null,null,null,null,0,0]
[]
["SECCION I: GESTANTES EVALUADAS PARA HEPATITIS B"]
[null,"Total","GRUPO DE EDAD (En años)",null,null,null,null,null,null,null,null,"Pueblos Originarios","Migrantes"]
[null,null,"10 a 14 años","15 a 19 años","20 a 24 años","25 a 29 años","30 a 34 años","35 a 39 años","40 a 44 años","45 a 49 años","50 a 54 años"]
["GESTANTES EVALUADAS PARA HEPATITIS B EN EL EMBARAZO"]
["Gestantes con solicitud de estudio serológico para Hepatitis B en el embarazo",{"$f":"SUM(C80:K80)","v":0},null,null,null,null,null,null,null,null,null,null,null,{"$f":"CONCATENATE($CA80,$CB80)","v":""},null,null,null,null,null,null,null,null,null,null,null,null,null,null,null,null,null,null,null,null,null,null,null,null,null,null,null,null,null,null,null,null,null,null,null,null,null,null,null,null,null,null,null,null,null,null,null,null,null,null,null,null,null,null,null,null,null,null,null,null,null,null,null,null,{"$f":"IF(AND($B80<>0,L80=\"\"),\"* No olvide digitar la variable Pueblos Originarios (Digite CERO si no tiene). \",IF(L80>$B80,\"* La variable Pueblos Originarios no puede no puede ser mayor al Total. \",\"\"))","v":""},{"$f":"IF(AND($B80<>0,M80=\"\"),\"* No olvide digitar la variable Migrantes (Digite CERO si no tiene). \",IF(M80>$B80,\"* La variable Migrantes no puede no puede ser mayor al Total. \",\"\"))","v":""},null,null,null,null,{"$f":"IF(AND($B80<>0,L80=\"\"),1,IF(L80>$B80,1,0))","v":0},0]
["Gestantes con estudio serológico positivo confirmado para Hepatitis B en el embarazo",{"$f":"SUM(C81:K81)","v":0},null,null,null,null,null,null,null,null,null,null,null,"",null,null,null,null,null,null,null,null,null,null,null,null,null,null,null,null,null,null,null,null,null,null,null,null,null,null,null,null,null,null,null,null,null,null,null,null,null,null,null,null,null,null,null,null,null,null,null,null,null,null,null,null,null,null,null,null,null,null,null,null,null,null,null,null,"","",null,null,null,null,0,0]
["Gestantes con Hepatitis B positivo con antecedentes de atención con especialista (Gastroenterólogo, hepatólogo u otro) ",{"$f":"SUM(C82:K82)","v":0},null,null,null,null,null,null,null,null,null,null,null,"",null,null,null,null,null,null,null,null,null,null,null,null,null,null,null,null,null,null,null,null,null,null,null,null,null,null,null,null,null,null,null,null,null,null,null,null,null,null,null,null,null,null,null,null,null,null,null,null,null,null,null,null,null,null,null,null,null,null,null,null,null,null,null,null,"","",null,null,null,null,0,0]
["GESTANTES EVALUADAS PARA HEPATITIS B EN PARTOS"]
["Gestantes con solicitud de estudio serológico para Hepatitis B ",{"$f":"SUM(C84:K84)","v":0},null,null,null,null,null,null,null,null,null,null,null,"",null,null,null,null,null,null,null,null,null,null,null,null,null,null,null,null,null,null,null,null,null,null,null,null,null,null,null,null,null,null,null,null,null,null,null,null,null,null,null,null,null,null,null,null,null,null,null,null,null,null,null,null,null,null,null,null,null,null,null,null,null,null,null,null,{"$f":"IF(AND($B84<>0,L84=\"\"),\"* No olvide digitar la variable Pueblos Originarios (Digite CERO si no tiene). \",IF(L84>$B84,\"* La variable Pueblos Originarios no puede no puede ser mayor al Total. \",\"\"))","v":""},{"$f":"IF(AND($B84<>0,M84=\"\"),\"* No olvide digitar la variable Migrantes (Digite CERO si no tiene). \",IF(M84>$B84,\"* La variable Migrantes no puede no puede ser mayor al Total. \",\"\"))","v":""},null,null,null,null,0,0]
["Gestantes con estudio serológico positivo confirmado para Hepatitis B ",0,null,null,null,null,null,null,null,null,null,null,null,"",null,null,null,null,null,null,null,null,null,null,null,null,null,null,null,null,null,null,null,null,null,null,null,null,null,null,null,null,null,null,null,null,null,null,null,null,null,null,null,null,null,null,null,null,null,null,null,null,null,null,null,null,null,null,null,null,null,null,null,null,null,null,null,null,"","",null,null,null,null,0,0]
["Gestantes con Hepatitis B positivo derivada con especialista (Gastroenterólogo, hepatólogo u otro) ",0,null,null,null,null,null,null,null,null,null,null,null,"",null,null,null,null,null,null,null,null,null,null,null,null,null,null,null,null,null,null,null,null,null,null,null,null,null,null,null,null,null,null,null,null,null,null,null,null,null,null,null,null,null,null,null,null,null,null,null,null,null,null,null,null,null,null,null,null,null,null,null,null,null,null,null,null,"","",null,null,null,null,0,0]
[]
["SECCION J: PROFILAXIS DE TRANSMISIÓN VERTICAL APLICADA AL RECIEN NACIDO, HIJO DE MADRE HEPATITIS B POSITIVA"]
[null,"Total","Pueblos Originarios\n(Pertenencia de la madre)","Migrantes\n(Condición de la madre)"]
["Recién nacidos hijos de madre Hepatitis B positiva confirmadas, nacidos en el periodo",null,null,null,{"$f":"CONCATENATE($CA90,$CB90)","v":""},null,null,null,null,null,null,null,null,null,null,null,null,null,null,null,null,null,null,null,null,null,null,null,null,null,null,null,null,null,null,null,null,null,null,null,null,null,null,null,null,null,null,null,null,null,null,null,null,null,null,null,null,null,null,null,null,null,null,null,null,null,null,null,null,null,null,null,null,null,null,null,null,null,{"$f":"IF(AND($B90<>0,C90=\"\"),\"* No olvide digitar la variable Pueblos Originarios (Digite CERO si no tiene). \",IF(C90>$B90,\"* La variable Pueblos Originarios no puede no puede ser mayor al Total. \",\"\"))","v":""},{"$f":"IF(AND($B90<>0,D90=\"\"),\"* No olvide digitar la variable Migrantes (Digite CERO si no tiene). \",IF(D90>$B90,\"* La variable Migrantes no puede no puede ser mayor al Total. \",\"\"))","v":""},null,null,null,null,{"$f":"IF(AND($B90<>0,C90=\"\"),1,IF(C90>$B90,1,0))","v":0},0]
["Recién nacidos hijos de madre Hepatitis B positiva que recibieron profilaxis completa, según la normativa vigente",null,null,null,"",null,null,null,null,null,null,null,null,null,null,null,null,null,null,null,null,null,null,null,null,null,null,null,null,null,null,null,null,null,null,null,null,null,null,null,null,null,null,null,null,null,null,null,null,null,null,null,null,null,null,null,null,null,null,null,null,null,null,null,null,null,null,null,null,null,null,null,null,null,null,null,null,null,{"$f":"IF(AND($B91<>0,C91=\"\"),\"* No olvide digitar la variable Pueblos Originarios (Digite CERO si no tiene). \",IF(C91>$B91,\"* La variable Pueblos Originarios no puede no puede ser mayor al Total. \",\"\"))","v":""},{"$f":"IF(AND($B91<>0,D91=\"\"),\"* No olvide digitar la variable Migrantes (Digite CERO si no tiene). \",IF(D91>$B91,\"* La variable Migrantes no puede no puede ser mayor al Total. \",\"\"))","v":""},null,null,null,null,0,{"$f":"IF(AND($B91<>0,D91=\"\"),1,IF(D91>$B91,1,0))","v":0}]
[]
["SECCION K: SEGUIMIENTO DE NIÑOS Y NIÑAS AL AÑO DE VIDA"]
[null,"Total","Pueblos Originarios\n(Pertenencia de la madre)","Migrantes\n(Condición de la madre)"]
["Niños/as hijos de madre Hepatitis B positiva confirmadas, evaluados al año de vida",null,null,null,{"$f":"CONCATENATE($CA95,$CB95)","v":""},null,null,null,null,null,null,null,null,null,null,null,null,null,null,null,null,null,null,null,null,null,null,null,null,null,null,null,null,null,null,null,null,null,null,null,null,null,null,null,null,null,null,null,null,null,null,null,null,null,null,null,null,null,null,null,null,null,null,null,null,null,null,null,null,null,null,null,null,null,null,null,null,null,{"$f":"IF(AND($B95<>0,C95=\"\"),\"* No olvide digitar la variable Pueblos Originarios (Digite CERO si no tiene). \",IF(C95>$B95,\"* La variable Pueblos Originarios no puede no puede ser mayor al Total. \",\"\"))","v":""},{"$f":"IF(AND($B95<>0,D95=\"\"),\"* No olvide digitar la variable Migrantes (Digite CERO si no tiene). \",IF(D95>$B95,\"* La variable Migrantes no puede no puede ser mayor al Total. \",\"\"))","v":""},null,null,null,null,{"$f":"IF(AND($B95<>0,C95=\"\"),1,IF(C95>$B95,1,0))","v":0},0]
["Niños/as hijos de madre Hepatitis B positiva, evaluados al año de vida, confirmado positivo de transmisión vertical para Hepatitis B",null,null,null,"",null,null,null,null,null,null,null,null,null,null,null,null,null,null,null,null,null,null,null,null,null,null,null,null,null,null,null,null,null,null,null,null,null,null,null,null,null,null,null,null,null,null,null,null,null,null,null,null,null,null,null,null,null,null,null,null,null,null,null,null,null,null,null,null,null,null,null,null,null,null,null,null,null,{"$f":"IF(AND($B96<>0,C96=\"\"),\"* No olvide digitar la variable Pueblos Originarios (Digite CERO si no tiene). \",IF(C96>$B96,\"* La variable Pueblos Originarios no puede no puede ser mayor al Total. \",\"\"))","v":""},{"$f":"IF(AND($B96<>0,D96=\"\"),\"* No olvide digitar la variable Migrantes (Digite CERO si no tiene). \",IF(D96>$B96,\"* La variable Migrantes no puede no puede ser mayor al Total. \",\"\"))","v":""},null,null,null,null,0,0]
[]
[]
[]
[]
[{"$f":"SUM(C12:M16,B20:B21,C26:K31,B35:B36,C41:K48,B52:B55,B59:B62,C67:K74,C80:K86,B90:B91,B95:B96)","v":0},{"$f":"SUM(CG12:CH96)","v":0}]

{"sheet":"CONTROL","index":8,"n_rows":15,"n_cols":7,"rows_kept":15,"cut":false,"hidden":false,"merged":[[11,6,11,7],[8,6,8,7],[10,6,10,7],[0,2,0,5],[1,2,1,5],[2,2,2,5],[4,6,4,7],[6,6,6,7],[7,6,7,7],[9,6,9,7]]}
[null,null,"Número de Errores según:"]
[null,null,"A) Entre Total y Desglose según SEXO"]
[null,null,"B) Falta de Información"]
[]
[null,null,null,"REMSAS","Nº ERRORES","REMSAS SIN DATOS","Causal (Indicar)"]
[null,null,null,"HOJA NOMBRE",{"$f":"NOMBRE!T6","v":4}]
[null,null,null,"REMASEP 01",{"$f":"+'REMASEP 01'!B303","v":0},{"$f":"+IF('REMASEP 01'!A303>0,\"OK\",\"SIN DATOS\")","v":"SIN DATOS"}]
[null,null,null,"URGENCIAS",{"$f":"+URGENCIAS!B150","v":0},{"$f":"+IF(URGENCIAS!A150>0,\"OK\",\"SIN DATOS\")","v":"SIN DATOS"}]
[null,null,null,"REMASEP B1",{"$f":"+'REMASEP B1'!B134","v":0},{"$f":"+IF('REMASEP B1'!A134>0,\"OK\",\"SIN DATOS\")","v":"SIN DATOS"}]
[null,null,null,"B2 ANEXO",{"$f":"+'B2 ANEXO'!B2724","v":0},{"$f":"+IF('B2 ANEXO'!A2724>0,\"OK\",\"SIN DATOS\")","v":"SIN DATOS"}]
[null,null,null,"REMASEP OD",{"$f":"+REMASEP_OD!B130","v":0},{"$f":"+IF(REMASEP_OD!A130>0,\"OK\",\"SIN DATOS\")","v":"SIN DATOS"}]
[null,null,null,"EXÁM Y PESQ ENF. TRANSMISIBLES",{"$f":"+EyP_ETS!B330","v":0},{"$f":"+IF(EyP_ETS!A330>0,\"OK\",\"SIN DATOS\")","v":"SIN DATOS"}]
[null,null,null,"TV MI",{"$f":"+TV_MI!B101","v":0},{"$f":"+IF(TV_MI!A101>0,\"OK\",\"SIN DATOS\")","v":"SIN DATOS"}]
[]
[null,null,null,"TOTAL ERRORES",{"$f":"E6+E7+E8+E9+E10+E11+E12+E13","v":4}]

{"sheet":"MACROS","index":9,"n_rows":13,"n_cols":2,"rows_kept":13,"cut":false,"hidden":false,"merged":[[0,0,0,13],[9,1,10,7]]}
["Hoja de Macros y Utilidades"]
[]
[]
[null,"DESPROTEGER HOJAS"]
[]
[null,"PROTEGER HOJAS"]
[]
[null,"CREA UNA COPIA  DEL ARCHIVO  (TRANFORMA HOJAS A VALORES)\nA ESTE NUEVO ARCHIVO DEBERÁ ASIGNARLE UN NOMBRE"]
[]
[null,"ANTES DE EJECUTAR SUS MACROS REVISE LA HOJA CONTROL, EXISTEN ERRORES"]
[]
[]
[null,"Contraseña para copia del archivo: DEIS"]